Workbook

Sheet Rekapitulácia stavby
A1: Export Komplet | BA1: 2.0 | BT1: False | BU1: False | BV1: {60bde15e-6119-48bf-938e-67fc16025546}
AR2: >> skryté stĺpce << | BS2: 0,001 | BT2: 20
BS3: 0,001 | BT3: 20
D4: REKAPITULÁCIA STAVBY - VÝKAZ VÝMER | AS4: v --- nižšie sa nachádzajú doplnkové a pomocné údaje k zostavám --- v | BS4: 0,001
D5: Kód: | K5: 202009121 | BS5: 0,001
D6: Stavba: | K6: IBV KRAKOVANY - STARÉ KONOPISKO - 1.ETAPA | BS6: 0,001
D7: JKSO: | AK7: KS: | BS7: 0,001
D8: Miesto: | AK8: Dátum: | AN8: 12. 9. 2020 | BS8: 0,001
BS9: 0,001
D10: Objednávateľ: | AK10: IČO: | BS10: 0,001
E11: Obec Krakovany, Námestie Sv. Mikuláša 406/4 | AK11: IČ DPH: | BS11: 0,001
BS12: 0,001
D13: Zhotoviteľ: | AK13: IČO: | BS13: 0,001
AK14: IČ DPH: | BS14: 0,001
BS15: False
D16: Projektant: | AK16: IČO: | BS16: False
AK17: IČ DPH: | BS17: True
BS18: 0,01
D19: Spracovateľ: | AK19: IČO: | BS19: 0,01
AK20: IČ DPH: | BS20: True
D22: Poznámka:
D26: Cena bez DPH
L28: Sadzba dane | W28: Základ dane
D29: DPH | F29: základná | L29: 0.2
F30: znížená | L30: 0.2 | W30: 0
F31: zákl. prenesená | L31: 0.2 | W31: =ROUND(BB94, 2) -> #REF!
F32: zníž. prenesená | L32: 0.2 | W32: =ROUND(BC94, 2) -> #REF!
F33: nulová | L33: 0 | W33: =ROUND(BD94, 2) -> #REF!
D35: Cena s DPH | T35: v | X35: EUR
D49: Projektant | AH49: Spracovateľ
D60: Dátum a podpis: | V60: Pečiatka | AH60: Dátum a podpis: | AM60: Pečiatka
D64: Objednávateľ | AH64: Zhotoviteľ
D75: Dátum a podpis: | V75: Pečiatka | AH75: Dátum a podpis: | AM75: Pečiatka
C82: REKAPITULÁCIA OBJEKTOV STAVBY - VÝKAZ VÝMER
C84: Kód: | L84: =K5 -> 202009121
C85: Stavba: | L85: =K6 -> IBV KRAKOVANY - STARÉ KONOPISKO - 1.ETAPA
C87: Miesto: | L87: =IF(K8="","",K8) | AI87: Dátum: | AM87: =IF(AN8= "","",AN8) -> 12. 9. 2020
C89: Objednávateľ: | L89: =IF(E11= "","",E11) -> Obec Krakovany, Námestie Sv. Mikuláša 406/4 | AI89: Projektant: | AM89: =IF(E17="","",E17) | AS89: Informatívne údaje z listov zákaziek
C90: Zhotoviteľ: | L90: =IF(E14="","",E14) | AI90: Spracovateľ: | AM90: =IF(E20="","",E20)
C92: Kód | I92: Popis | AG92: Cena bez DPH [EUR] | AN92: Cena s DPH [EUR] | AQ92: Typ | AS92: z toho Ostat._x000D_ náklady [EUR] | AT92: DPH [EUR] | AU92: Normohodiny [h] | AV92: DPH základná [EUR] | AW92: DPH znížená [EUR] | AX92: DPH základná prenesená_x000D_ [EUR] | AY92: DPH znížená prenesená_x000D_ [EUR] | AZ92: Základňa_x000D_ DPH základná | BA92: Základňa_x000D_ DPH znížená | BB92: Základňa_x000D_ DPH zákl. prenesená | BC92: Základňa_x000D_ DPH zníž. prenesená | BD92: Základňa_x000D_ DPH nulová
C94: Náklady z rozpočtov | AS94: =ROUND(AS95+SUM(AS96:AS98)+AS101+AS102+AS105,2) -> 0 | AT94: =ROUND(SUM(AV94:AW94),2) -> #REF! | AU94: =ROUND(AU95+SUM(AU96:AU98)+AU101+AU102+AU105,5) -> #REF! | AV94: =ROUND(AZ94*L29,2) -> #REF! | AW94: =ROUND(BA94*L30,2) -> #REF! | AX94: =ROUND(BB94*L29,2) -> #REF! | AY94: =ROUND(BC94*L30,2) -> #REF! | AZ94: =ROUND(AZ95+SUM(AZ96:AZ98)+AZ101+AZ102+AZ105,2) -> #REF! | BA94: =ROUND(BA95+SUM(BA96:BA98)+BA101+BA102+BA105,2) -> #REF! | BB94: =ROUND(BB95+SUM(BB96:BB98)+BB101+BB102+BB105,2) -> #REF! | BC94: =ROUND(BC95+SUM(BC96:BC98)+BC101+BC102+BC105,2) -> #REF! | BD94: =ROUND(BD95+SUM(BD96:BD98)+BD101+BD102+BD105,2) -> #REF! | BE94: =AG94*1.2 -> 0 | BS94: D | BT94: 0 | BU94: ###NOIMPORT### | BV94: IMPORT | BW94: {60bde15e-6119-48bf-938e-67fc16025546} | BX94: {00000000-0000-0000-0000-000000000000}
A95: / | D95: 01 | J95: SO 01 - Vjazd | AG95: nie je predmetom súťaže | AQ95: STA | AS95: 0 | AT95: =ROUND(SUM(AV95:AW95),2) -> #REF! | AU95: =#REF! -> #REF! | AV95: =#REF! -> #REF! | AW95: =#REF! -> #REF! | AX95: =#REF! -> #REF! | AY95: =#REF! -> #REF! | AZ95: =#REF! -> #REF! | BA95: =#REF! -> #REF! | BB95: =#REF! -> #REF! | ... BD95: =#REF! -> #REF! | BT95: 1 | BV95: IMPORT | BW95: {41423dcb-af1e-4c24-be8a-e89e64110a0b} | BX95: {60bde15e-6119-48bf-938e-67fc16025546} | CM95: 0
A96: / | D96: 02 | J96: SO 02 - Cesty a spevnené plochy | AG96: nie je predmetom súťaže | AQ96: STA | AS96: 0 | AT96: =ROUND(SUM(AV96:AW96),2) -> #REF! | AU96: =#REF! -> #REF! | AV96: =#REF! -> #REF! | AW96: =#REF! -> #REF! | AX96: =#REF! -> #REF! | AY96: =#REF! -> #REF! | AZ96: =#REF! -> #REF! | BA96: =#REF! -> #REF! | BB96: =#REF! -> #REF! | ... BD96: =#REF! -> #REF! | BT96: 1 | BV96: IMPORT | BW96: {5527b089-2044-4cb5-9ba8-278bbed7f122} | BX96: {60bde15e-6119-48bf-938e-67fc16025546} | CM96: 0
A97: / | D97: 03 | J97: SO 03 - Vodovod | AQ97: STA | AS97: 0 | AT97: =ROUND(SUM(AV97:AW97),2) -> 0 | AU97: ='03 - SO 03 - Vodovod'!P124 -> 0 | AV97: ='03 - SO 03 - Vodovod'!J33 -> 0 | AW97: ='03 - SO 03 - Vodovod'!J34 -> 0 | AX97: ='03 - SO 03 - Vodovod'!J35 -> 0 | AY97: ='03 - SO 03 - Vodovod'!J36 -> 0 | AZ97: ='03 - SO 03 - Vodovod'!F33 -> 0 | BA97: ='03 - SO 03 - Vodovod'!F34 -> 0 | BB97: ='03 - SO 03 - Vodovod'!F35 -> 0 | BC97: ='03 - SO 03 - Vodovod'!F36 -> 0 | BD97: ='03 - SO 03 - Vodovod'!F37 -> 0 | BT97: 1 | BV97: IMPORT | BW97: {3fc75f3c-083b-422d-8142-411374ec17e2} | BX97: {60bde15e-6119-48bf-938e-67fc16025546} | CM97: 0
D98: 04 | J98: SO 04 - Kanalizácia | AQ98: STA | AS98: =ROUND(SUM(AS99:AS100),2) -> 0 | AT98: =ROUND(SUM(AV98:AW98),2) -> #REF! | AU98: =ROUND(SUM(AU99:AU100),5) -> #REF! | AV98: =ROUND(AZ98*L29,2) -> #REF! | AW98: =ROUND(BA98*L30,2) -> #REF! | AX98: =ROUND(BB98*L29,2) -> #REF! | AY98: =ROUND(BC98*L30,2) -> #REF! | AZ98: =ROUND(SUM(AZ99:AZ100),2) -> #REF! | BA98: =ROUND(SUM(BA99:BA100),2) -> #REF! | BB98: =ROUND(SUM(BB99:BB100),2) -> #REF! | BC98: =ROUND(SUM(BC99:BC100),2) -> #REF! | BD98: =ROUND(SUM(BD99:BD100),2) -> #REF! | BS98: D | BT98: 1 | BU98: ###NOIMPORT### | BV98: IMPORT | BW98: {a3f1b297-5339-4817-9301-22aabd9bd685} | BX98: {60bde15e-6119-48bf-938e-67fc16025546} | CM98: 0
A99: / | E99: 04.1 | K99: SO 04.1 - Kanalizácia dážďová | AG99: nie je predmetom súťaže | AQ99: Časť | AS99: 0 | AT99: =ROUND(SUM(AV99:AW99),2) -> #REF! | AU99: =#REF! -> #REF! | AV99: =#REF! -> #REF! | AW99: =#REF! -> #REF! | AX99: =#REF! -> #REF! | AY99: =#REF! -> #REF! | AZ99: =#REF! -> #REF! | BA99: =#REF! -> #REF! | BB99: =#REF! -> #REF! | ... BD99: =#REF! -> #REF! | BT99: 2 | BV99: IMPORT | BW99: {92b15438-bee4-4b79-a78a-35d44c73f3b0} | BX99: {a3f1b297-5339-4817-9301-22aabd9bd685}
A100: / | E100: 04.2 | K100: SO 04.2 - Kanalizácia splašková - prípojky | AQ100: Časť | AS100: 0 | AT100: =ROUND(SUM(AV100:AW100),2) -> 0 | AU100: ='04.2 - SO 04.2 - Kanalizá...'!P124 -> 0 | AV100: ='04.2 - SO 04.2 - Kanalizá...'!J35 -> 0 | AW100: ='04.2 - SO 04.2 - Kanalizá...'!J36 -> 0 | AX100: ='04.2 - SO 04.2 - Kanalizá...'!J37 -> 0 | AY100: ='04.2 - SO 04.2 - Kanalizá...'!J38 -> 0 | AZ100: ='04.2 - SO 04.2 - Kanalizá...'!F35 -> 0 | BA100: ='04.2 - SO 04.2 - Kanalizá...'!F36 -> 0 | BB100: ='04.2 - SO 04.2 - Kanalizá...'!F37 -> 0 | BC100: ='04.2 - SO 04.2 - Kanalizá...'!F38 -> 0 | BD100: ='04.2 - SO 04.2 - Kanalizá...'!F39 -> 0 | BT100: 2 | BV100: IMPORT | BW100: {2027fe68-912e-459f-b76a-42993220ce9d} | BX100: {a3f1b297-5339-4817-9301-22aabd9bd685}
A101: / | D101: 05 | J101: SO 05 - Plynovod | AQ101: STA | AS101: 0 | AT101: =ROUND(SUM(AV101:AW101),2) -> 0 | AU101: ='05 - SO 05 - Plynovod'!P123 -> 0 | AV101: ='05 - SO 05 - Plynovod'!J33 -> 0 | AW101: ='05 - SO 05 - Plynovod'!J34 -> 0 | AX101: ='05 - SO 05 - Plynovod'!J35 -> 0 | AY101: ='05 - SO 05 - Plynovod'!J36 -> 0 | AZ101: ='05 - SO 05 - Plynovod'!F33 -> 0 | BA101: ='05 - SO 05 - Plynovod'!F34 -> 0 | BB101: ='05 - SO 05 - Plynovod'!F35 -> 0 | BC101: ='05 - SO 05 - Plynovod'!F36 -> 0 | BD101: ='05 - SO 05 - Plynovod'!F37 -> 0 | BT101: 1 | BV101: IMPORT | BW101: {f65ccd27-9e2e-4946-b5d4-ad2093c9aa29} | BX101: {60bde15e-6119-48bf-938e-67fc16025546} | CM101: 0
D102: 06 | J102: SO 06 - NN rozvody | AQ102: STA | AS102: =ROUND(SUM(AS103:AS104),2) -> 0 | AT102: =ROUND(SUM(AV102:AW102),2) -> #REF! | AU102: =ROUND(SUM(AU103:AU104),5) -> #REF! | AV102: =ROUND(AZ102*L29,2) -> #REF! | AW102: =ROUND(BA102*L30,2) -> #REF! | AX102: =ROUND(BB102*L29,2) -> #REF! | AY102: =ROUND(BC102*L30,2) -> #REF! | AZ102: =ROUND(SUM(AZ103:AZ104),2) -> #REF! | BA102: =ROUND(SUM(BA103:BA104),2) -> #REF! | BB102: =ROUND(SUM(BB103:BB104),2) -> #REF! | BC102: =ROUND(SUM(BC103:BC104),2) -> #REF! | BD102: =ROUND(SUM(BD103:BD104),2) -> #REF! | BS102: D | BT102: 1 | BU102: ###NOIMPORT### | BV102: IMPORT | BW102: {ea656d45-9ac8-4d27-89d0-0a0a904dbf3d} | BX102: {60bde15e-6119-48bf-938e-67fc16025546} | CM102: 0
A103: / | E103: 06 | K103: SO 06 - NN rozvody | AG103: nie je predmetom súťaže | AQ103: Časť | AS103: 0 | AT103: =ROUND(SUM(AV103:AW103),2) -> #REF! | AU103: =#REF! -> #REF! | AV103: =#REF! -> #REF! | AW103: =#REF! -> #REF! | AX103: =#REF! -> #REF! | AY103: =#REF! -> #REF! | AZ103: =#REF! -> #REF! | BA103: =#REF! -> #REF! | BB103: =#REF! -> #REF! | ... BD103: =#REF! -> #REF! | BT103: 2 | BV103: IMPORT | BW103: {4df31607-d358-438c-92cc-87c35f81acb5} | BX103: {ea656d45-9ac8-4d27-89d0-0a0a904dbf3d} | CL103: 828 73
A104: / | E104: 06.1 | K104: SO 06.1 - Odberné elektrické zariadenia | AQ104: Časť | AS104: 0 | AT104: =ROUND(SUM(AV104:AW104),2) -> 0 | AU104: ='06.1 - SO 06.1 - Odberné ...'!P124 -> 344.37846 | AV104: ='06.1 - SO 06.1 - Odberné ...'!J35 -> 0 | AW104: ='06.1 - SO 06.1 - Odberné ...'!J36 -> 0 | AX104: ='06.1 - SO 06.1 - Odberné ...'!J37 -> 0 | AY104: ='06.1 - SO 06.1 - Odberné ...'!J38 -> 0 | AZ104: ='06.1 - SO 06.1 - Odberné ...'!F35 -> 0 | BA104: ='06.1 - SO 06.1 - Odberné ...'!F36 -> 0 | BB104: ='06.1 - SO 06.1 - Odberné ...'!F37 -> 0 | BC104: ='06.1 - SO 06.1 - Odberné ...'!F38 -> 0 | BD104: ='06.1 - SO 06.1 - Odberné ...'!F39 -> 0 | BT104: 2 | BV104: IMPORT | BW104: {a6cd625f-8ce9-40db-ba6e-4d463a9b17ae} | BX104: {ea656d45-9ac8-4d27-89d0-0a0a904dbf3d} | CL104: 828 73
A105: / | D105: 07 | J105: SO 07 - Verejné osvetlenie | AQ105: STA | AS105: 0 | AT105: =ROUND(SUM(AV105:AW105),2) -> 0 | AU105: ='07 - SO 07 - Verejné osve...'!P120 -> 575.56357 | AV105: ='07 - SO 07 - Verejné osve...'!J33 -> 0 | AW105: ='07 - SO 07 - Verejné osve...'!J34 -> 0 | AX105: ='07 - SO 07 - Verejné osve...'!J35 -> 0 | AY105: ='07 - SO 07 - Verejné osve...'!J36 -> 0 | AZ105: ='07 - SO 07 - Verejné osve...'!F33 -> 0 | BA105: ='07 - SO 07 - Verejné osve...'!F34 -> 0 | BB105: ='07 - SO 07 - Verejné osve...'!F35 -> 0 | BC105: ='07 - SO 07 - Verejné osve...'!F36 -> 0 | BD105: ='07 - SO 07 - Verejné osve...'!F37 -> 0 | BT105: 1 | BV105: IMPORT | BW105: {ea2e16d5-067e-445d-86af-8cc951ffa165} | BX105: {60bde15e-6119-48bf-938e-67fc16025546} | CL105: 828 75 | CM105: 0

Sheet 03 - SO 03 - Vodovod
L2: >> skryté stĺpce << | AT2: {3fc75f3c-083b-422d-8142-411374ec17e2}
AT3: 0
D4: KRYCÍ LIST VÝKAZU VÝMER | M4: v --- nižšie sa nachádzajú doplnkové a pomocné údaje k zostavám --- v | AT4: False
D6: Stavba:
E7: ='Rekapitulácia stavby'!K6 -> IBV KRAKOVANY - STARÉ KONOPISKO - 1.ETAPA
D8: Objekt:
E9: 03 - SO 03 - Vodovod
D11: JKSO: | I11: KS:
D12: Miesto: | I12: Dátum: | J12: ='Rekapitulácia stavby'!AN8 -> 12. 9. 2020
D14: Objednávateľ: | I14: IČO:
E15: Obec Krakovany, Námestie Sv. Mikuláša 406/4 | I15: IČ DPH:
D17: Zhotoviteľ: | I17: IČO: | J17: ='Rekapitulácia stavby'!AN13
E18: ='Rekapitulácia stavby'!E14 | I18: IČ DPH: | J18: ='Rekapitulácia stavby'!AN14
D20: Projektant: | I20: IČO: | J20: =IF('Rekapitulácia stavby'!AN16="","",'Rekapitulácia stavby'!AN16)
E21: =IF('Rekapitulácia stavby'!E17="","",'Rekapitulácia stavby'!E17) | I21: IČ DPH: | J21: =IF('Rekapitulácia stavby'!AN17="","",'Rekapitulácia stavby'!AN17)
D23: Spracovateľ: | I23: IČO: | J23: =IF('Rekapitulácia stavby'!AN19="","",'Rekapitulácia stavby'!AN19)
E24: =IF('Rekapitulácia stavby'!E20="","",'Rekapitulácia stavby'!E20) | I24: IČ DPH: | J24: =IF('Rekapitulácia stavby'!AN20="","",'Rekapitulácia stavby'!AN20)
D26: Poznámka:
D30: Cena bez DPH | J30: =ROUND(J124, 2) -> 0
F32: Základ dane | I32: Sadzba dane | J32: Výška dane
D33: DPH | E33: základná | F33: =ROUND((SUM(BE124:BE180)), 2) -> 0 | I33: 0.2 | J33: =ROUND(((SUM(BE124:BE180))*I33), 2) -> 0
E34: znížená | F34: =ROUND((SUM(BF124:BF180)), 2) -> 0 | I34: 0.2 | J34: =ROUND(((SUM(BF124:BF180))*I34), 2) -> 0
E35: zákl. prenesená | F35: =ROUND((SUM(BG124:BG180)), 2) -> 0 | I35: 0.2 | J35: =0 -> 0
E36: zníž. prenesená | F36: =ROUND((SUM(BH124:BH180)), 2) -> 0 | I36: 0.2 | J36: =0 -> 0
E37: nulová | F37: =ROUND((SUM(BI124:BI180)), 2) -> 0 | I37: 0 | J37: =0 -> 0
D39: Cena s DPH | G39: v | H39: EUR | J39: =SUM(J30:J37) -> 0
D50: Projektant | G50: Spracovateľ
D61: Dátum a podpis: | F61: Pečiatka | G61: Dátum a podpis: | J61: Pečiatka
D65: Objednávateľ | G65: Zhotoviteľ
D76: Dátum a podpis: | F76: Pečiatka | G76: Dátum a podpis: | J76: Pečiatka
C82: REKAPITULÁCIA VÝKAZU VÝMER
C84: Stavba:
E85: =E7 -> IBV KRAKOVANY - STARÉ KONOPISKO - 1.ETAPA
C86: Objekt:
E87: =E9 -> 03 - SO 03 - Vodovod
C89: Miesto: | F89: =F12 | I89: Dátum: | J89: =IF(J12="","",J12) -> 12. 9. 2020
C91: Objednávateľ: | F91: =E15 -> Obec Krakovany, Námestie Sv. Mikuláša 406/4 | I91: Projektant: | J91: =E21
C92: Zhotoviteľ: | F92: =IF(E18="","",E18) | I92: Spracovateľ: | J92: =E24
C94: Kód dielu - Popis | J94: Cena celkom [EUR]
C96: Náklady z rozpočtu | J96: =J124 -> 0 | AU96: -1
D97: HSV - Práce a dodávky HSV | J97: =J125 -> 0
D98: 1 - Zemné práce | J98: =J126 -> 0
D99: 4 - Vodorovné konštrukcie | J99: =J138 -> 0
D100: 8 - Rúrové vedenie | J100: =J141 -> 0
D101: PSV - Práce a dodávky PSV | J101: =J174 -> 0
D102: 722 - Zdravotechnika - vnútorný vodovod | J102: =J175 -> 0
D103: M - Práce a dodávky M | J103: =J178 -> 0
D104: 23-M - Montáže potrubia | J104: =J179 -> 0
C111: VÝKAZ VÝMER
C113: Stavba:
E114: =E7 -> IBV KRAKOVANY - STARÉ KONOPISKO - 1.ETAPA
C115: Objekt:
E116: =E9 -> 03 - SO 03 - Vodovod
C118: Miesto: | F118: =F12 | I118: Dátum: | J118: =IF(J12="","",J12) -> 12. 9. 2020
C120: Objednávateľ: | F120: =E15 -> Obec Krakovany, Námestie Sv. Mikuláša 406/4 | I120: Projektant: | J120: =E21
C121: Zhotoviteľ: | F121: =IF(E18="","",E18) | I121: Spracovateľ: | J121: =E24
C123: PČ | D123: Typ | E123: Kód | F123: Popis | G123: MJ | H123: Množstvo | I123: J.cena [EUR] | J123: Cena celkom [EUR] | K123: Cenová sústava | N123: DPH | O123: J. Nh [h] | P123: Nh celkom [h] | Q123: J. hmotnosť [t] | R123: Hmotnosť celkom [t] | S123: J. suť [t] | T123: Suť Celkom [t]
C124: Náklady z rozpočtu | P124: =P125+P174+P178 -> 0 | R124: =R125+R174+R178 -> 0 | T124: =T125+T174+T178 -> 0 | V124: =V125 -> 0 | AT124: D | AU124: -1 | BK124: =BK125+BK174+BK178 -> 0
D125: D | E125: HSV | F125: Práce a dodávky HSV | P125: =P126+P138+P141 -> 0 | R125: =R126+R138+R141 -> 0 | T125: =T126+T138+T141 -> 0 | V125: =SUM(V127:V180) -> 0 | AR125: 1 | AT125: D | AU125: 0 | AY125: ROZPOCET | BK125: =BK126+BK138+BK141 -> 0
D126: D | E126: 1 | F126: Zemné práce | P126: =SUM(P127:P137) -> 0 | R126: =SUM(R127:R137) -> 0 | T126: =SUM(T127:T137) -> 0 | AR126: 1 | AT126: D | AU126: 1 | AY126: ROZPOCET | BK126: =SUM(BK127:BK137) -> 0
C127: 1 | D127: K | E127: 132101202 | F127: Výkop ryhy šírky 600-2000mm hor 1-2 od 100 do 1000 m3 | G127: m3 | H127: 573.6 | N127: znížená | O127: 0 | P127: =O127*H127 -> 0 | Q127: 0 | R127: =Q127*H127 -> 0 | S127: 0 | T127: =S127*H127 -> 0 | V127: =H127*I127 -> 0 | AR127: 4 | AT127: K | AU127: 2 | AY127: ROZPOCET | BE127: =IF(N127="základná",J127,0) -> 0 | BF127: =IF(N127="znížená",J127,0) -> 0 | BG127: =IF(N127="zákl. prenesená",J127,0) -> 0 | BH127: =IF(N127="zníž. prenesená",J127,0) -> 0 | BI127: =IF(N127="nulová",J127,0) -> 0 | BJ127: 2 | BK127: =ROUND(I127*H127,3) -> 0 | BL127: 4 | BM127: 4
C128: 2 | D128: K | E128: 132201209 | F128: Príplatok k cenám za lepivosť pri hĺbení rýh š. nad 600 do 2 000 mm zapaž. i nezapažených, s urovnaním dna v hornine 3 | G128: m3 | H128: 573.6 | N128: znížená | O128: 0 | P128: =O128*H128 -> 0 | Q128: 0 | R128: =Q128*H128 -> 0 | S128: 0 | T128: =S128*H128 -> 0 | V128: =H128*I128 -> 0 | AR128: 4 | AT128: K | AU128: 2 | AY128: ROZPOCET | BE128: =IF(N128="základná",J128,0) -> 0 | BF128: =IF(N128="znížená",J128,0) -> 0 | BG128: =IF(N128="zákl. prenesená",J128,0) -> 0 | BH128: =IF(N128="zníž. prenesená",J128,0) -> 0 | BI128: =IF(N128="nulová",J128,0) -> 0 | BJ128: 2 | BK128: =ROUND(I128*H128,3) -> 0 | BL128: 4 | BM128: 6
C129: 3 | D129: K | E129: 151101101 | F129: Paženie a rozopretie stien rýh pre podzemné vedenie, príložné do 2 m | G129: m2 | H129: 400 | N129: znížená | O129: 0 | P129: =O129*H129 -> 0 | Q129: 0 | R129: =Q129*H129 -> 0 | S129: 0 | T129: =S129*H129 -> 0 | V129: =H129*I129 -> 0 | AR129: 4 | AT129: K | AU129: 2 | AY129: ROZPOCET | BE129: =IF(N129="základná",J129,0) -> 0 | BF129: =IF(N129="znížená",J129,0) -> 0 | BG129: =IF(N129="zákl. prenesená",J129,0) -> 0 | BH129: =IF(N129="zníž. prenesená",J129,0) -> 0 | BI129: =IF(N129="nulová",J129,0) -> 0 | BJ129: 2 | BK129: =ROUND(I129*H129,3) -> 0 | BL129: 4 | BM129: 8
C130: 4 | D130: K | E130: 151101111 | F130: Odstránenie paženia rýh pre podzemné vedenie, príložné hĺbky do 2 m | G130: m2 | H130: 400 | N130: znížená | O130: 0 | P130: =O130*H130 -> 0 | Q130: 0 | R130: =Q130*H130 -> 0 | S130: 0 | T130: =S130*H130 -> 0 | V130: =H130*I130 -> 0 | AR130: 4 | AT130: K | AU130: 2 | AY130: ROZPOCET | BE130: =IF(N130="základná",J130,0) -> 0 | BF130: =IF(N130="znížená",J130,0) -> 0 | BG130: =IF(N130="zákl. prenesená",J130,0) -> 0 | BH130: =IF(N130="zníž. prenesená",J130,0) -> 0 | BI130: =IF(N130="nulová",J130,0) -> 0 | BJ130: 2 | BK130: =ROUND(I130*H130,3) -> 0 | BL130: 4 | BM130: 10
C131: 5 | D131: K | E131: 162201102 | F131: Vodorovné premiestnenie výkopku z horniny 1-4 nad 20-50m | G131: m3 | H131: 573.6 | N131: znížená | O131: 0 | P131: =O131*H131 -> 0 | Q131: 0 | R131: =Q131*H131 -> 0 | S131: 0 | T131: =S131*H131 -> 0 | V131: =H131*I131 -> 0 | AR131: 4 | AT131: K | AU131: 2 | AY131: ROZPOCET | BE131: =IF(N131="základná",J131,0) -> 0 | BF131: =IF(N131="znížená",J131,0) -> 0 | BG131: =IF(N131="zákl. prenesená",J131,0) -> 0 | BH131: =IF(N131="zníž. prenesená",J131,0) -> 0 | BI131: =IF(N131="nulová",J131,0) -> 0 | BJ131: 2 | BK131: =ROUND(I131*H131,3) -> 0 | BL131: 4 | BM131: 12
C132: 6 | D132: K | E132: 162502111 | F132: Vodorovné premiestnenie mačiny so zložením na vzdialenosť nad 2000 do 3000 m | G132: m2 | H132: 573.6 | N132: znížená | O132: 0 | P132: =O132*H132 -> 0 | Q132: 0 | R132: =Q132*H132 -> 0 | S132: 0 | T132: =S132*H132 -> 0 | V132: =H132*I132 -> 0 | AR132: 4 | AT132: K | AU132: 2 | AY132: ROZPOCET | BE132: =IF(N132="základná",J132,0) -> 0 | BF132: =IF(N132="znížená",J132,0) -> 0 | BG132: =IF(N132="zákl. prenesená",J132,0) -> 0 | BH132: =IF(N132="zníž. prenesená",J132,0) -> 0 | BI132: =IF(N132="nulová",J132,0) -> 0 | BJ132: 2 | BK132: =ROUND(I132*H132,3) -> 0 | BL132: 4 | BM132: 14
C133: 7 | D133: K | E133: 171201201 | F133: Uloženie sypaniny na skládky do 100 m3 | G133: m3 | H133: 573.6 | N133: znížená | O133: 0 | P133: =O133*H133 -> 0 | Q133: 0 | R133: =Q133*H133 -> 0 | S133: 0 | T133: =S133*H133 -> 0 | V133: =H133*I133 -> 0 | AR133: 4 | AT133: K | AU133: 2 | AY133: ROZPOCET | BE133: =IF(N133="základná",J133,0) -> 0 | BF133: =IF(N133="znížená",J133,0) -> 0 | BG133: =IF(N133="zákl. prenesená",J133,0) -> 0 | BH133: =IF(N133="zníž. prenesená",J133,0) -> 0 | BI133: =IF(N133="nulová",J133,0) -> 0 | BJ133: 2 | BK133: =ROUND(I133*H133,3) -> 0 | BL133: 4 | BM133: 16
C134: 8 | D134: K | E134: 174101001 | F134: Zásyp sypaninou so zhutnením jám, šachiet, rýh, zárezov alebo okolo objektov do 100 m3 | G134: m3 | H134: 433.2 | N134: znížená | O134: 0 | P134: =O134*H134 -> 0 | Q134: 0 | R134: =Q134*H134 -> 0 | S134: 0 | T134: =S134*H134 -> 0 | V134: =H134*I134 -> 0 | AR134: 4 | AT134: K | AU134: 2 | AY134: ROZPOCET | BE134: =IF(N134="základná",J134,0) -> 0 | BF134: =IF(N134="znížená",J134,0) -> 0 | BG134: =IF(N134="zákl. prenesená",J134,0) -> 0 | BH134: =IF(N134="zníž. prenesená",J134,0) -> 0 | BI134: =IF(N134="nulová",J134,0) -> 0 | BJ134: 2 | BK134: =ROUND(I134*H134,3) -> 0 | BL134: 4 | BM134: 18
C135: 9 | D135: K | E135: 174104111 | F135: obsyp sypaniny s uložením | G135: m3 | H135: 93.6 | N135: znížená | O135: 0 | P135: =O135*H135 -> 0 | Q135: 0 | R135: =Q135*H135 -> 0 | S135: 0 | T135: =S135*H135 -> 0 | V135: =H135*I135 -> 0 | AR135: 4 | AT135: K | AU135: 2 | AY135: ROZPOCET | BE135: =IF(N135="základná",J135,0) -> 0 | BF135: =IF(N135="znížená",J135,0) -> 0 | BG135: =IF(N135="zákl. prenesená",J135,0) -> 0 | BH135: =IF(N135="zníž. prenesená",J135,0) -> 0 | BI135: =IF(N135="nulová",J135,0) -> 0 | BJ135: 2 | BK135: =ROUND(I135*H135,3) -> 0 | BL135: 4 | BM135: 20
C136: 10 | D136: M | E136: 583310002900 | F136: Štrkopiesok frakcia 0-16 mm, STN EN 12620 + A1 | G136: t | H136: 46.8 | N136: znížená | O136: 0 | P136: =O136*H136 -> 0 | Q136: 0 | R136: =Q136*H136 -> 0 | S136: 0 | T136: =S136*H136 -> 0 | V136: =H136*I136 -> 0 | AR136: 8 | AT136: M | AU136: 2 | AY136: ROZPOCET | BE136: =IF(N136="základná",J136,0) -> 0 | BF136: =IF(N136="znížená",J136,0) -> 0 | BG136: =IF(N136="zákl. prenesená",J136,0) -> 0 | BH136: =IF(N136="zníž. prenesená",J136,0) -> 0 | BI136: =IF(N136="nulová",J136,0) -> 0 | BJ136: 2 | BK136: =ROUND(I136*H136,3) -> 0 | BL136: 4 | BM136: 22
C137: 11 | D137: M | E137: 583310003400 | F137: Štrkopiesok frakcia 0-63 mm, STN EN 13242 + A1 | G137: t | H137: 93.6 | N137: znížená | O137: 0 | P137: =O137*H137 -> 0 | Q137: 0 | R137: =Q137*H137 -> 0 | S137: 0 | T137: =S137*H137 -> 0 | V137: =H137*I137 -> 0 | AR137: 8 | AT137: M | AU137: 2 | AY137: ROZPOCET | BE137: =IF(N137="základná",J137,0) -> 0 | BF137: =IF(N137="znížená",J137,0) -> 0 | BG137: =IF(N137="zákl. prenesená",J137,0) -> 0 | BH137: =IF(N137="zníž. prenesená",J137,0) -> 0 | BI137: =IF(N137="nulová",J137,0) -> 0 | BJ137: 2 | BK137: =ROUND(I137*H137,3) -> 0 | BL137: 4 | BM137: 24
D138: D | E138: 4 | F138: Vodorovné konštrukcie | P138: =SUM(P139:P140) -> 0 | R138: =SUM(R139:R140) -> 0 | T138: =SUM(T139:T140) -> 0 | V138: =H138*I138 -> 0 | AR138: 1 | AT138: D | AU138: 1 | AY138: ROZPOCET | BK138: =SUM(BK139:BK140) -> 0
C139: 12 | D139: K | E139: 451573111 | F139: Lôžko pod potrubie, stoky a drobné objekty, v otvorenom výkope z piesku a štrkopiesku do 63 mm | G139: m3 | H139: 46.8 | N139: znížená | O139: 0 | P139: =O139*H139 -> 0 | Q139: 0 | R139: =Q139*H139 -> 0 | S139: 0 | T139: =S139*H139 -> 0 | V139: =H139*I139 -> 0 | AR139: 4 | AT139: K | AU139: 2 | AY139: ROZPOCET | BE139: =IF(N139="základná",J139,0) -> 0 | BF139: =IF(N139="znížená",J139,0) -> 0 | BG139: =IF(N139="zákl. prenesená",J139,0) -> 0 | BH139: =IF(N139="zníž. prenesená",J139,0) -> 0 | BI139: =IF(N139="nulová",J139,0) -> 0 | BJ139: 2 | BK139: =ROUND(I139*H139,3) -> 0 | BL139: 4 | BM139: 26
C140: 13 | D140: M | E140: 283230008100 | F140: Výstražná fólia PE, š. 300 mm, pre vodovod, farba biela, CAMPRI | G140: m | H140: 520 | N140: znížená | O140: 0 | P140: =O140*H140 -> 0 | Q140: 0 | R140: =Q140*H140 -> 0 | S140: 0 | T140: =S140*H140 -> 0 | V140: =H140*I140 -> 0 | AR140: 8 | AT140: M | AU140: 2 | AY140: ROZPOCET | BE140: =IF(N140="základná",J140,0) -> 0 | BF140: =IF(N140="znížená",J140,0) -> 0 | BG140: =IF(N140="zákl. prenesená",J140,0) -> 0 | BH140: =IF(N140="zníž. prenesená",J140,0) -> 0 | BI140: =IF(N140="nulová",J140,0) -> 0 | BJ140: 2 | BK140: =ROUND(I140*H140,3) -> 0 | BL140: 4 | BM140: 28
D141: D | E141: 8 | F141: Rúrové vedenie | P141: =SUM(P142:P172) -> 0 | R141: =SUM(R142:R172) -> 0 | T141: =SUM(T142:T172) -> 0 | V141: =H141*I141 -> 0 | AR141: 1 | AT141: D | AU141: 1 | AY141: ROZPOCET | BK141: =SUM(BK142:BK172) -> 0
C142: 14 | D142: K | E142: 857243121 | F142: Montáž liatinovej tvarovky odbočnej na potrubí z rúr hrdlových DN 80 | G142: ks | H142: 3 | N142: znížená | O142: 0 | P142: =O142*H142 -> 0 | Q142: 0 | R142: =Q142*H142 -> 0 | S142: 0 | T142: =S142*H142 -> 0 | V142: =H142*I142 -> 0 | AR142: 4 | AT142: K | AU142: 2 | AY142: ROZPOCET | BE142: =IF(N142="základná",J142,0) -> 0 | BF142: =IF(N142="znížená",J142,0) -> 0 | BG142: =IF(N142="zákl. prenesená",J142,0) -> 0 | BH142: =IF(N142="zníž. prenesená",J142,0) -> 0 | BI142: =IF(N142="nulová",J142,0) -> 0 | BJ142: 2 | BK142: =ROUND(I142*H142,3) -> 0 | BL142: 4 | BM142: 30
C143: 15 | D143: M | E143: 552520000800 | F143: Tvarovka MMA z tvárnej liatiny hrdlová DN 100/80 s prírubovou odbočkou a spojom Tyton, PN 40, DUKTUS | G143: ks | H143: 3.03 | N143: znížená | O143: 0 | P143: =O143*H143 -> 0 | Q143: 0 | R143: =Q143*H143 -> 0 | S143: 0 | T143: =S143*H143 -> 0 | V143: =H143*I143 -> 0 | AR143: 8 | AT143: M | AU143: 2 | AY143: ROZPOCET | BE143: =IF(N143="základná",J143,0) -> 0 | BF143: =IF(N143="znížená",J143,0) -> 0 | BG143: =IF(N143="zákl. prenesená",J143,0) -> 0 | BH143: =IF(N143="zníž. prenesená",J143,0) -> 0 | BI143: =IF(N143="nulová",J143,0) -> 0 | BJ143: 2 | BK143: =ROUND(I143*H143,3) -> 0 | BL143: 4 | BM143: 32
C144: 16 | D144: K | E144: 857244121 | F144: Montáž liatinovej tvarovky na potrubí z rúr prírubových DN 80 | G144: ks | H144: 12 | N144: znížená | O144: 0 | P144: =O144*H144 -> 0 | Q144: 0 | R144: =Q144*H144 -> 0 | S144: 0 | T144: =S144*H144 -> 0 | V144: =H144*I144 -> 0 | AR144: 4 | AT144: K | AU144: 2 | AY144: ROZPOCET | BE144: =IF(N144="základná",J144,0) -> 0 | BF144: =IF(N144="znížená",J144,0) -> 0 | BG144: =IF(N144="zákl. prenesená",J144,0) -> 0 | BH144: =IF(N144="zníž. prenesená",J144,0) -> 0 | BI144: =IF(N144="nulová",J144,0) -> 0 | BJ144: 2 | BK144: =ROUND(I144*H144,3) -> 0 | BL144: 4 | BM144: 34
C145: 17 | D145: M | E145: 552520024800 | F145: Tvarovka FF z tvárnej liatiny, prírubová DN 80, dĺ. 1000 mm, PN 16, DUKTUS | G145: ks | H145: 3 | N145: znížená | O145: 0 | P145: =O145*H145 -> 0 | Q145: 0 | R145: =Q145*H145 -> 0 | S145: 0 | T145: =S145*H145 -> 0 | V145: =H145*I145 -> 0 | AR145: 8 | AT145: M | AU145: 2 | AY145: ROZPOCET | BE145: =IF(N145="základná",J145,0) -> 0 | BF145: =IF(N145="znížená",J145,0) -> 0 | BG145: =IF(N145="zákl. prenesená",J145,0) -> 0 | BH145: =IF(N145="zníž. prenesená",J145,0) -> 0 | BI145: =IF(N145="nulová",J145,0) -> 0 | BJ145: 2 | BK145: =ROUND(I145*H145,3) -> 0 | BL145: 4 | BM145: 36
C146: 18 | D146: M | E146: 552520023900 | F146: Tvarovka FF z tvárnej liatiny, prírubová DN 80, dĺ. 300 mm, PN 16, DUKTUS | G146: ks | H146: 6 | N146: znížená | O146: 0 | P146: =O146*H146 -> 0 | Q146: 0 | R146: =Q146*H146 -> 0 | S146: 0 | T146: =S146*H146 -> 0 | V146: =H146*I146 -> 0 | AR146: 8 | AT146: M | AU146: 2 | AY146: ROZPOCET | BE146: =IF(N146="základná",J146,0) -> 0 | BF146: =IF(N146="znížená",J146,0) -> 0 | BG146: =IF(N146="zákl. prenesená",J146,0) -> 0 | BH146: =IF(N146="zníž. prenesená",J146,0) -> 0 | BI146: =IF(N146="nulová",J146,0) -> 0 | BJ146: 2 | BK146: =ROUND(I146*H146,3) -> 0 | BL146: 4 | BM146: 38
C147: 19 | D147: M | E147: 552520040000 | F147: Koleno EN 90° prírubové z tvárnej liatiny, s hrdlom a pätkou DN 80, PN 40 s pružným násuvným spojom Tyton, DUKTUS | G147: ks | H147: 3 | N147: znížená | O147: 0 | P147: =O147*H147 -> 0 | Q147: 0 | R147: =Q147*H147 -> 0 | S147: 0 | T147: =S147*H147 -> 0 | V147: =H147*I147 -> 0 | AR147: 8 | AT147: M | AU147: 2 | AY147: ROZPOCET | BE147: =IF(N147="základná",J147,0) -> 0 | BF147: =IF(N147="znížená",J147,0) -> 0 | BG147: =IF(N147="zákl. prenesená",J147,0) -> 0 | BH147: =IF(N147="zníž. prenesená",J147,0) -> 0 | BI147: =IF(N147="nulová",J147,0) -> 0 | BJ147: 2 | BK147: =ROUND(I147*H147,3) -> 0 | BL147: 4 | BM147: 40
C148: 20 | D148: K | E148: 871171112 | F148: Montáž vodovodného potrubia z dvojvsrtvového PE 100 SDR11, SDR17 zváraných elektrotvarovkami D 32x3,0 mm | G148: m | H148: 120 | N148: znížená | O148: 0 | P148: =O148*H148 -> 0 | Q148: 0 | R148: =Q148*H148 -> 0 | S148: 0 | T148: =S148*H148 -> 0 | V148: =H148*I148 -> 0 | AR148: 4 | AT148: K | AU148: 2 | AY148: ROZPOCET | BE148: =IF(N148="základná",J148,0) -> 0 | BF148: =IF(N148="znížená",J148,0) -> 0 | BG148: =IF(N148="zákl. prenesená",J148,0) -> 0 | BH148: =IF(N148="zníž. prenesená",J148,0) -> 0 | BI148: =IF(N148="nulová",J148,0) -> 0 | BJ148: 2 | BK148: =ROUND(I148*H148,3) -> 0 | BL148: 4 | BM148: 42
C149: 21 | D149: M | E149: 286130033400 | F149: Rúra HDPE na vodu PE100 PN16 SDR11 32x3,0x100 m, WAVIN | G149: m | H149: 120 | N149: znížená | O149: 0 | P149: =O149*H149 -> 0 | Q149: 0 | R149: =Q149*H149 -> 0 | S149: 0 | T149: =S149*H149 -> 0 | V149: =H149*I149 -> 0 | AR149: 8 | AT149: M | AU149: 2 | AY149: ROZPOCET | BE149: =IF(N149="základná",J149,0) -> 0 | BF149: =IF(N149="znížená",J149,0) -> 0 | BG149: =IF(N149="zákl. prenesená",J149,0) -> 0 | BH149: =IF(N149="zníž. prenesená",J149,0) -> 0 | BI149: =IF(N149="nulová",J149,0) -> 0 | BJ149: 2 | BK149: =ROUND(I149*H149,3) -> 0 | BL149: 4 | BM149: 44
C150: 22 | D150: K | E150: 871251066 | F150: Montáž vodovodného potrubia z dvojvsrtvového PE 100 SDR17/PN10 zváraných natupo D 90x5,4 mm | G150: m | H150: 400 | N150: znížená | O150: 0 | P150: =O150*H150 -> 0 | Q150: 0 | R150: =Q150*H150 -> 0 | S150: 0 | T150: =S150*H150 -> 0 | V150: =H150*I150 -> 0 | AR150: 4 | AT150: K | AU150: 2 | AY150: ROZPOCET | BE150: =IF(N150="základná",J150,0) -> 0 | BF150: =IF(N150="znížená",J150,0) -> 0 | BG150: =IF(N150="zákl. prenesená",J150,0) -> 0 | BH150: =IF(N150="zníž. prenesená",J150,0) -> 0 | BI150: =IF(N150="nulová",J150,0) -> 0 | BJ150: 2 | BK150: =ROUND(I150*H150,3) -> 0 | BL150: 4 | BM150: 46
C151: 23 | D151: M | E151: 286130031200 | F151: Rúra HDPE na vodu PE100 PN10 SDR17 90x5,4x12 m, WAVIN | G151: m | H151: 400 | N151: znížená | O151: 0 | P151: =O151*H151 -> 0 | Q151: 0 | R151: =Q151*H151 -> 0 | S151: 0 | T151: =S151*H151 -> 0 | V151: =H151*I151 -> 0 | AR151: 8 | AT151: M | AU151: 2 | AY151: ROZPOCET | BE151: =IF(N151="základná",J151,0) -> 0 | BF151: =IF(N151="znížená",J151,0) -> 0 | BG151: =IF(N151="zákl. prenesená",J151,0) -> 0 | BH151: =IF(N151="zníž. prenesená",J151,0) -> 0 | BI151: =IF(N151="nulová",J151,0) -> 0 | BJ151: 2 | BK151: =ROUND(I151*H151,3) -> 0 | BL151: 4 | BM151: 48
C152: 24 | D152: K | E152: 877251120 | F152: Montáž navŕtavacej sedlovej elektrotvarovky pre vodovodné potrubia z PE 100 D 90 mm | G152: ks | H152: 21 | N152: znížená | O152: 0 | P152: =O152*H152 -> 0 | Q152: 0 | R152: =Q152*H152 -> 0 | S152: 0 | T152: =S152*H152 -> 0 | V152: =H152*I152 -> 0 | AR152: 4 | AT152: K | AU152: 2 | AY152: ROZPOCET | BE152: =IF(N152="základná",J152,0) -> 0 | BF152: =IF(N152="znížená",J152,0) -> 0 | BG152: =IF(N152="zákl. prenesená",J152,0) -> 0 | BH152: =IF(N152="zníž. prenesená",J152,0) -> 0 | BI152: =IF(N152="nulová",J152,0) -> 0 | BJ152: 2 | BK152: =ROUND(I152*H152,3) -> 0 | BL152: 4 | BM152: 50
C153: 25 | D153: M | E153: 286530211700 | F153: Elektrotvarovka, elektrofúzne hrdlové odbočkové sedlo PE100 SDR11 PFA/PN16 Elofit ECOL DN 90/25, spodná časť strmeň, GAWAPLAST | G153: ks | H153: 21 | N153: znížená | O153: 0 | P153: =O153*H153 -> 0 | Q153: 0 | R153: =Q153*H153 -> 0 | S153: 0 | T153: =S153*H153 -> 0 | V153: =H153*I153 -> 0 | AR153: 8 | AT153: M | AU153: 2 | AY153: ROZPOCET | BE153: =IF(N153="základná",J153,0) -> 0 | BF153: =IF(N153="znížená",J153,0) -> 0 | BG153: =IF(N153="zákl. prenesená",J153,0) -> 0 | BH153: =IF(N153="zníž. prenesená",J153,0) -> 0 | BI153: =IF(N153="nulová",J153,0) -> 0 | BJ153: 2 | BK153: =ROUND(I153*H153,3) -> 0 | BL153: 4 | BM153: 52
... C172: 44 | D172: M | E172: 89821332226 | F172: Zemná teleskopická ventilová súprava DN 80 | G172: ks | H172: 4 | N172: znížená | O172: 0 | P172: =O172*H172 -> 0 | Q172: 0 | R172: =Q172*H172 -> 0 | S172: 0 | T172: =S172*H172 -> 0 | V172: =H172*I172 -> 0 | AR172: 8 | AT172: M | AU172: 2 | AY172: ROZPOCET | BE172: =IF(N172="základná",J172,0) -> 0 | BF172: =IF(N172="znížená",J172,0) -> 0 | BG172: =IF(N172="zákl. prenesená",J172,0) -> 0 | BH172: =IF(N172="zníž. prenesená",J172,0) -> 0 | BI172: =IF(N172="nulová",J172,0) -> 0 | BJ172: 2 | BK172: =ROUND(I172*H172,3) -> 0 | BL172: 4 | BM172: 90
C173: 45 | D173: K | E173: 998276101 | F173: Presun hmôt | G173: t | H173: 742.56 | V173: =H173*I173 -> 0
D174: D | E174: PSV | F174: Práce a dodávky PSV | P174: =P175 -> 0 | R174: =R175 -> 0 | T174: =T175 -> 0 | V174: =H174*I174 -> 0 | AR174: 2 | AT174: D | AU174: 0 | AY174: ROZPOCET | BK174: =BK175 -> 0
D175: D | E175: 722 | F175: Zdravotechnika - vnútorný vodovod | P175: =SUM(P176:P177) -> 0 | R175: =SUM(R176:R177) -> 0 | T175: =SUM(T176:T177) -> 0 | V175: =H175*I175 -> 0 | AR175: 2 | AT175: D | AU175: 1 | AY175: ROZPOCET | BK175: =SUM(BK176:BK177) -> 0
C176: 46 | D176: K | E176: 722290215 | F176: Tlaková skúška vodovodného potrubia hrdlového alebo prírubového do DN 100 | G176: m | H176: 520 | N176: znížená | O176: 0 | P176: =O176*H176 -> 0 | Q176: 0 | R176: =Q176*H176 -> 0 | S176: 0 | T176: =S176*H176 -> 0 | V176: =H176*I176 -> 0 | AR176: 16 | AT176: K | AU176: 2 | AY176: ROZPOCET | BE176: =IF(N176="základná",J176,0) -> 0 | BF176: =IF(N176="znížená",J176,0) -> 0 | BG176: =IF(N176="zákl. prenesená",J176,0) -> 0 | BH176: =IF(N176="zníž. prenesená",J176,0) -> 0 | BI176: =IF(N176="nulová",J176,0) -> 0 | BJ176: 2 | BK176: =ROUND(I176*H176,3) -> 0 | BL176: 16 | BM176: 92
C177: 47 | D177: K | E177: 722290234 | F177: Prepláchnutie a dezinfekcia vodovodného potrubia do DN 80 | G177: m | H177: 520 | N177: znížená | O177: 0 | P177: =O177*H177 -> 0 | Q177: 0 | R177: =Q177*H177 -> 0 | S177: 0 | T177: =S177*H177 -> 0 | V177: =H177*I177 -> 0 | AR177: 16 | AT177: K | AU177: 2 | AY177: ROZPOCET | BE177: =IF(N177="základná",J177,0) -> 0 | BF177: =IF(N177="znížená",J177,0) -> 0 | BG177: =IF(N177="zákl. prenesená",J177,0) -> 0 | BH177: =IF(N177="zníž. prenesená",J177,0) -> 0 | BI177: =IF(N177="nulová",J177,0) -> 0 | BJ177: 2 | BK177: =ROUND(I177*H177,3) -> 0 | BL177: 16 | BM177: 94
D178: D | E178: M | F178: Práce a dodávky M | P178: =P179 -> 0 | R178: =R179 -> 0 | T178: =T179 -> 0 | V178: =H178*I178 -> 0 | AR178: 3 | AT178: D | AU178: 0 | AY178: ROZPOCET | BK178: =BK179 -> 0
D179: D | E179: 23-M | F179: Montáže potrubia | P179: =P180 -> 0 | R179: =R180 -> 0 | T179: =T180 -> 0 | V179: =H179*I179 -> 0 | AR179: 3 | AT179: D | AU179: 1 | AY179: ROZPOCET | BK179: =BK180 -> 0
C180: 48 | D180: K | E180: 230071007 | F180: Revízia posúvadlového uzáveru do PN 40 DN 80 | G180: ks | H180: 3 | N180: znížená | O180: 0 | P180: =O180*H180 -> 0 | Q180: 0 | R180: =Q180*H180 -> 0 | S180: 0 | T180: =S180*H180 -> 0 | V180: =H180*I180 -> 0 | AR180: 64 | AT180: K | AU180: 2 | AY180: ROZPOCET | BE180: =IF(N180="základná",J180,0) -> 0 | BF180: =IF(N180="znížená",J180,0) -> 0 | BG180: =IF(N180="zákl. prenesená",J180,0) -> 0 | BH180: =IF(N180="zníž. prenesená",J180,0) -> 0 | BI180: =IF(N180="nulová",J180,0) -> 0 | BJ180: 2 | BK180: =ROUND(I180*H180,3) -> 0 | BL180: 64 | BM180: 96

Sheet 04.2 - SO 04.2 - Kanalizá...
L2: >> skryté stĺpce << | AT2: {2027fe68-912e-459f-b76a-42993220ce9d}
AT3: 0
D4: KRYCÍ LIST VÝKAZU VÝMER | M4: v --- nižšie sa nachádzajú doplnkové a pomocné údaje k zostavám --- v | AT4: False
D6: Stavba:
E7: ='Rekapitulácia stavby'!K6 -> IBV KRAKOVANY - STARÉ KONOPISKO - 1.ETAPA
D8: Objekt:
E9: 04 - SO 04 - Kanalizácia
D10: Časť:
E11: 04.2 - SO 04.2 - Kanalizácia splašková - prípojky
D13: JKSO: | I13: KS:
D14: Miesto: | I14: Dátum: | J14: ='Rekapitulácia stavby'!AN8 -> 12. 9. 2020
D16: Objednávateľ: | I16: IČO:
E17: Obec Krakovany, Námestie Sv. Mikuláša 406/4 | I17: IČ DPH:
D19: Zhotoviteľ: | I19: IČO: | J19: ='Rekapitulácia stavby'!AN13
E20: ='Rekapitulácia stavby'!E14 | I20: IČ DPH: | J20: ='Rekapitulácia stavby'!AN14
D22: Projektant: | I22: IČO: | J22: =IF('Rekapitulácia stavby'!AN16="","",'Rekapitulácia stavby'!AN16)
E23: =IF('Rekapitulácia stavby'!E17="","",'Rekapitulácia stavby'!E17) | I23: IČ DPH: | J23: =IF('Rekapitulácia stavby'!AN17="","",'Rekapitulácia stavby'!AN17)
D25: Spracovateľ: | I25: IČO: | J25: =IF('Rekapitulácia stavby'!AN19="","",'Rekapitulácia stavby'!AN19)
E26: =IF('Rekapitulácia stavby'!E20="","",'Rekapitulácia stavby'!E20) | I26: IČ DPH: | J26: =IF('Rekapitulácia stavby'!AN20="","",'Rekapitulácia stavby'!AN20)
D28: Poznámka:
D32: Cena bez DPH | J32: =ROUND(J124, 2) -> 0
F34: Základ dane | I34: Sadzba dane | J34: Výška dane
D35: DPH | E35: základná | F35: =ROUND((SUM(BE124:BE147)), 2) -> 0 | I35: 0.2 | J35: =ROUND(((SUM(BE124:BE147))*I35), 2) -> 0
E36: znížená | F36: =ROUND((SUM(BF124:BF147)), 2) -> 0 | I36: 0.2 | J36: =ROUND(((SUM(BF124:BF147))*I36), 2) -> 0
E37: zákl. prenesená | F37: =ROUND((SUM(BG124:BG147)), 2) -> 0 | I37: 0.2 | J37: =0 -> 0
E38: zníž. prenesená | F38: =ROUND((SUM(BH124:BH147)), 2) -> 0 | I38: 0.2 | J38: =0 -> 0
E39: nulová | F39: =ROUND((SUM(BI124:BI147)), 2) -> 0 | I39: 0 | J39: =0 -> 0
D41: Cena s DPH | G41: v | H41: EUR | J41: =SUM(J32:J39) -> 0
D50: Projektant | G50: Spracovateľ
D61: Dátum a podpis: | F61: Pečiatka | G61: Dátum a podpis: | J61: Pečiatka
D65: Objednávateľ | G65: Zhotoviteľ
D76: Dátum a podpis: | F76: Pečiatka | G76: Dátum a podpis: | J76: Pečiatka
C82: REKAPITULÁCIA VÝKAZU VÝMER
C84: Stavba:
E85: =E7 -> IBV KRAKOVANY - STARÉ KONOPISKO - 1.ETAPA
C86: Objekt:
E87: 04 - SO 04 - Kanalizácia
C88: Časť:
E89: =E11 -> 04.2 - SO 04.2 - Kanalizácia splašková - prípojky
C91: Miesto: | F91: =F14 | I91: Dátum: | J91: =IF(J14="","",J14) -> 12. 9. 2020
C93: Objednávateľ: | F93: =E17 -> Obec Krakovany, Námestie Sv. Mikuláša 406/4 | I93: Projektant: | J93: =E23
C94: Zhotoviteľ: | F94: =IF(E20="","",E20) | I94: Spracovateľ: | J94: =E26
C96: Kód dielu - Popis | J96: Cena celkom [EUR]
C98: Náklady z rozpočtu | J98: =J124 -> 0 | AU98: -1
D99: HSV - Práce a dodávky HSV | J99: =J125 -> 0
D100: 1 - Zemné práce | J100: =J126 -> 0
D101: 4 - Vodorovné konštrukcie | J101: =J139 -> 0
D102: 8 - Rúrové vedenie | J102: =J141 -> 0
C109: VÝKAZ VÝMER
C111: Stavba:
E112: =E7 -> IBV KRAKOVANY - STARÉ KONOPISKO - 1.ETAPA
C113: Objekt:
E114: 04 - SO 04 - Kanalizácia
C115: Časť:
E116: =E11 -> 04.2 - SO 04.2 - Kanalizácia splašková - prípojky
C118: Miesto: | F118: =F14 | I118: Dátum: | J118: =IF(J14="","",J14) -> 12. 9. 2020
C120: Objednávateľ: | F120: =E17 -> Obec Krakovany, Námestie Sv. Mikuláša 406/4 | I120: Projektant: | J120: =E23
C121: Zhotoviteľ: | F121: =IF(E20="","",E20) | I121: Spracovateľ: | J121: =E26
C123: PČ | D123: Typ | E123: Kód | F123: Popis | G123: MJ | H123: Množstvo | I123: J.cena [EUR] | J123: Cena celkom [EUR] | K123: Cenová sústava | N123: DPH | O123: J. Nh [h] | P123: Nh celkom [h] | Q123: J. hmotnosť [t] | R123: Hmotnosť celkom [t] | S123: J. suť [t] | T123: Suť Celkom [t]
C124: Náklady z rozpočtu | P124: =P125 -> 0 | R124: =R125 -> 0 | T124: =T125 -> 0 | AT124: D | AU124: -1 | BK124: =BK125 -> 0
D125: D | E125: HSV | F125: Práce a dodávky HSV | P125: =P126+P139+P141 -> 0 | R125: =R126+R139+R141 -> 0 | T125: =T126+T139+T141 -> 0 | V125: =SUM(V127:V147) -> 0 | AR125: 1 | AT125: D | AU125: 0 | AY125: ROZPOCET | BK125: =BK126+BK139+BK141 -> 0
D126: D | E126: 1 | F126: Zemné práce | P126: =SUM(P127:P138) -> 0 | R126: =SUM(R127:R138) -> 0 | T126: =SUM(T127:T138) -> 0 | AR126: 1 | AT126: D | AU126: 1 | AY126: ROZPOCET | BK126: =SUM(BK127:BK138) -> 0
C127: 1 | D127: K | E127: 132101202 | F127: Výkop ryhy šírky 600-2000mm hor 1-2 od 100 do 1000 m3 | G127: m3 | H127: 368.1 | N127: znížená | O127: 0 | P127: =O127*H127 -> 0 | Q127: 0 | R127: =Q127*H127 -> 0 | S127: 0 | T127: =S127*H127 -> 0 | V127: =H127*I127 -> 0 | AR127: 4 | AT127: K | AU127: 2 | AY127: ROZPOCET | BE127: =IF(N127="základná",J127,0) -> 0 | BF127: =IF(N127="znížená",J127,0) -> 0 | BG127: =IF(N127="zákl. prenesená",J127,0) -> 0 | BH127: =IF(N127="zníž. prenesená",J127,0) -> 0 | BI127: =IF(N127="nulová",J127,0) -> 0 | BJ127: 2 | BK127: =ROUND(I127*H127,3) -> 0 | BL127: 4 | BM127: 4
C128: 2 | D128: K | E128: 132201209 | F128: Príplatok k cenám za lepivosť pri hĺbení rýh š. nad 600 do 2 000 mm zapaž. i nezapažených, s urovnaním dna v hornine 3 | G128: m3 | H128: 368.1 | N128: znížená | O128: 0 | P128: =O128*H128 -> 0 | Q128: 0 | R128: =Q128*H128 -> 0 | S128: 0 | T128: =S128*H128 -> 0 | V128: =H128*I128 -> 0 | AR128: 4 | AT128: K | AU128: 2 | AY128: ROZPOCET | BE128: =IF(N128="základná",J128,0) -> 0 | BF128: =IF(N128="znížená",J128,0) -> 0 | BG128: =IF(N128="zákl. prenesená",J128,0) -> 0 | BH128: =IF(N128="zníž. prenesená",J128,0) -> 0 | BI128: =IF(N128="nulová",J128,0) -> 0 | BJ128: 2 | BK128: =ROUND(I128*H128,3) -> 0 | BL128: 4 | BM128: 6
C129: 3 | D129: K | E129: 151101101 | F129: Paženie a rozopretie stien rýh pre podzemné vedenie, príložné do 2 m | G129: m2 | H129: 353.6 | N129: znížená | O129: 0 | P129: =O129*H129 -> 0 | Q129: 0 | R129: =Q129*H129 -> 0 | S129: 0 | T129: =S129*H129 -> 0 | V129: =H129*I129 -> 0 | AR129: 4 | AT129: K | AU129: 2 | AY129: ROZPOCET | BE129: =IF(N129="základná",J129,0) -> 0 | BF129: =IF(N129="znížená",J129,0) -> 0 | BG129: =IF(N129="zákl. prenesená",J129,0) -> 0 | BH129: =IF(N129="zníž. prenesená",J129,0) -> 0 | BI129: =IF(N129="nulová",J129,0) -> 0 | BJ129: 2 | BK129: =ROUND(I129*H129,3) -> 0 | BL129: 4 | BM129: 8
C130: 4 | D130: K | E130: 151101111 | F130: Odstránenie paženia rýh pre podzemné vedenie, príložné hĺbky do 2 m | G130: m2 | H130: 353.6 | N130: znížená | O130: 0 | P130: =O130*H130 -> 0 | Q130: 0 | R130: =Q130*H130 -> 0 | S130: 0 | T130: =S130*H130 -> 0 | V130: =H130*I130 -> 0 | AR130: 4 | AT130: K | AU130: 2 | AY130: ROZPOCET | BE130: =IF(N130="základná",J130,0) -> 0 | BF130: =IF(N130="znížená",J130,0) -> 0 | BG130: =IF(N130="zákl. prenesená",J130,0) -> 0 | BH130: =IF(N130="zníž. prenesená",J130,0) -> 0 | BI130: =IF(N130="nulová",J130,0) -> 0 | BJ130: 2 | BK130: =ROUND(I130*H130,3) -> 0 | BL130: 4 | BM130: 10
C131: 5 | D131: K | E131: 162201102 | F131: Vodorovné premiestnenie výkopku z horniny 1-4 nad 20-50m | G131: m3 | H131: 368.1 | N131: znížená | O131: 0 | P131: =O131*H131 -> 0 | Q131: 0 | R131: =Q131*H131 -> 0 | S131: 0 | T131: =S131*H131 -> 0 | V131: =H131*I131 -> 0 | AR131: 4 | AT131: K | AU131: 2 | AY131: ROZPOCET | BE131: =IF(N131="základná",J131,0) -> 0 | BF131: =IF(N131="znížená",J131,0) -> 0 | BG131: =IF(N131="zákl. prenesená",J131,0) -> 0 | BH131: =IF(N131="zníž. prenesená",J131,0) -> 0 | BI131: =IF(N131="nulová",J131,0) -> 0 | BJ131: 2 | BK131: =ROUND(I131*H131,3) -> 0 | BL131: 4 | BM131: 12
C132: 6 | D132: K | E132: 162501112 | F132: Vodorovné premiestnenie výkopku so zložením na vzdialenosť nad 2000 do 3000 m | G132: m3 | H132: 368.1 | N132: znížená | O132: 0 | P132: =O132*H132 -> 0 | Q132: 0 | R132: =Q132*H132 -> 0 | S132: 0 | T132: =S132*H132 -> 0 | V132: =H132*I132 -> 0 | AR132: 4 | AT132: K | AU132: 2 | AY132: ROZPOCET | BE132: =IF(N132="základná",J132,0) -> 0 | BF132: =IF(N132="znížená",J132,0) -> 0 | BG132: =IF(N132="zákl. prenesená",J132,0) -> 0 | BH132: =IF(N132="zníž. prenesená",J132,0) -> 0 | BI132: =IF(N132="nulová",J132,0) -> 0 | BJ132: 2 | BK132: =ROUND(I132*H132,3) -> 0 | BL132: 4 | BM132: 14
C133: 7 | D133: K | E133: 171201201 | F133: Uloženie sypaniny na skládky do 100 m3 | G133: m3 | H133: 368.1 | N133: znížená | O133: 0 | P133: =O133*H133 -> 0 | Q133: 0 | R133: =Q133*H133 -> 0 | S133: 0 | T133: =S133*H133 -> 0 | V133: =H133*I133 -> 0 | AR133: 4 | AT133: K | AU133: 2 | AY133: ROZPOCET | BE133: =IF(N133="základná",J133,0) -> 0 | BF133: =IF(N133="znížená",J133,0) -> 0 | BG133: =IF(N133="zákl. prenesená",J133,0) -> 0 | BH133: =IF(N133="zníž. prenesená",J133,0) -> 0 | BI133: =IF(N133="nulová",J133,0) -> 0 | BJ133: 2 | BK133: =ROUND(I133*H133,3) -> 0 | BL133: 4 | BM133: 16
C134: 8 | D134: K | E134: 174101001 | F134: Zásyp sypaninou so zhutnením jám, šachiet, rýh, zárezov alebo okolo objektov do 100 m3 | G134: m3 | H134: 316.62 | N134: znížená | O134: 0 | P134: =O134*H134 -> 0 | Q134: 0 | R134: =Q134*H134 -> 0 | S134: 0 | T134: =S134*H134 -> 0 | V134: =H134*I134 -> 0 | AR134: 4 | AT134: K | AU134: 2 | AY134: ROZPOCET | BE134: =IF(N134="základná",J134,0) -> 0 | BF134: =IF(N134="znížená",J134,0) -> 0 | BG134: =IF(N134="zákl. prenesená",J134,0) -> 0 | BH134: =IF(N134="zníž. prenesená",J134,0) -> 0 | BI134: =IF(N134="nulová",J134,0) -> 0 | BJ134: 2 | BK134: =ROUND(I134*H134,3) -> 0 | BL134: 4 | BM134: 18
C135: 9 | D135: K | E135: 174104111 | F135: Obsyp sypaniny s uložením | G135: m3 | H135: 42.12 | N135: znížená | O135: 0 | P135: =O135*H135 -> 0 | Q135: 0 | R135: =Q135*H135 -> 0 | S135: 0 | T135: =S135*H135 -> 0 | V135: =H135*I135 -> 0 | AR135: 4 | AT135: K | AU135: 2 | AY135: ROZPOCET | BE135: =IF(N135="základná",J135,0) -> 0 | BF135: =IF(N135="znížená",J135,0) -> 0 | BG135: =IF(N135="zákl. prenesená",J135,0) -> 0 | BH135: =IF(N135="zníž. prenesená",J135,0) -> 0 | BI135: =IF(N135="nulová",J135,0) -> 0 | BJ135: 2 | BK135: =ROUND(I135*H135,3) -> 0 | BL135: 4 | BM135: 20
C136: 10 | D136: M | E136: 583310002900 | F136: Štrkopiesok frakcia 0-16 mm, STN EN 12620 + A1 | G136: t | H136: 80.028 | N136: znížená | O136: 0 | P136: =O136*H136 -> 0 | Q136: 0 | R136: =Q136*H136 -> 0 | S136: 0 | T136: =S136*H136 -> 0 | V136: =H136*I136 -> 0 | AR136: 8 | AT136: M | AU136: 2 | AY136: ROZPOCET | BE136: =IF(N136="základná",J136,0) -> 0 | BF136: =IF(N136="znížená",J136,0) -> 0 | BG136: =IF(N136="zákl. prenesená",J136,0) -> 0 | BH136: =IF(N136="zníž. prenesená",J136,0) -> 0 | BI136: =IF(N136="nulová",J136,0) -> 0 | BJ136: 2 | BK136: =ROUND(I136*H136,3) -> 0 | BL136: 4 | BM136: 22
C137: 11 | D137: M | E137: 583310003400 | F137: Štrkopiesok frakcia 0-63 mm, STN EN 13242 + A1 | G137: t | H137: 664.902 | N137: znížená | O137: 0 | P137: =O137*H137 -> 0 | Q137: 0 | R137: =Q137*H137 -> 0 | S137: 0 | T137: =S137*H137 -> 0 | V137: =H137*I137 -> 0 | AR137: 8 | AT137: M | AU137: 2 | AY137: ROZPOCET | BE137: =IF(N137="základná",J137,0) -> 0 | BF137: =IF(N137="znížená",J137,0) -> 0 | BG137: =IF(N137="zákl. prenesená",J137,0) -> 0 | BH137: =IF(N137="zníž. prenesená",J137,0) -> 0 | BI137: =IF(N137="nulová",J137,0) -> 0 | BJ137: 2 | BK137: =ROUND(I137*H137,3) -> 0 | BL137: 4 | BM137: 24
C138: 12 | D138: M | E138: 283230008200 | F138: Výstražná fólia PE, š. 300 mm, pre kanalizáciu, farba hnedá, | G138: m | H138: 375 | N138: znížená | O138: 0 | P138: =O138*H138 -> 0 | Q138: 0 | R138: =Q138*H138 -> 0 | S138: 0 | T138: =S138*H138 -> 0 | V138: =H138*I138 -> 0 | AR138: 8 | AT138: M | AU138: 2 | AY138: ROZPOCET | BE138: =IF(N138="základná",J138,0) -> 0 | BF138: =IF(N138="znížená",J138,0) -> 0 | BG138: =IF(N138="zákl. prenesená",J138,0) -> 0 | BH138: =IF(N138="zníž. prenesená",J138,0) -> 0 | BI138: =IF(N138="nulová",J138,0) -> 0 | BJ138: 2 | BK138: =ROUND(I138*H138,3) -> 0 | BL138: 4 | BM138: 26
D139: D | E139: 4 | F139: Vodorovné konštrukcie | P139: =P140 -> 0 | R139: =R140 -> 0 | T139: =T140 -> 0 | V139: =H139*I139 -> 0 | AR139: 1 | AT139: D | AU139: 1 | AY139: ROZPOCET | BK139: =BK140 -> 0
C140: 13 | D140: K | E140: 451573111 | F140: Lôžko pod potrubie, stoky a drobné objekty, v otvorenom výkope z piesku a štrkopiesku do 63 mm | G140: m3 | H140: 9.36 | N140: znížená | O140: 0 | P140: =O140*H140 -> 0 | Q140: 0 | R140: =Q140*H140 -> 0 | S140: 0 | T140: =S140*H140 -> 0 | V140: =H140*I140 -> 0 | AR140: 4 | AT140: K | AU140: 2 | AY140: ROZPOCET | BE140: =IF(N140="základná",J140,0) -> 0 | BF140: =IF(N140="znížená",J140,0) -> 0 | BG140: =IF(N140="zákl. prenesená",J140,0) -> 0 | BH140: =IF(N140="zníž. prenesená",J140,0) -> 0 | BI140: =IF(N140="nulová",J140,0) -> 0 | BJ140: 2 | BK140: =ROUND(I140*H140,3) -> 0 | BL140: 4 | BM140: 28
D141: D | E141: 8 | F141: Rúrové vedenie | P141: =SUM(P142:P147) -> 0 | R141: =SUM(R142:R147) -> 0 | T141: =SUM(T142:T147) -> 0 | V141: =H141*I141 -> 0 | AR141: 1 | AT141: D | AU141: 1 | AY141: ROZPOCET | BK141: =SUM(BK142:BK147) -> 0
C142: 14 | D142: K | E142: 871326004 | F142: Montáž kanalizačného PVC-U potrubia hladkého viacvrstvového DN 160 | G142: m | H142: 104 | N142: znížená | O142: 0 | P142: =O142*H142 -> 0 | Q142: 0 | R142: =Q142*H142 -> 0 | S142: 0 | T142: =S142*H142 -> 0 | V142: =H142*I142 -> 0 | AR142: 4 | AT142: K | AU142: 2 | AY142: ROZPOCET | BE142: =IF(N142="základná",J142,0) -> 0 | BF142: =IF(N142="znížená",J142,0) -> 0 | BG142: =IF(N142="zákl. prenesená",J142,0) -> 0 | BH142: =IF(N142="zníž. prenesená",J142,0) -> 0 | BI142: =IF(N142="nulová",J142,0) -> 0 | BJ142: 2 | BK142: =ROUND(I142*H142,3) -> 0 | BL142: 4 | BM142: 30
C143: 15 | D143: M | E143: 286110006900 | F143: Rúra kanalizačná PVC-U gravitačná, hladká SN4 - KG, ML - viacvrstvová, DN 160, dĺ. 5 m, | G143: ks | H143: 22 | N143: znížená | O143: 0 | P143: =O143*H143 -> 0 | Q143: 0 | R143: =Q143*H143 -> 0 | S143: 0 | T143: =S143*H143 -> 0 | V143: =H143*I143 -> 0 | AR143: 8 | AT143: M | AU143: 2 | AY143: ROZPOCET | BE143: =IF(N143="základná",J143,0) -> 0 | BF143: =IF(N143="znížená",J143,0) -> 0 | BG143: =IF(N143="zákl. prenesená",J143,0) -> 0 | BH143: =IF(N143="zníž. prenesená",J143,0) -> 0 | BI143: =IF(N143="nulová",J143,0) -> 0 | BJ143: 2 | BK143: =ROUND(I143*H143,3) -> 0 | BL143: 4 | BM143: 32
C144: 16 | D144: K | E144: 877324004 | F144: Montáž tvaroviek na potrubie z kanalizačných rúr DN 150 | G144: ks | H144: 42 | N144: znížená | O144: 0 | P144: =O144*H144 -> 0 | Q144: 0 | R144: =Q144*H144 -> 0 | S144: 0 | T144: =S144*H144 -> 0 | V144: =H144*I144 -> 0 | AR144: 4 | AT144: K | AU144: 2 | AY144: ROZPOCET | BE144: =IF(N144="základná",J144,0) -> 0 | BF144: =IF(N144="znížená",J144,0) -> 0 | BG144: =IF(N144="zákl. prenesená",J144,0) -> 0 | BH144: =IF(N144="zníž. prenesená",J144,0) -> 0 | BI144: =IF(N144="nulová",J144,0) -> 0 | BJ144: 2 | BK144: =ROUND(I144*H144,3) -> 0 | BL144: 4 | BM144: 34
C145: 17 | D145: M | E145: 28652000310 | F145: Koleno PVC-U, DN 150x15 st, 30 st,45 st hladký kanalizačný systém | G145: ks | H145: 42.84 | N145: znížená | O145: 0 | P145: =O145*H145 -> 0 | Q145: 0 | R145: =Q145*H145 -> 0 | S145: 0 | T145: =S145*H145 -> 0 | V145: =H145*I145 -> 0 | AR145: 8 | AT145: M | AU145: 2 | AY145: ROZPOCET | BE145: =IF(N145="základná",J145,0) -> 0 | BF145: =IF(N145="znížená",J145,0) -> 0 | BG145: =IF(N145="zákl. prenesená",J145,0) -> 0 | BH145: =IF(N145="zníž. prenesená",J145,0) -> 0 | BI145: =IF(N145="nulová",J145,0) -> 0 | BJ145: 2 | BK145: =ROUND(I145*H145,3) -> 0 | BL145: 4 | BM145: 36
C146: 18 | D146: K | E146: 892311000 | F146: Skúška tesnosti kanalizácie D 150 | G146: m | H146: 104 | N146: znížená | O146: 0 | P146: =O146*H146 -> 0 | Q146: 0 | R146: =Q146*H146 -> 0 | S146: 0 | T146: =S146*H146 -> 0 | V146: =H146*I146 -> 0 | AR146: 4 | AT146: K | AU146: 2 | AY146: ROZPOCET | BE146: =IF(N146="základná",J146,0) -> 0 | BF146: =IF(N146="znížená",J146,0) -> 0 | BG146: =IF(N146="zákl. prenesená",J146,0) -> 0 | BH146: =IF(N146="zníž. prenesená",J146,0) -> 0 | BI146: =IF(N146="nulová",J146,0) -> 0 | BJ146: 2 | BK146: =ROUND(I146*H146,3) -> 0 | BL146: 4 | BM146: 38
C147: 19 | D147: K | E147: 998276101 | F147: Presun hmôt pre rúrové vedenie z rúr plastových | G147: t | H147: 334.152 | N147: znížená | O147: 0 | P147: =O147*H147 -> 0 | Q147: 0 | R147: =Q147*H147 -> 0 | S147: 0 | T147: =S147*H147 -> 0 | V147: =H147*I147 -> 0 | AR147: 4 | AT147: K | AU147: 2 | AY147: ROZPOCET | BE147: =IF(N147="základná",J147,0) -> 0 | BF147: =IF(N147="znížená",J147,0) -> 0 | BG147: =IF(N147="zákl. prenesená",J147,0) -> 0 | BH147: =IF(N147="zníž. prenesená",J147,0) -> 0 | BI147: =IF(N147="nulová",J147,0) -> 0 | BJ147: 2 | BK147: =ROUND(I147*H147,3) -> 0 | BL147: 4 | BM147: 40

Sheet 05 - SO 05 - Plynovod
L2: >> skryté stĺpce << | AT2: {f65ccd27-9e2e-4946-b5d4-ad2093c9aa29}
AT3: 0
D4: KRYCÍ LIST VÝKAZU VÝMER | M4: v --- nižšie sa nachádzajú doplnkové a pomocné údaje k zostavám --- v | AT4: False
D6: Stavba:
E7: ='Rekapitulácia stavby'!K6 -> IBV KRAKOVANY - STARÉ KONOPISKO - 1.ETAPA
D8: Objekt:
E9: 05 - SO 05 - Plynovod
D11: JKSO: | I11: KS:
D12: Miesto: | I12: Dátum: | J12: ='Rekapitulácia stavby'!AN8 -> 12. 9. 2020
D14: Objednávateľ: | I14: IČO:
E15: Obec Krakovany, Námestie Sv. Mikuláša 406/4 | I15: IČ DPH:
D17: Zhotoviteľ: | I17: IČO: | J17: ='Rekapitulácia stavby'!AN13
E18: ='Rekapitulácia stavby'!E14 | I18: IČ DPH: | J18: ='Rekapitulácia stavby'!AN14
D20: Projektant: | I20: IČO: | J20: =IF('Rekapitulácia stavby'!AN16="","",'Rekapitulácia stavby'!AN16)
E21: =IF('Rekapitulácia stavby'!E17="","",'Rekapitulácia stavby'!E17) | I21: IČ DPH: | J21: =IF('Rekapitulácia stavby'!AN17="","",'Rekapitulácia stavby'!AN17)
D23: Spracovateľ: | I23: IČO: | J23: =IF('Rekapitulácia stavby'!AN19="","",'Rekapitulácia stavby'!AN19)
E24: =IF('Rekapitulácia stavby'!E20="","",'Rekapitulácia stavby'!E20) | I24: IČ DPH: | J24: =IF('Rekapitulácia stavby'!AN20="","",'Rekapitulácia stavby'!AN20)
D26: Poznámka:
D30: Cena bez DPH | J30: =ROUND(J123, 2) -> 0
F32: Základ dane | I32: Sadzba dane | J32: Výška dane
D33: DPH | E33: základná | F33: =ROUND((SUM(BE123:BE175)), 2) -> 0 | I33: 0.2 | J33: =ROUND(((SUM(BE123:BE175))*I33), 2) -> 0
E34: znížená | F34: =ROUND((SUM(BF123:BF175)), 2) -> 0 | I34: 0.2 | J34: =ROUND(((SUM(BF123:BF175))*I34), 2) -> 0
E35: zákl. prenesená | F35: =ROUND((SUM(BG123:BG175)), 2) -> 0 | I35: 0.2 | J35: =0 -> 0
E36: zníž. prenesená | F36: =ROUND((SUM(BH123:BH175)), 2) -> 0 | I36: 0.2 | J36: =0 -> 0
E37: nulová | F37: =ROUND((SUM(BI123:BI175)), 2) -> 0 | I37: 0 | J37: =0 -> 0
D39: Cena s DPH | G39: v | H39: EUR | J39: =SUM(J30:J37) -> 0
D50: Projektant | G50: Spracovateľ
D61: Dátum a podpis: | F61: Pečiatka | G61: Dátum a podpis: | J61: Pečiatka
D65: Objednávateľ | G65: Zhotoviteľ
D76: Dátum a podpis: | F76: Pečiatka | G76: Dátum a podpis: | J76: Pečiatka
C82: REKAPITULÁCIA VÝKAZU VÝMER
C84: Stavba:
E85: =E7 -> IBV KRAKOVANY - STARÉ KONOPISKO - 1.ETAPA
C86: Objekt:
E87: =E9 -> 05 - SO 05 - Plynovod
C89: Miesto: | F89: =F12 | I89: Dátum: | J89: =IF(J12="","",J12) -> 12. 9. 2020
C91: Objednávateľ: | F91: =E15 -> Obec Krakovany, Námestie Sv. Mikuláša 406/4 | I91: Projektant: | J91: =E21
C92: Zhotoviteľ: | F92: =IF(E18="","",E18) | I92: Spracovateľ: | J92: =E24
C94: Kód dielu - Popis | J94: Cena celkom [EUR]
C96: Náklady z rozpočtu | J96: =J123 -> 0 | AU96: -1
D97: D1 - Práce HSV | J97: =J124 -> 0
D98: D2 - ZEMNÉ PRÁCE | J98: =J125 -> 0
D99: D3 - VODOROVNÉ KONŠTRUKCIE | J99: =J135 -> 0
D100: D4 - SPEVNENÉ PLOCHY | J100: =J137 -> 0
D101: D5 - OSTATNÉ PRÁCE | J101: =J140 -> 0
D102: D6 - Montážne práce | J102: =J146 -> 0
D103: D7 - M-23 MONTÁŽ PRIEMYSELNÉHO POTRUBIA | J103: =J147 -> 0
C110: VÝKAZ VÝMER
C112: Stavba:
E113: =E7 -> IBV KRAKOVANY - STARÉ KONOPISKO - 1.ETAPA
C114: Objekt:
E115: =E9 -> 05 - SO 05 - Plynovod
C117: Miesto: | F117: =F12 | I117: Dátum: | J117: =IF(J12="","",J12) -> 12. 9. 2020
C119: Objednávateľ: | F119: =E15 -> Obec Krakovany, Námestie Sv. Mikuláša 406/4 | I119: Projektant: | J119: =E21
C120: Zhotoviteľ: | F120: =IF(E18="","",E18) | I120: Spracovateľ: | J120: =E24
C122: PČ | D122: Typ | E122: Kód | F122: Popis | G122: MJ | H122: Množstvo | I122: J.cena [EUR] | J122: Cena celkom [EUR] | K122: Cenová sústava | N122: DPH | O122: J. Nh [h] | P122: Nh celkom [h] | Q122: J. hmotnosť [t] | R122: Hmotnosť celkom [t] | S122: J. suť [t] | T122: Suť Celkom [t]
C123: Náklady z rozpočtu | P123: =P124+P146 -> 0 | R123: =R124+R146 -> 9034.9856 | T123: =T124+T146 -> 3.3825 | V123: =SUM(V126:V176) -> 0 | AT123: D | AU123: -1 | BK123: =BK124+BK146 -> 0
D124: D | E124: D1 | F124: Práce HSV | P124: =P125+P135+P137+P140 -> 0 | R124: =R125+R135+R137+R140 -> 3901.8606 | T124: =T125+T135+T137+T140 -> 3.3825 | AR124: 1 | AT124: D | AU124: 0 | AY124: ROZPOCET | BK124: =BK125+BK135+BK137+BK140 -> 0
D125: D | E125: D2 | F125: ZEMNÉ PRÁCE | P125: =SUM(P126:P134) -> 0 | R125: =SUM(R126:R134) -> 235.3156 | T125: =SUM(T126:T134) -> 3.3825 | AR125: 1 | AT125: D | AU125: 1 | AY125: ROZPOCET | BK125: =SUM(BK126:BK134) -> 0
C126: 1 | D126: K | E126: 132301102 | F126: Hľbenie rýh do šírky 600 mm v hornine 4 nad 100 m3 | G126: m3 | H126: 135 | N126: znížená | O126: 0 | P126: =O126*H126 -> 0 | Q126: 0 | R126: =Q126*H126 -> 0 | S126: 0 | T126: =S126*H126 -> 0 | V126: =H126*I126 -> 0 | AR126: 4 | AT126: K | AU126: 2 | AY126: ROZPOCET | BE126: =IF(N126="základná",J126,0) -> 0 | BF126: =IF(N126="znížená",J126,0) -> 0 | BG126: =IF(N126="zákl. prenesená",J126,0) -> 0 | BH126: =IF(N126="zníž. prenesená",J126,0) -> 0 | BI126: =IF(N126="nulová",J126,0) -> 0 | BJ126: 2 | BK126: =ROUND(I126*H126,3) -> 0 | BL126: 4 | BM126: 2
C127: 2 | D127: K | E127: 132301109 | F127: Príplatok k cene za lepivosť horniny 4 | G127: m3 | H127: 58 | N127: znížená | O127: 0 | P127: =O127*H127 -> 0 | Q127: 0 | R127: =Q127*H127 -> 0 | S127: 0 | T127: =S127*H127 -> 0 | V127: =H127*I127 -> 0 | AR127: 4 | AT127: K | AU127: 2 | AY127: ROZPOCET | BE127: =IF(N127="základná",J127,0) -> 0 | BF127: =IF(N127="znížená",J127,0) -> 0 | BG127: =IF(N127="zákl. prenesená",J127,0) -> 0 | BH127: =IF(N127="zníž. prenesená",J127,0) -> 0 | BI127: =IF(N127="nulová",J127,0) -> 0 | BJ127: 2 | BK127: =ROUND(I127*H127,3) -> 0 | BL127: 4 | BM127: 4
C128: 3 | D128: K | E128: 162701101 | F128: Vodorovné premiestnenie výkopku za sucha, z horniny 1 až 4, na vzdialenosť nad 5000 do 6000 m | G128: m3 | H128: 44 | N128: znížená | O128: 0 | P128: =O128*H128 -> 0 | Q128: 0 | R128: =Q128*H128 -> 0 | S128: 0 | T128: =S128*H128 -> 0 | V128: =H128*I128 -> 0 | AR128: 4 | AT128: K | AU128: 2 | AY128: ROZPOCET | BE128: =IF(N128="základná",J128,0) -> 0 | BF128: =IF(N128="znížená",J128,0) -> 0 | BG128: =IF(N128="zákl. prenesená",J128,0) -> 0 | BH128: =IF(N128="zníž. prenesená",J128,0) -> 0 | BI128: =IF(N128="nulová",J128,0) -> 0 | BJ128: 2 | BK128: =ROUND(I128*H128,3) -> 0 | BL128: 4 | BM128: 6
C129: 4 | D129: K | E129: 162201102 | F129: Nakladanie neuľahnutého výkopku z hornín 1 až 4 nad 100 m3 | G129: m3 | H129: 44 | N129: znížená | O129: 0 | P129: =O129*H129 -> 0 | Q129: 0 | R129: =Q129*H129 -> 0 | S129: 0 | T129: =S129*H129 -> 0 | V129: =H129*I129 -> 0 | AR129: 4 | AT129: K | AU129: 2 | AY129: ROZPOCET | BE129: =IF(N129="základná",J129,0) -> 0 | BF129: =IF(N129="znížená",J129,0) -> 0 | BG129: =IF(N129="zákl. prenesená",J129,0) -> 0 | BH129: =IF(N129="zníž. prenesená",J129,0) -> 0 | BI129: =IF(N129="nulová",J129,0) -> 0 | BJ129: 2 | BK129: =ROUND(I129*H129,3) -> 0 | BL129: 4 | BM129: 8
C130: 5 | D130: K | E130: 174101101 | F130: Zásyp sypaninou so zhutnením jám, šachiet, rýh, zárezov alebo okolo objektov v týchto vykopávkach | G130: m3 | H130: 87 | N130: znížená | O130: 0 | P130: =O130*H130 -> 0 | Q130: 0 | R130: =Q130*H130 -> 0 | S130: 0 | T130: =S130*H130 -> 0 | V130: =H130*I130 -> 0 | AR130: 4 | AT130: K | AU130: 2 | AY130: ROZPOCET | BE130: =IF(N130="základná",J130,0) -> 0 | BF130: =IF(N130="znížená",J130,0) -> 0 | BG130: =IF(N130="zákl. prenesená",J130,0) -> 0 | BH130: =IF(N130="zníž. prenesená",J130,0) -> 0 | BI130: =IF(N130="nulová",J130,0) -> 0 | BJ130: 2 | BK130: =ROUND(I130*H130,3) -> 0 | BL130: 4 | BM130: 10
C131: 6 | D131: K | E131: 175101101 | F131: Obsyp potrubia sypaninou z vhodných hornín 1 až 4 bez prehodenia sypaniny | G131: m3 | H131: 44 | N131: znížená | O131: 0 | P131: =O131*H131 -> 0 | Q131: 0 | R131: =Q131*H131 -> 0 | S131: 0 | T131: =S131*H131 -> 0 | V131: =H131*I131 -> 0 | AR131: 4 | AT131: K | AU131: 2 | AY131: ROZPOCET | BE131: =IF(N131="základná",J131,0) -> 0 | BF131: =IF(N131="znížená",J131,0) -> 0 | BG131: =IF(N131="zákl. prenesená",J131,0) -> 0 | BH131: =IF(N131="zníž. prenesená",J131,0) -> 0 | BI131: =IF(N131="nulová",J131,0) -> 0 | BJ131: 2 | BK131: =ROUND(I131*H131,3) -> 0 | BL131: 4 | BM131: 12
C132: 7 | D132: K | E132: 113107131 | F132: Odstránenie podkladov alebo krytov do 200 m2 z betónu prostého, hr. vrstvy do 150 mm 0,225 t | G132: m2 | H132: 2.5 | N132: znížená | O132: 0 | P132: =O132*H132 -> 0 | Q132: 0 | R132: =Q132*H132 -> 0 | S132: 0.563 | T132: =S132*H132 -> 1.4075 | V132: =H132*I132 -> 0 | AR132: 4 | AT132: K | AU132: 2 | AY132: ROZPOCET | BE132: =IF(N132="základná",J132,0) -> 0 | BF132: =IF(N132="znížená",J132,0) -> 0 | BG132: =IF(N132="zákl. prenesená",J132,0) -> 0 | BH132: =IF(N132="zníž. prenesená",J132,0) -> 0 | BI132: =IF(N132="nulová",J132,0) -> 0 | BJ132: 2 | BK132: =ROUND(I132*H132,3) -> 0 | BL132: 4 | BM132: 14
C133: 8 | D133: K | E133: 113107143 | F133: Odstránenie podkladov alebo krytov, v ploche do 200 m2 živičných, o hr. vrstvy nad 100 do 150 mm | G133: m2 | H133: 2.5 | N133: znížená | O133: 0 | P133: =O133*H133 -> 0 | Q133: 0 | R133: =Q133*H133 -> 0 | S133: 0.79 | T133: =S133*H133 -> 1.975 | V133: =H133*I133 -> 0 | AR133: 4 | AT133: K | AU133: 2 | AY133: ROZPOCET | BE133: =IF(N133="základná",J133,0) -> 0 | BF133: =IF(N133="znížená",J133,0) -> 0 | BG133: =IF(N133="zákl. prenesená",J133,0) -> 0 | BH133: =IF(N133="zníž. prenesená",J133,0) -> 0 | BI133: =IF(N133="nulová",J133,0) -> 0 | BJ133: 2 | BK133: =ROUND(I133*H133,3) -> 0 | BL133: 4 | BM133: 16
C134: 9 | D134: M | E134: 5833714000 | F134: Štrkopiesok 0-16 n | G134: t | H134: 15.34 | N134: znížená | O134: 0 | P134: =O134*H134 -> 0 | Q134: 15.34 | R134: =Q134*H134 -> 235.3156 | S134: 0 | T134: =S134*H134 -> 0 | V134: =H134*I134 -> 0 | AR134: 8 | AT134: M | AU134: 2 | AY134: ROZPOCET | BE134: =IF(N134="základná",J134,0) -> 0 | BF134: =IF(N134="znížená",J134,0) -> 0 | BG134: =IF(N134="zákl. prenesená",J134,0) -> 0 | BH134: =IF(N134="zníž. prenesená",J134,0) -> 0 | BI134: =IF(N134="nulová",J134,0) -> 0 | BJ134: 2 | BK134: =ROUND(I134*H134,3) -> 0 | BL134: 4 | BM134: 18
D135: D | E135: D3 | F135: VODOROVNÉ KONŠTRUKCIE | P135: =P136 -> 0 | R135: =R136 -> 3660.536 | T135: =T136 -> 0 | V135: =H135*I135 -> 0 | AR135: 1 | AT135: D | AU135: 1 | AY135: ROZPOCET | BK135: =BK136 -> 0
C136: 10 | D136: K | E136: 451572111 | F136: Lôžko pod potrubie, stoky a drobné objekty, v otvorenom výkope z kameniva drobného ťaženého 0-4 mm | G136: m3 | H136: 44 | N136: znížená | O136: 0 | P136: =O136*H136 -> 0 | Q136: 83.194 | R136: =Q136*H136 -> 3660.536 | S136: 0 | T136: =S136*H136 -> 0 | V136: =H136*I136 -> 0 | AR136: 4 | AT136: K | AU136: 2 | AY136: ROZPOCET | BE136: =IF(N136="základná",J136,0) -> 0 | BF136: =IF(N136="znížená",J136,0) -> 0 | BG136: =IF(N136="zákl. prenesená",J136,0) -> 0 | BH136: =IF(N136="zníž. prenesená",J136,0) -> 0 | BI136: =IF(N136="nulová",J136,0) -> 0 | BJ136: 2 | BK136: =ROUND(I136*H136,3) -> 0 | BL136: 4 | BM136: 20
D137: D | E137: D4 | F137: SPEVNENÉ PLOCHY | P137: =SUM(P138:P139) -> 0 | R137: =SUM(R138:R139) -> 6.009 | T137: =SUM(T138:T139) -> 0 | V137: =H137*I137 -> 0 | AR137: 1 | AT137: D | AU137: 1 | AY137: ROZPOCET | BK137: =SUM(BK138:BK139) -> 0
C138: 11 | D138: K | E138: 567141111 | F138: Podklad z betónu prostého triedy C8/10 hrúbky 210 mm | G138: m2 | H138: 3 | N138: znížená | O138: 0 | P138: =O138*H138 -> 0 | Q138: 1.32 | R138: =Q138*H138 -> 3.96 | S138: 0 | T138: =S138*H138 -> 0 | V138: =H138*I138 -> 0 | AR138: 4 | AT138: K | AU138: 2 | AY138: ROZPOCET | BE138: =IF(N138="základná",J138,0) -> 0 | BF138: =IF(N138="znížená",J138,0) -> 0 | BG138: =IF(N138="zákl. prenesená",J138,0) -> 0 | BH138: =IF(N138="zníž. prenesená",J138,0) -> 0 | BI138: =IF(N138="nulová",J138,0) -> 0 | BJ138: 2 | BK138: =ROUND(I138*H138,3) -> 0 | BL138: 4 | BM138: 22
C139: 12 | D139: K | E139: 577181126 | F139: Betón asfaltový s rozprestretím a zhutnením, po zhutnení, tr.I lôžkový (ABL) hr.90 mm | G139: m2 | H139: 3 | N139: znížená | O139: 0 | P139: =O139*H139 -> 0 | Q139: 0.683 | R139: =Q139*H139 -> 2.049 | S139: 0 | T139: =S139*H139 -> 0 | V139: =H139*I139 -> 0 | AR139: 4 | AT139: K | AU139: 2 | AY139: ROZPOCET | BE139: =IF(N139="základná",J139,0) -> 0 | BF139: =IF(N139="znížená",J139,0) -> 0 | BG139: =IF(N139="zákl. prenesená",J139,0) -> 0 | BH139: =IF(N139="zníž. prenesená",J139,0) -> 0 | BI139: =IF(N139="nulová",J139,0) -> 0 | BJ139: 2 | BK139: =ROUND(I139*H139,3) -> 0 | BL139: 4 | BM139: 24
D140: D | E140: D5 | F140: OSTATNÉ PRÁCE | P140: =SUM(P141:P145) -> 0 | R140: =SUM(R141:R145) -> 0 | T140: =SUM(T141:T145) -> 0 | V140: =H140*I140 -> 0 | AR140: 1 | AT140: D | AU140: 1 | AY140: ROZPOCET | BK140: =SUM(BK141:BK145) -> 0
C141: 13 | D141: K | E141: 979089211 | F141: Poplatok za skládku odpadov zo stavieb a demolácií - bitúmenové zmesi obsahujúce uhoľný decht kategórie "N" - nebezpečné 17 03 01 | G141: t | H141: 1 | N141: znížená | O141: 0 | P141: =O141*H141 -> 0 | Q141: 0 | R141: =Q141*H141 -> 0 | S141: 0 | T141: =S141*H141 -> 0 | V141: =H141*I141 -> 0 | AR141: 4 | AT141: K | AU141: 2 | AY141: ROZPOCET | BE141: =IF(N141="základná",J141,0) -> 0 | BF141: =IF(N141="znížená",J141,0) -> 0 | BG141: =IF(N141="zákl. prenesená",J141,0) -> 0 | BH141: =IF(N141="zníž. prenesená",J141,0) -> 0 | BI141: =IF(N141="nulová",J141,0) -> 0 | BJ141: 2 | BK141: =ROUND(I141*H141,3) -> 0 | BL141: 4 | BM141: 26
C142: 14 | D142: K | E142: 919735112 | F142: Rezanie existujúceho živičného krytu alebo podkladu hľbky nad 50 do 100 mm | G142: m | H142: 8 | N142: znížená | O142: 0 | P142: =O142*H142 -> 0 | Q142: 0 | R142: =Q142*H142 -> 0 | S142: 0 | T142: =S142*H142 -> 0 | V142: =H142*I142 -> 0 | AR142: 4 | AT142: K | AU142: 2 | AY142: ROZPOCET | BE142: =IF(N142="základná",J142,0) -> 0 | BF142: =IF(N142="znížená",J142,0) -> 0 | BG142: =IF(N142="zákl. prenesená",J142,0) -> 0 | BH142: =IF(N142="zníž. prenesená",J142,0) -> 0 | BI142: =IF(N142="nulová",J142,0) -> 0 | BJ142: 2 | BK142: =ROUND(I142*H142,3) -> 0 | BL142: 4 | BM142: 28
C143: 15 | D143: K | E143: 979084216 | F143: Vodorovná doprava vybúraných hmôt po suchu bez naloženia, ale so zložením na vzdialenosť do 5 km | G143: t | H143: 1 | N143: znížená | O143: 0 | P143: =O143*H143 -> 0 | Q143: 0 | R143: =Q143*H143 -> 0 | S143: 0 | T143: =S143*H143 -> 0 | V143: =H143*I143 -> 0 | AR143: 4 | AT143: K | AU143: 2 | AY143: ROZPOCET | BE143: =IF(N143="základná",J143,0) -> 0 | BF143: =IF(N143="znížená",J143,0) -> 0 | BG143: =IF(N143="zákl. prenesená",J143,0) -> 0 | BH143: =IF(N143="zníž. prenesená",J143,0) -> 0 | BI143: =IF(N143="nulová",J143,0) -> 0 | BJ143: 2 | BK143: =ROUND(I143*H143,3) -> 0 | BL143: 4 | BM143: 30
C144: 16 | D144: K | E144: 979084219 | F144: Príplatok k cene za každých ďalších aj začatých 5 km nad 5 km | G144: t | H144: 1 | N144: znížená | O144: 0 | P144: =O144*H144 -> 0 | Q144: 0 | R144: =Q144*H144 -> 0 | S144: 0 | T144: =S144*H144 -> 0 | V144: =H144*I144 -> 0 | AR144: 4 | AT144: K | AU144: 2 | AY144: ROZPOCET | BE144: =IF(N144="základná",J144,0) -> 0 | BF144: =IF(N144="znížená",J144,0) -> 0 | BG144: =IF(N144="zákl. prenesená",J144,0) -> 0 | BH144: =IF(N144="zníž. prenesená",J144,0) -> 0 | BI144: =IF(N144="nulová",J144,0) -> 0 | BJ144: 2 | BK144: =ROUND(I144*H144,3) -> 0 | BL144: 4 | BM144: 32
C145: 17 | D145: K | E145: 979087213 | F145: Nakladanie na dopravné prostriedky pre vodorovnú dopravu vybúraných hmôt | G145: t | H145: 1 | N145: znížená | O145: 0 | P145: =O145*H145 -> 0 | Q145: 0 | R145: =Q145*H145 -> 0 | S145: 0 | T145: =S145*H145 -> 0 | V145: =H145*I145 -> 0 | AR145: 4 | AT145: K | AU145: 2 | AY145: ROZPOCET | BE145: =IF(N145="základná",J145,0) -> 0 | BF145: =IF(N145="znížená",J145,0) -> 0 | BG145: =IF(N145="zákl. prenesená",J145,0) -> 0 | BH145: =IF(N145="zníž. prenesená",J145,0) -> 0 | BI145: =IF(N145="nulová",J145,0) -> 0 | BJ145: 2 | BK145: =ROUND(I145*H145,3) -> 0 | BL145: 4 | BM145: 34
D146: D | E146: D6 | F146: Montážne práce | P146: =P147 -> 0 | R146: =R147 -> 5133.125 | T146: =T147 -> 0 | V146: =H146*I146 -> 0 | AR146: 3 | AT146: D | AU146: 0 | AY146: ROZPOCET | BK146: =BK147 -> 0
D147: D | E147: D7 | F147: M-23 MONTÁŽ PRIEMYSELNÉHO POTRUBIA | P147: =SUM(P148:P175) -> 0 | R147: =SUM(R148:R175) -> 5133.125 | T147: =SUM(T148:T175) -> 0 | V147: =H147*I147 -> 0 | AR147: 3 | AT147: D | AU147: 1 | AY147: ROZPOCET | BK147: =SUM(BK148:BK175) -> 0
C148: 18 | D148: K | E148: P o n u k a | F148: Ostrý prepoj vsadenie T kus do potrubia balonovanie obtok USTR 80/90 Technlogický postup na SPP | G148: KPL | H148: 1 | N148: znížená | O148: 0 | P148: =O148*H148 -> 0 | Q148: 0 | R148: =Q148*H148 -> 0 | S148: 0 | T148: =S148*H148 -> 0 | V148: =H148*I148 -> 0 | AR148: 64 | AT148: K | AU148: 2 | AY148: ROZPOCET | BE148: =IF(N148="základná",J148,0) -> 0 | BF148: =IF(N148="znížená",J148,0) -> 0 | BG148: =IF(N148="zákl. prenesená",J148,0) -> 0 | BH148: =IF(N148="zníž. prenesená",J148,0) -> 0 | BI148: =IF(N148="nulová",J148,0) -> 0 | BJ148: 2 | BK148: =ROUND(I148*H148,3) -> 0 | BL148: 64 | BM148: 36
C149: 19 | D149: K | E149: 230180027 | F149: Montáž potrubia z plastických rúr PE, PP D x t 90 | G149: m | H149: 325 | N149: znížená | O149: 0 | P149: =O149*H149 -> 0 | Q149: 0 | R149: =Q149*H149 -> 0 | S149: 0 | T149: =S149*H149 -> 0 | V149: =H149*I149 -> 0 | AR149: 64 | AT149: K | AU149: 2 | AY149: ROZPOCET | BE149: =IF(N149="základná",J149,0) -> 0 | BF149: =IF(N149="znížená",J149,0) -> 0 | BG149: =IF(N149="zákl. prenesená",J149,0) -> 0 | BH149: =IF(N149="zníž. prenesená",J149,0) -> 0 | BI149: =IF(N149="nulová",J149,0) -> 0 | BJ149: 2 | BK149: =ROUND(I149*H149,3) -> 0 | BL149: 64 | BM149: 38
C150: 20 | D150: K | E150: 230201001 | F150: Montáž potrubia z plastických rúr PE, PP D x t 63 | G150: m | H150: 47 | N150: znížená | O150: 0 | P150: =O150*H150 -> 0 | Q150: 0 | R150: =Q150*H150 -> 0 | S150: 0 | T150: =S150*H150 -> 0 | V150: =H150*I150 -> 0 | AR150: 64 | AT150: K | AU150: 2 | AY150: ROZPOCET | BE150: =IF(N150="základná",J150,0) -> 0 | BF150: =IF(N150="znížená",J150,0) -> 0 | BG150: =IF(N150="zákl. prenesená",J150,0) -> 0 | BH150: =IF(N150="zníž. prenesená",J150,0) -> 0 | BI150: =IF(N150="nulová",J150,0) -> 0 | BJ150: 2 | BK150: =ROUND(I150*H150,3) -> 0 | BL150: 64 | BM150: 40
C151: 21 | D151: K | E151: 230200004 | F151: Montáž prípojok zvaranim D 32 | G151: m | H151: 139 | N151: znížená | O151: 0 | P151: =O151*H151 -> 0 | Q151: 0 | R151: =Q151*H151 -> 0 | S151: 0 | T151: =S151*H151 -> 0 | V151: =H151*I151 -> 0 | AR151: 64 | AT151: K | AU151: 2 | AY151: ROZPOCET | BE151: =IF(N151="základná",J151,0) -> 0 | BF151: =IF(N151="znížená",J151,0) -> 0 | BG151: =IF(N151="zákl. prenesená",J151,0) -> 0 | BH151: =IF(N151="zníž. prenesená",J151,0) -> 0 | BI151: =IF(N151="nulová",J151,0) -> 0 | BJ151: 2 | BK151: =ROUND(I151*H151,3) -> 0 | BL151: 64 | BM151: 42
C152: 22 | D152: K | E152: 230203245 | F152: Montáž potrubia pripojovacej arm. DAA 90/32 | G152: kus | H152: 17 | N152: znížená | O152: 0 | P152: =O152*H152 -> 0 | Q152: 0 | R152: =Q152*H152 -> 0 | S152: 0 | T152: =S152*H152 -> 0 | V152: =H152*I152 -> 0 | AR152: 64 | AT152: K | AU152: 2 | AY152: ROZPOCET | BE152: =IF(N152="základná",J152,0) -> 0 | BF152: =IF(N152="znížená",J152,0) -> 0 | BG152: =IF(N152="zákl. prenesená",J152,0) -> 0 | BH152: =IF(N152="zníž. prenesená",J152,0) -> 0 | BI152: =IF(N152="nulová",J152,0) -> 0 | BJ152: 2 | BK152: =ROUND(I152*H152,3) -> 0 | BL152: 64 | BM152: 44
C153: 23 | D153: K | E153: 230180039 | F153: Montáž potrubia pripojovacej arm. DAA 63/32 | G153: m | H153: 4 | N153: znížená | O153: 0 | P153: =O153*H153 -> 0 | Q153: 0 | R153: =Q153*H153 -> 0 | S153: 0 | T153: =S153*H153 -> 0 | V153: =H153*I153 -> 0 | AR153: 64 | AT153: K | AU153: 2 | AY153: ROZPOCET | BE153: =IF(N153="základná",J153,0) -> 0 | BF153: =IF(N153="znížená",J153,0) -> 0 | BG153: =IF(N153="zákl. prenesená",J153,0) -> 0 | BH153: =IF(N153="zníž. prenesená",J153,0) -> 0 | BI153: =IF(N153="nulová",J153,0) -> 0 | BJ153: 2 | BK153: =ROUND(I153*H153,3) -> 0 | BL153: 64 | BM153: 46
C154: 24 | D154: K | E154: 230203595 | F154: Montáž prechodky USTN 32/25 | G154: m | H154: 21 | N154: znížená | O154: 0 | P154: =O154*H154 -> 0 | Q154: 0 | R154: =Q154*H154 -> 0 | S154: 0 | T154: =S154*H154 -> 0 | V154: =H154*I154 -> 0 | AR154: 64 | AT154: K | AU154: 2 | AY154: ROZPOCET | BE154: =IF(N154="základná",J154,0) -> 0 | BF154: =IF(N154="znížená",J154,0) -> 0 | BG154: =IF(N154="zákl. prenesená",J154,0) -> 0 | BH154: =IF(N154="zníž. prenesená",J154,0) -> 0 | BI154: =IF(N154="nulová",J154,0) -> 0 | BJ154: 2 | BK154: =ROUND(I154*H154,3) -> 0 | BL154: 64 | BM154: 48
C155: 25 | D155: K | E155: 230203182 | F155: Montáž kolena W 90 D 32 | G155: m | H155: 21 | N155: znížená | O155: 0 | P155: =O155*H155 -> 0 | Q155: 0 | R155: =Q155*H155 -> 0 | S155: 0 | T155: =S155*H155 -> 0 | V155: =H155*I155 -> 0 | AR155: 64 | AT155: K | AU155: 2 | AY155: ROZPOCET | BE155: =IF(N155="základná",J155,0) -> 0 | BF155: =IF(N155="znížená",J155,0) -> 0 | BG155: =IF(N155="zákl. prenesená",J155,0) -> 0 | BH155: =IF(N155="zníž. prenesená",J155,0) -> 0 | BI155: =IF(N155="nulová",J155,0) -> 0 | BJ155: 2 | BK155: =ROUND(I155*H155,3) -> 0 | BL155: 64 | BM155: 50
C156: 26 | D156: K | E156: 230203966 | F156: Montáž klenutého dna MV D 63 | G156: ks | H156: 1 | N156: znížená | O156: 0 | P156: =O156*H156 -> 0 | Q156: 0 | R156: =Q156*H156 -> 0 | S156: 0 | T156: =S156*H156 -> 0 | V156: =H156*I156 -> 0 | AR156: 64 | AT156: K | AU156: 2 | AY156: ROZPOCET | BE156: =IF(N156="základná",J156,0) -> 0 | BF156: =IF(N156="znížená",J156,0) -> 0 | BG156: =IF(N156="zákl. prenesená",J156,0) -> 0 | BH156: =IF(N156="zníž. prenesená",J156,0) -> 0 | BI156: =IF(N156="nulová",J156,0) -> 0 | BJ156: 2 | BK156: =ROUND(I156*H156,3) -> 0 | BL156: 64 | BM156: 52
C157: 27 | D157: K | E157: 1 | F157: Práce revízneho technika, revízna správa | G157: kpl | H157: 1 | N157: znížená | O157: 0 | P157: =O157*H157 -> 0 | Q157: 0 | R157: =Q157*H157 -> 0 | S157: 0 | T157: =S157*H157 -> 0 | V157: =H157*I157 -> 0 | AR157: 64 | AT157: K | AU157: 2 | AY157: ROZPOCET | BE157: =IF(N157="základná",J157,0) -> 0 | BF157: =IF(N157="znížená",J157,0) -> 0 | BG157: =IF(N157="zákl. prenesená",J157,0) -> 0 | BH157: =IF(N157="zníž. prenesená",J157,0) -> 0 | BI157: =IF(N157="nulová",J157,0) -> 0 | BJ157: 2 | BK157: =ROUND(I157*H157,3) -> 0 | BL157: 64 | BM157: 54
C158: 28 | D158: K | E158: 2 | F158: Úradná skúška TISR | G158: kpl | H158: 1 | N158: znížená | O158: 0 | P158: =O158*H158 -> 0 | Q158: 0 | R158: =Q158*H158 -> 0 | S158: 0 | T158: =S158*H158 -> 0 | V158: =H158*I158 -> 0 | AR158: 64 | AT158: K | AU158: 2 | AY158: ROZPOCET | BE158: =IF(N158="základná",J158,0) -> 0 | BF158: =IF(N158="znížená",J158,0) -> 0 | BG158: =IF(N158="zákl. prenesená",J158,0) -> 0 | BH158: =IF(N158="zníž. prenesená",J158,0) -> 0 | BI158: =IF(N158="nulová",J158,0) -> 0 | BJ158: 2 | BK158: =ROUND(I158*H158,3) -> 0 | BL158: 64 | BM158: 56
C159: 29 | D159: K | E159: 3 | F159: Porealizačné zameranie | G159: kpl | H159: 1 | N159: znížená | O159: 0 | P159: =O159*H159 -> 0 | Q159: 0 | R159: =Q159*H159 -> 0 | S159: 0 | T159: =S159*H159 -> 0 | V159: =H159*I159 -> 0 | AR159: 64 | AT159: K | AU159: 2 | AY159: ROZPOCET | BE159: =IF(N159="základná",J159,0) -> 0 | BF159: =IF(N159="znížená",J159,0) -> 0 | BG159: =IF(N159="zákl. prenesená",J159,0) -> 0 | BH159: =IF(N159="zníž. prenesená",J159,0) -> 0 | BI159: =IF(N159="nulová",J159,0) -> 0 | BJ159: 2 | BK159: =ROUND(I159*H159,3) -> 0 | BL159: 64 | BM159: 58
... C175: 45 | D175: K | E175: 2862164260 | F175: Montáž vodiča | G175: m | H175: 536 | N175: znížená | O175: 0 | P175: =O175*H175 -> 0 | Q175: 2.519 | R175: =Q175*H175 -> 1350.184 | S175: 0 | T175: =S175*H175 -> 0 | V175: =H175*I175 -> 0 | AR175: 64 | AT175: K | AU175: 2 | AY175: ROZPOCET | BE175: =IF(N175="základná",J175,0) -> 0 | BF175: =IF(N175="znížená",J175,0) -> 0 | BG175: =IF(N175="zákl. prenesená",J175,0) -> 0 | BH175: =IF(N175="zníž. prenesená",J175,0) -> 0 | BI175: =IF(N175="nulová",J175,0) -> 0 | BJ175: 2 | BK175: =ROUND(I175*H175,3) -> 0 | BL175: 64 | BM175: 90
C176: 19 | D176: K | E176: 998276101 | F176: Presun hmôt | G176: t | H176: 235.62 | V176: =H176*I176 -> 0

Sheet 06.1 - SO 06.1 - Odberné ...
L2: >> skryté stĺpce << | AT2: {a6cd625f-8ce9-40db-ba6e-4d463a9b17ae}
AT3: 0
D4: KRYCÍ LIST VÝKAZU VÝMER | M4: v --- nižšie sa nachádzajú doplnkové a pomocné údaje k zostavám --- v | AT4: False
D6: Stavba:
E7: ='Rekapitulácia stavby'!K6 -> IBV KRAKOVANY - STARÉ KONOPISKO - 1.ETAPA
D8: Objekt:
E9: 06 - SO 06 - NN rozvody
D10: Časť:
E11: 06.1 - SO 06.1 - Odberné elektrické zariadenia
D13: JKSO: | F13: 828 73 | I13: KS: | J13: 2224
D14: Miesto: | I14: Dátum: | J14: ='Rekapitulácia stavby'!AN8 -> 12. 9. 2020
D16: Objednávateľ: | I16: IČO:
E17: Obec Krakovany, Námestie Sv. Mikuláša 406/4 | I17: IČ DPH:
D19: Zhotoviteľ: | I19: IČO: | J19: ='Rekapitulácia stavby'!AN13
E20: ='Rekapitulácia stavby'!E14 | I20: IČ DPH: | J20: ='Rekapitulácia stavby'!AN14
D22: Projektant: | I22: IČO: | J22: =IF('Rekapitulácia stavby'!AN16="","",'Rekapitulácia stavby'!AN16)
E23: =IF('Rekapitulácia stavby'!E17="","",'Rekapitulácia stavby'!E17) | I23: IČ DPH: | J23: =IF('Rekapitulácia stavby'!AN17="","",'Rekapitulácia stavby'!AN17)
D25: Spracovateľ: | I25: IČO: | J25: =IF('Rekapitulácia stavby'!AN19="","",'Rekapitulácia stavby'!AN19)
E26: =IF('Rekapitulácia stavby'!E20="","",'Rekapitulácia stavby'!E20) | I26: IČ DPH: | J26: =IF('Rekapitulácia stavby'!AN20="","",'Rekapitulácia stavby'!AN20)
D28: Poznámka:
D32: Cena bez DPH | J32: =ROUND(J124, 2) -> 0
F34: Základ dane | I34: Sadzba dane | J34: Výška dane
D35: DPH | E35: základná | F35: =ROUND((SUM(BE124:BE152)), 2) -> 0 | I35: 0.2 | J35: =ROUND(((SUM(BE124:BE152))*I35), 2) -> 0
E36: znížená | F36: =ROUND((SUM(BF124:BF152)), 2) -> 0 | I36: 0.2 | J36: =ROUND(((SUM(BF124:BF152))*I36), 2) -> 0
E37: zákl. prenesená | F37: =ROUND((SUM(BG124:BG152)), 2) -> 0 | I37: 0.2 | J37: =0 -> 0
E38: zníž. prenesená | F38: =ROUND((SUM(BH124:BH152)), 2) -> 0 | I38: 0.2 | J38: =0 -> 0
E39: nulová | F39: =ROUND((SUM(BI124:BI152)), 2) -> 0 | I39: 0 | J39: =0 -> 0
D41: Cena s DPH | G41: v | H41: EUR | J41: =SUM(J32:J39) -> 0
D50: Projektant | G50: Spracovateľ
D61: Dátum a podpis: | F61: Pečiatka | G61: Dátum a podpis: | J61: Pečiatka
D65: Objednávateľ | G65: Zhotoviteľ
D76: Dátum a podpis: | F76: Pečiatka | G76: Dátum a podpis: | J76: Pečiatka
C82: REKAPITULÁCIA VÝKAZU VÝMER
C84: Stavba:
E85: =E7 -> IBV KRAKOVANY - STARÉ KONOPISKO - 1.ETAPA
C86: Objekt:
E87: 06 - SO 06 - NN rozvody
C88: Časť:
E89: =E11 -> 06.1 - SO 06.1 - Odberné elektrické zariadenia
C91: Miesto: | F91: =F14 | I91: Dátum: | J91: =IF(J14="","",J14) -> 12. 9. 2020
C93: Objednávateľ: | F93: =E17 -> Obec Krakovany, Námestie Sv. Mikuláša 406/4 | I93: Projektant: | J93: =E23
C94: Zhotoviteľ: | F94: =IF(E20="","",E20) | I94: Spracovateľ: | J94: =E26
C96: Kód dielu - Popis | J96: Cena celkom [EUR]
C98: Náklady z rozpočtu | J98: =J124 -> 0 | AU98: -1
D99: M - Práce a dodávky M | J99: =J125 -> 0
D100: 21-M - Elektromontáže | J100: =J126 -> 0
D101: 46-M - Zemné práce pri extr.mont.prácach | J101: =J137 -> 0
D102: HZS - Hodinové zúčtovacie sadzby | J102: =J151 -> 0
C109: VÝKAZ VÝMER
C111: Stavba:
E112: =E7 -> IBV KRAKOVANY - STARÉ KONOPISKO - 1.ETAPA
C113: Objekt:
E114: 06 - SO 06 - NN rozvody
C115: Časť:
E116: =E11 -> 06.1 - SO 06.1 - Odberné elektrické zariadenia
C118: Miesto: | F118: =F14 | I118: Dátum: | J118: =IF(J14="","",J14) -> 12. 9. 2020
C120: Objednávateľ: | F120: =E17 -> Obec Krakovany, Námestie Sv. Mikuláša 406/4 | I120: Projektant: | J120: =E23
C121: Zhotoviteľ: | F121: =IF(E20="","",E20) | I121: Spracovateľ: | J121: =E26
C123: PČ | D123: Typ | E123: Kód | F123: Popis | G123: MJ | H123: Množstvo | I123: J.cena [EUR] | J123: Cena celkom [EUR] | K123: Cenová sústava | N123: DPH | O123: J. Nh [h] | P123: Nh celkom [h] | Q123: J. hmotnosť [t] | R123: Hmotnosť celkom [t] | S123: J. suť [t] | T123: Suť Celkom [t]
C124: Náklady z rozpočtu | P124: =P125+P151 -> 344.37846 | R124: =R125+R151 -> 74.26491 | T124: =T125+T151 -> 0 | V124: =SUM(V127:V152) -> 0 | AT124: D | AU124: -1 | BK124: =BK125+BK151 -> 0
D125: D | E125: M | F125: Práce a dodávky M | P125: =P126+P137 -> 318.93846 | R125: =R126+R137 -> 74.26491 | T125: =T126+T137 -> 0 | AR125: 3 | AT125: D | AU125: 0 | AY125: ROZPOCET | BK125: =BK126+BK137 -> 0
D126: D | E126: 21-M | F126: Elektromontáže | P126: =SUM(P127:P136) -> 107.62 | R126: =SUM(R127:R136) -> 1.07256 | T126: =SUM(T127:T136) -> 0 | AR126: 3 | AT126: D | AU126: 1 | AY126: ROZPOCET | BK126: =SUM(BK127:BK136) -> 0
C127: 1 | D127: K | E127: 210100252 | F127: Ukončenie celoplastových káblov zmrašť. záklopkou alebo páskou do 4 x 25 mm2 | G127: ks | H127: 44 | N127: znížená | O127: 0.467 | P127: =O127*H127 -> 20.548 | Q127: 0 | R127: =Q127*H127 -> 0 | S127: 0 | T127: =S127*H127 -> 0 | V127: =H127*I127 -> 0 | AR127: 64 | AT127: K | AU127: 2 | AY127: ROZPOCET | BE127: =IF(N127="základná",J127,0) -> 0 | BF127: =IF(N127="znížená",J127,0) -> 0 | BG127: =IF(N127="zákl. prenesená",J127,0) -> 0 | BH127: =IF(N127="zníž. prenesená",J127,0) -> 0 | BI127: =IF(N127="nulová",J127,0) -> 0 | BJ127: 2 | BK127: =ROUND(I127*H127,3) -> 0 | BL127: 64 | BM127: 1250229845
C128: 2 | D128: M | E128: 345810007500 | F128: Zmršťovacia káblová koncovka VE3512 4x6 - 4x25 mm2 | G128: ks | H128: 44 | N128: znížená | O128: 0 | P128: =O128*H128 -> 0 | Q128: 6e-05 | R128: =Q128*H128 -> 0.00264 | S128: 0 | T128: =S128*H128 -> 0 | V128: =H128*I128 -> 0 | AR128: 256 | AT128: M | AU128: 2 | AY128: ROZPOCET | BE128: =IF(N128="základná",J128,0) -> 0 | BF128: =IF(N128="znížená",J128,0) -> 0 | BG128: =IF(N128="zákl. prenesená",J128,0) -> 0 | BH128: =IF(N128="zníž. prenesená",J128,0) -> 0 | BI128: =IF(N128="nulová",J128,0) -> 0 | BJ128: 2 | BK128: =ROUND(I128*H128,3) -> 0 | BL128: 64 | BM128: -32831265
C129: 3 | D129: K | E129: 210100003 | F129: Ukončenie vodičov v rozvádzač. vrátane zapojenia a vodičovej koncovky do 16 mm2 | G129: ks | H129: 66 | N129: znížená | O129: 0.077 | P129: =O129*H129 -> 5.082 | Q129: 0 | R129: =Q129*H129 -> 0 | S129: 0 | T129: =S129*H129 -> 0 | V129: =H129*I129 -> 0 | AR129: 64 | AT129: K | AU129: 2 | AY129: ROZPOCET | BE129: =IF(N129="základná",J129,0) -> 0 | BF129: =IF(N129="znížená",J129,0) -> 0 | BG129: =IF(N129="zákl. prenesená",J129,0) -> 0 | BH129: =IF(N129="zníž. prenesená",J129,0) -> 0 | BI129: =IF(N129="nulová",J129,0) -> 0 | BJ129: 2 | BK129: =ROUND(I129*H129,3) -> 0 | BL129: 64 | BM129: 1440034003
C130: 4 | D130: M | E130: 354310012900 | F130: Káblové oko hliníkové lisovacie 16 AL 617055 | G130: ks | H130: 66 | N130: znížená | O130: 0 | P130: =O130*H130 -> 0 | Q130: 1e-05 | R130: =Q130*H130 -> 0.00066 | S130: 0 | T130: =S130*H130 -> 0 | V130: =H130*I130 -> 0 | AR130: 256 | AT130: M | AU130: 2 | AY130: ROZPOCET | BE130: =IF(N130="základná",J130,0) -> 0 | BF130: =IF(N130="znížená",J130,0) -> 0 | BG130: =IF(N130="zákl. prenesená",J130,0) -> 0 | BH130: =IF(N130="zníž. prenesená",J130,0) -> 0 | BI130: =IF(N130="nulová",J130,0) -> 0 | BJ130: 2 | BK130: =ROUND(I130*H130,3) -> 0 | BL130: 64 | BM130: -1457925091
C131: 5 | D131: K | E131: 210194053 | F131: Skriňa ER plastová, trojfázová, jednotarifná 1 odberateľ pre vonkajšie práce | G131: ks | H131: 21 | N131: znížená | O131: 1.2 | P131: =O131*H131 -> 25.2 | Q131: 0 | R131: =Q131*H131 -> 0 | S131: 0 | T131: =S131*H131 -> 0 | V131: =H131*I131 -> 0 | AR131: 64 | AT131: K | AU131: 2 | AY131: ROZPOCET | BE131: =IF(N131="základná",J131,0) -> 0 | BF131: =IF(N131="znížená",J131,0) -> 0 | BG131: =IF(N131="zákl. prenesená",J131,0) -> 0 | BH131: =IF(N131="zníž. prenesená",J131,0) -> 0 | BI131: =IF(N131="nulová",J131,0) -> 0 | BJ131: 2 | BK131: =ROUND(I131*H131,3) -> 0 | BL131: 64 | BM131: 540468857
C132: 6 | D132: M | E132: 357120019400 | F132: Skriňa elektromerová RE 2.0-F403 (W), 1 x hlavný trojpólový istič B16, 20, resp.25, nulový mostík, možnosť doplnenia HDO | G132: ks | H132: 21 | N132: znížená | O132: 0 | P132: =O132*H132 -> 0 | Q132: 0.025 | R132: =Q132*H132 -> 0.525 | S132: 0 | T132: =S132*H132 -> 0 | V132: =H132*I132 -> 0 | AR132: 256 | AT132: M | AU132: 2 | AY132: ROZPOCET | BE132: =IF(N132="základná",J132,0) -> 0 | BF132: =IF(N132="znížená",J132,0) -> 0 | BG132: =IF(N132="zákl. prenesená",J132,0) -> 0 | BH132: =IF(N132="zníž. prenesená",J132,0) -> 0 | BI132: =IF(N132="nulová",J132,0) -> 0 | BJ132: 2 | BK132: =ROUND(I132*H132,3) -> 0 | BL132: 64 | BM132: 242673767
C133: 7 | D133: K | E133: 210120102 | F133: Poistkový náboj vrátane montáže nožový náboj do 500 V | G133: ks | H133: 66 | N133: znížená | O133: 0.015 | P133: =O133*H133 -> 0.99 | Q133: 0 | R133: =Q133*H133 -> 0 | S133: 0 | T133: =S133*H133 -> 0 | V133: =H133*I133 -> 0 | AR133: 64 | AT133: K | AU133: 2 | AY133: ROZPOCET | BE133: =IF(N133="základná",J133,0) -> 0 | BF133: =IF(N133="znížená",J133,0) -> 0 | BG133: =IF(N133="zákl. prenesená",J133,0) -> 0 | BH133: =IF(N133="zníž. prenesená",J133,0) -> 0 | BI133: =IF(N133="nulová",J133,0) -> 0 | BJ133: 2 | BK133: =ROUND(I133*H133,3) -> 0 | BL133: 64 | BM133: -1906915987
C134: 8 | D134: M | E134: 345290004800 | F134: Poistková vložka PNA000 32A gG, Un AC 500 V/DC 250 V, veľkosť 000, gG | G134: ks | H134: 66 | N134: znížená | O134: 0 | P134: =O134*H134 -> 0 | Q134: 0.00013 | R134: =Q134*H134 -> 0.00858 | S134: 0 | T134: =S134*H134 -> 0 | V134: =H134*I134 -> 0 | AR134: 256 | AT134: M | AU134: 2 | AY134: ROZPOCET | BE134: =IF(N134="základná",J134,0) -> 0 | BF134: =IF(N134="znížená",J134,0) -> 0 | BG134: =IF(N134="zákl. prenesená",J134,0) -> 0 | BH134: =IF(N134="zníž. prenesená",J134,0) -> 0 | BI134: =IF(N134="nulová",J134,0) -> 0 | BJ134: 2 | BK134: =ROUND(I134*H134,3) -> 0 | BL134: 64 | BM134: -742299041
C135: 9 | D135: K | E135: 210902361 | F135: Vodič hliníkový silový, uložený pevne NAYY 0,6/1 kV 4x16 | G135: m | H135: 558 | N135: znížená | O135: 0.1 | P135: =O135*H135 -> 55.8 | Q135: 0 | R135: =Q135*H135 -> 0 | S135: 0 | T135: =S135*H135 -> 0 | V135: =H135*I135 -> 0 | AR135: 64 | AT135: K | AU135: 2 | AY135: ROZPOCET | BE135: =IF(N135="základná",J135,0) -> 0 | BF135: =IF(N135="znížená",J135,0) -> 0 | BG135: =IF(N135="zákl. prenesená",J135,0) -> 0 | BH135: =IF(N135="zníž. prenesená",J135,0) -> 0 | BI135: =IF(N135="nulová",J135,0) -> 0 | BJ135: 2 | BK135: =ROUND(I135*H135,3) -> 0 | BL135: 64 | BM135: -13655843
C136: 10 | D136: M | E136: 341110033900 | F136: Kábel hliníkový NAYY 4x16 RE mm2 | G136: m | H136: 558 | N136: znížená | O136: 0 | P136: =O136*H136 -> 0 | Q136: 0.00096 | R136: =Q136*H136 -> 0.53568 | S136: 0 | T136: =S136*H136 -> 0 | V136: =H136*I136 -> 0 | AR136: 256 | AT136: M | AU136: 2 | AY136: ROZPOCET | BE136: =IF(N136="základná",J136,0) -> 0 | BF136: =IF(N136="znížená",J136,0) -> 0 | BG136: =IF(N136="zákl. prenesená",J136,0) -> 0 | BH136: =IF(N136="zníž. prenesená",J136,0) -> 0 | BI136: =IF(N136="nulová",J136,0) -> 0 | BJ136: 2 | BK136: =ROUND(I136*H136,3) -> 0 | BL136: 64 | BM136: 1366381049
D137: D | E137: 46-M | F137: Zemné práce pri extr.mont.prácach | P137: =SUM(P138:P150) -> 211.31846 | R137: =SUM(R138:R150) -> 73.19235 | T137: =SUM(T138:T150) -> 0 | V137: =H137*I137 -> 0 | AR137: 3 | AT137: D | AU137: 1 | AY137: ROZPOCET | BK137: =SUM(BK138:BK150) -> 0
C138: 11 | D138: K | E138: 460010024 | F138: Vytýčenie trasy káblového vedenia,v zastavanom priestore | G138: km | H138: 0.35 | N138: znížená | O138: 3.398 | P138: =O138*H138 -> 1.1893 | Q138: 0 | R138: =Q138*H138 -> 0 | S138: 0 | T138: =S138*H138 -> 0 | V138: =H138*I138 -> 0 | AR138: 64 | AT138: K | AU138: 2 | AY138: ROZPOCET | BE138: =IF(N138="základná",J138,0) -> 0 | BF138: =IF(N138="znížená",J138,0) -> 0 | BG138: =IF(N138="zákl. prenesená",J138,0) -> 0 | BH138: =IF(N138="zníž. prenesená",J138,0) -> 0 | BI138: =IF(N138="nulová",J138,0) -> 0 | BJ138: 2 | BK138: =ROUND(I138*H138,3) -> 0 | BL138: 64 | BM138: 276154165
C139: 12 | D139: M | E139: 5839500600 | F139: Značka meračská povrch m 1 I/1 | G139: ks | H139: 21 | N139: znížená | O139: 0 | P139: =O139*H139 -> 0 | Q139: 0.025 | R139: =Q139*H139 -> 0.525 | S139: 0 | T139: =S139*H139 -> 0 | V139: =H139*I139 -> 0 | AR139: 256 | AT139: M | AU139: 2 | AY139: ROZPOCET | BE139: =IF(N139="základná",J139,0) -> 0 | BF139: =IF(N139="znížená",J139,0) -> 0 | BG139: =IF(N139="zákl. prenesená",J139,0) -> 0 | BH139: =IF(N139="zníž. prenesená",J139,0) -> 0 | BI139: =IF(N139="nulová",J139,0) -> 0 | BJ139: 2 | BK139: =ROUND(I139*H139,3) -> 0 | BL139: 64 | BM139: -2130043121
C140: 13 | D140: K | E140: 460050602 | F140: Výkop jamy pre stožiar, bet.základ, kotvu, príp. iné zar.,(vč.čerp.vody), ručný ,v zemine tr. 3 - 4 | G140: m3 | H140: 1.512 | N140: znížená | O140: 2.9211 | P140: =O140*H140 -> 4.4167032 | Q140: 0 | R140: =Q140*H140 -> 0 | S140: 0 | T140: =S140*H140 -> 0 | V140: =H140*I140 -> 0 | AR140: 64 | AT140: K | AU140: 2 | AY140: ROZPOCET | BE140: =IF(N140="základná",J140,0) -> 0 | BF140: =IF(N140="znížená",J140,0) -> 0 | BG140: =IF(N140="zákl. prenesená",J140,0) -> 0 | BH140: =IF(N140="zníž. prenesená",J140,0) -> 0 | BI140: =IF(N140="nulová",J140,0) -> 0 | BJ140: 2 | BK140: =ROUND(I140*H140,3) -> 0 | BL140: 64 | BM140: 888903764
C141: 14 | D141: K | E141: 460200163 | F141: Hĺbenie káblovej ryhy 35 cm širokej a 80 cm hlbokej, v zemine triedy 3 | G141: m | H141: 345 | N141: znížená | O141: 0.332 | P141: =O141*H141 -> 114.54 | Q141: 0 | R141: =Q141*H141 -> 0 | S141: 0 | T141: =S141*H141 -> 0 | V141: =H141*I141 -> 0 | AR141: 64 | AT141: K | AU141: 2 | AY141: ROZPOCET | BE141: =IF(N141="základná",J141,0) -> 0 | BF141: =IF(N141="znížená",J141,0) -> 0 | BG141: =IF(N141="zákl. prenesená",J141,0) -> 0 | BH141: =IF(N141="zníž. prenesená",J141,0) -> 0 | BI141: =IF(N141="nulová",J141,0) -> 0 | BJ141: 2 | BK141: =ROUND(I141*H141,3) -> 0 | BL141: 64 | BM141: 1573270814
C142: 15 | D142: K | E142: 460420351 | F142: Zriadenie káblového lôžka z piesku vrstvy 5 cm so zakrytím tehlami v smere kábla na šírku 35 cm | G142: m | H142: 345 | N142: znížená | O142: 0.06977 | P142: =O142*H142 -> 24.07065 | Q142: 0 | R142: =Q142*H142 -> 0 | S142: 0 | T142: =S142*H142 -> 0 | V142: =H142*I142 -> 0 | AR142: 64 | AT142: K | AU142: 2 | AY142: ROZPOCET | BE142: =IF(N142="základná",J142,0) -> 0 | BF142: =IF(N142="znížená",J142,0) -> 0 | BG142: =IF(N142="zákl. prenesená",J142,0) -> 0 | BH142: =IF(N142="zníž. prenesená",J142,0) -> 0 | BI142: =IF(N142="nulová",J142,0) -> 0 | BJ142: 2 | BK142: =ROUND(I142*H142,3) -> 0 | BL142: 64 | BM142: -2011231458
C143: 16 | D143: M | E143: 5833110300 | F143: Kamenivo ťažené drobné 0-1 B | G143: t | H143: 43.47 | N143: znížená | O143: 0 | P143: =O143*H143 -> 0 | Q143: 1.67 | R143: =Q143*H143 -> 72.5949 | S143: 0 | T143: =S143*H143 -> 0 | V143: =H143*I143 -> 0 | AR143: 256 | AT143: M | AU143: 2 | AY143: ROZPOCET | BE143: =IF(N143="základná",J143,0) -> 0 | BF143: =IF(N143="znížená",J143,0) -> 0 | BG143: =IF(N143="zákl. prenesená",J143,0) -> 0 | BH143: =IF(N143="zníž. prenesená",J143,0) -> 0 | BI143: =IF(N143="nulová",J143,0) -> 0 | BJ143: 2 | BK143: =ROUND(I143*H143,3) -> 0 | BL143: 64 | BM143: -1278567332
C144: 17 | D144: M | E144: 10081801 | F144: Kábl.platňa KAD 250 | G144: ks | H144: 345 | N144: znížená | O144: 0 | P144: =O144*H144 -> 0 | Q144: 0 | R144: =Q144*H144 -> 0 | S144: 0 | T144: =S144*H144 -> 0 | V144: =H144*I144 -> 0 | AR144: 256 | AT144: M | AU144: 2 | AY144: ROZPOCET | BE144: =IF(N144="základná",J144,0) -> 0 | BF144: =IF(N144="znížená",J144,0) -> 0 | BG144: =IF(N144="zákl. prenesená",J144,0) -> 0 | BH144: =IF(N144="zníž. prenesená",J144,0) -> 0 | BI144: =IF(N144="nulová",J144,0) -> 0 | BJ144: 2 | BK144: =ROUND(I144*H144,3) -> 0 | BL144: 64 | BM144: -2084773290
C145: 18 | D145: K | E145: 460560163 | F145: Ručný zásyp nezap. káblovej ryhy bez zhutn. zeminy, 35 cm širokej, 80 cm hlbokej v zemine tr. 3 | G145: m | H145: 345 | N145: znížená | O145: 0.125 | P145: =O145*H145 -> 43.125 | Q145: 0 | R145: =Q145*H145 -> 0 | S145: 0 | T145: =S145*H145 -> 0 | V145: =H145*I145 -> 0 | AR145: 64 | AT145: K | AU145: 2 | AY145: ROZPOCET | BE145: =IF(N145="základná",J145,0) -> 0 | BF145: =IF(N145="znížená",J145,0) -> 0 | BG145: =IF(N145="zákl. prenesená",J145,0) -> 0 | BH145: =IF(N145="zníž. prenesená",J145,0) -> 0 | BI145: =IF(N145="nulová",J145,0) -> 0 | BJ145: 2 | BK145: =ROUND(I145*H145,3) -> 0 | BL145: 64 | BM145: 332081865
C146: 19 | D146: K | E146: 460490011 | F146: Rozvinutie a uloženie výstražnej fólie z PVC do ryhy, šírka 22 cm | G146: m | H146: 345 | N146: znížená | O146: 0.033 | P146: =O146*H146 -> 11.385 | Q146: 0 | R146: =Q146*H146 -> 0 | S146: 0 | T146: =S146*H146 -> 0 | V146: =H146*I146 -> 0 | AR146: 64 | AT146: K | AU146: 2 | AY146: ROZPOCET | BE146: =IF(N146="základná",J146,0) -> 0 | BF146: =IF(N146="znížená",J146,0) -> 0 | BG146: =IF(N146="zákl. prenesená",J146,0) -> 0 | BH146: =IF(N146="zníž. prenesená",J146,0) -> 0 | BI146: =IF(N146="nulová",J146,0) -> 0 | BJ146: 2 | BK146: =ROUND(I146*H146,3) -> 0 | BL146: 64 | BM146: -1653249997
C147: 20 | D147: M | E147: 283230008000 | F147: Výstražná fóla PE, šxhr 300x0,1 mm, dĺ. 250 m, farba červená, HAGARD | G147: m | H147: 345 | N147: znížená | O147: 0 | P147: =O147*H147 -> 0 | Q147: 0.00021 | R147: =Q147*H147 -> 0.07245 | S147: 0 | T147: =S147*H147 -> 0 | V147: =H147*I147 -> 0 | AR147: 256 | AT147: M | AU147: 2 | AY147: ROZPOCET | BE147: =IF(N147="základná",J147,0) -> 0 | BF147: =IF(N147="znížená",J147,0) -> 0 | BG147: =IF(N147="zákl. prenesená",J147,0) -> 0 | BH147: =IF(N147="zníž. prenesená",J147,0) -> 0 | BI147: =IF(N147="nulová",J147,0) -> 0 | BJ147: 2 | BK147: =ROUND(I147*H147,3) -> 0 | BL147: 64 | BM147: 479244012
C148: 21 | D148: K | E148: 460600001 | F148: Naloženie zeminy, odvoz do 1 km a zloženie na skládke a jazda späť | G148: m3 | H148: 24.15 | N148: znížená | O148: 0.4654 | P148: =O148*H148 -> 11.23941 | Q148: 0 | R148: =Q148*H148 -> 0 | S148: 0 | T148: =S148*H148 -> 0 | V148: =H148*I148 -> 0 | AR148: 64 | AT148: K | AU148: 2 | AY148: ROZPOCET | BE148: =IF(N148="základná",J148,0) -> 0 | BF148: =IF(N148="znížená",J148,0) -> 0 | BG148: =IF(N148="zákl. prenesená",J148,0) -> 0 | BH148: =IF(N148="zníž. prenesená",J148,0) -> 0 | BI148: =IF(N148="nulová",J148,0) -> 0 | BJ148: 2 | BK148: =ROUND(I148*H148,3) -> 0 | BL148: 64 | BM148: -1488183349
C149: 22 | D149: K | E149: 460600002 | F149: Príplatok za odvoz zeminy za každý ďalší km a jazda späť | G149: m3 | H149: 458.85 | N149: znížená | O149: 0 | P149: =O149*H149 -> 0 | Q149: 0 | R149: =Q149*H149 -> 0 | S149: 0 | T149: =S149*H149 -> 0 | V149: =H149*I149 -> 0 | AR149: 64 | AT149: K | AU149: 2 | AY149: ROZPOCET | BE149: =IF(N149="základná",J149,0) -> 0 | BF149: =IF(N149="znížená",J149,0) -> 0 | BG149: =IF(N149="zákl. prenesená",J149,0) -> 0 | BH149: =IF(N149="zníž. prenesená",J149,0) -> 0 | BI149: =IF(N149="nulová",J149,0) -> 0 | BJ149: 2 | BK149: =ROUND(I149*H149,3) -> 0 | BL149: 64 | BM149: -1341907669
C150: 23 | D150: K | E150: 460300006p | F150: Zhutnenie zeminy po vrstvách pri zahrnutí rýh strojom, vrstva zeminy 40 cm | G150: m3 | H150: 96.6 | N150: znížená | O150: 0.014 | P150: =O150*H150 -> 1.3524 | Q150: 0 | R150: =Q150*H150 -> 0 | S150: 0 | T150: =S150*H150 -> 0 | V150: =H150*I150 -> 0 | AR150: 64 | AT150: K | AU150: 2 | AY150: ROZPOCET | BE150: =IF(N150="základná",J150,0) -> 0 | BF150: =IF(N150="znížená",J150,0) -> 0 | BG150: =IF(N150="zákl. prenesená",J150,0) -> 0 | BH150: =IF(N150="zníž. prenesená",J150,0) -> 0 | BI150: =IF(N150="nulová",J150,0) -> 0 | BJ150: 2 | BK150: =ROUND(I150*H150,3) -> 0 | BL150: 64 | BM150: 1070064405
D151: D | E151: HZS | F151: Hodinové zúčtovacie sadzby | P151: =P152 -> 25.44 | R151: =R152 -> 0 | T151: =T152 -> 0 | V151: =H151*I151 -> 0 | AR151: 4 | AT151: D | AU151: 0 | AY151: ROZPOCET | BK151: =BK152 -> 0
C152: 24 | D152: K | E152: HZS000114 | F152: Stavebno montážne práce najnáročnejšie na odbornosť - prehliadky pracoviska a revízie (Tr 4) v rozsahu viac ako 8 hodín | G152: hod | H152: 24 | N152: znížená | O152: 1.06 | P152: =O152*H152 -> 25.44 | Q152: 0 | R152: =Q152*H152 -> 0 | S152: 0 | T152: =S152*H152 -> 0 | V152: =H152*I152 -> 0 | AR152: 512 | AT152: K | AU152: 1 | AY152: ROZPOCET | BE152: =IF(N152="základná",J152,0) -> 0 | BF152: =IF(N152="znížená",J152,0) -> 0 | BG152: =IF(N152="zákl. prenesená",J152,0) -> 0 | BH152: =IF(N152="zníž. prenesená",J152,0) -> 0 | BI152: =IF(N152="nulová",J152,0) -> 0 | BJ152: 2 | BK152: =ROUND(I152*H152,3) -> 0 | BL152: 512 | BM152: -1960677598

Sheet 07 - SO 07 - Verejné osve...
L2: >> skryté stĺpce << | AT2: {ea2e16d5-067e-445d-86af-8cc951ffa165}
AT3: 0
D4: KRYCÍ LIST VÝKAZU VÝMER | M4: v --- nižšie sa nachádzajú doplnkové a pomocné údaje k zostavám --- v | AT4: False
D6: Stavba:
E7: ='Rekapitulácia stavby'!K6 -> IBV KRAKOVANY - STARÉ KONOPISKO - 1.ETAPA
D8: Objekt:
E9: 07 - SO 07 - Verejné osvetlenie
D11: JKSO: | F11: 828 75 | I11: KS: | J11: 2224
D12: Miesto: | I12: Dátum: | J12: ='Rekapitulácia stavby'!AN8 -> 12. 9. 2020
D14: Objednávateľ: | I14: IČO:
E15: Obec Krakovany, Námestie Sv. Mikuláša 406/4 | I15: IČ DPH:
D17: Zhotoviteľ: | I17: IČO: | J17: ='Rekapitulácia stavby'!AN13
E18: ='Rekapitulácia stavby'!E14 | I18: IČ DPH: | J18: ='Rekapitulácia stavby'!AN14
D20: Projektant: | I20: IČO: | J20: =IF('Rekapitulácia stavby'!AN16="","",'Rekapitulácia stavby'!AN16)
E21: =IF('Rekapitulácia stavby'!E17="","",'Rekapitulácia stavby'!E17) | I21: IČ DPH: | J21: =IF('Rekapitulácia stavby'!AN17="","",'Rekapitulácia stavby'!AN17)
D23: Spracovateľ: | I23: IČO: | J23: =IF('Rekapitulácia stavby'!AN19="","",'Rekapitulácia stavby'!AN19)
E24: =IF('Rekapitulácia stavby'!E20="","",'Rekapitulácia stavby'!E20) | I24: IČ DPH: | J24: =IF('Rekapitulácia stavby'!AN20="","",'Rekapitulácia stavby'!AN20)
D26: Poznámka:
D30: Cena bez DPH | J30: =ROUND(J120, 2) -> 0
F32: Základ dane | I32: Sadzba dane | J32: Výška dane
D33: DPH | E33: základná | F33: =ROUND((SUM(BE120:BE176)), 2) -> 0 | I33: 0.2 | J33: =ROUND(((SUM(BE120:BE176))*I33), 2) -> 0
E34: znížená | F34: =ROUND((SUM(BF120:BF176)), 2) -> 0 | I34: 0.2 | J34: =ROUND(((SUM(BF120:BF176))*I34), 2) -> 0
E35: zákl. prenesená | F35: =ROUND((SUM(BG120:BG176)), 2) -> 0 | I35: 0.2 | J35: =0 -> 0
E36: zníž. prenesená | F36: =ROUND((SUM(BH120:BH176)), 2) -> 0 | I36: 0.2 | J36: =0 -> 0
E37: nulová | F37: =ROUND((SUM(BI120:BI176)), 2) -> 0 | I37: 0 | J37: =0 -> 0
D39: Cena s DPH | G39: v | H39: EUR | J39: =SUM(J30:J37) -> 0
D50: Projektant | G50: Spracovateľ
D61: Dátum a podpis: | F61: Pečiatka | G61: Dátum a podpis: | J61: Pečiatka
D65: Objednávateľ | G65: Zhotoviteľ
D76: Dátum a podpis: | F76: Pečiatka | G76: Dátum a podpis: | J76: Pečiatka
C82: REKAPITULÁCIA VÝKAZU VÝMER
C84: Stavba:
E85: =E7 -> IBV KRAKOVANY - STARÉ KONOPISKO - 1.ETAPA
C86: Objekt:
E87: =E9 -> 07 - SO 07 - Verejné osvetlenie
C89: Miesto: | F89: =F12 | I89: Dátum: | J89: =IF(J12="","",J12) -> 12. 9. 2020
C91: Objednávateľ: | F91: =E15 -> Obec Krakovany, Námestie Sv. Mikuláša 406/4 | I91: Projektant: | J91: =E21
C92: Zhotoviteľ: | F92: =IF(E18="","",E18) | I92: Spracovateľ: | J92: =E24
C94: Kód dielu - Popis | J94: Cena celkom [EUR]
C96: Náklady z rozpočtu | J96: =J120 -> 0 | AU96: -1
D97: M - Práce a dodávky M | J97: =J121 -> 0
D98: 21-M - Elektromontáže | J98: =J122 -> 0
D99: 46-M - Zemné práce vykonávané pri externých montážnych prácach | J99: =J151 -> 0
D100: HZS - Hodinové zúčtovacie sadzby | J100: =J175 -> 0
C107: VÝKAZ VÝMER
C109: Stavba:
E110: =E7 -> IBV KRAKOVANY - STARÉ KONOPISKO - 1.ETAPA
C111: Objekt:
E112: =E9 -> 07 - SO 07 - Verejné osvetlenie
C114: Miesto: | F114: =F12 | I114: Dátum: | J114: =IF(J12="","",J12) -> 12. 9. 2020
C116: Objednávateľ: | F116: =E15 -> Obec Krakovany, Námestie Sv. Mikuláša 406/4 | I116: Projektant: | J116: =E21
C117: Zhotoviteľ: | F117: =IF(E18="","",E18) | I117: Spracovateľ: | J117: =E24
C119: PČ | D119: Typ | E119: Kód | F119: Popis | G119: MJ | H119: Množstvo | I119: J.cena [EUR] | J119: Cena celkom [EUR] | K119: Cenová sústava | N119: DPH | O119: J. Nh [h] | P119: Nh celkom [h] | Q119: J. hmotnosť [t] | R119: Hmotnosť celkom [t] | S119: J. suť [t] | T119: Suť Celkom [t]
C120: Náklady z rozpočtu | P120: =P121+P175 -> 575.56357 | R120: =R121+R175 -> 110.15574 | T120: =T121+T175 -> 0 | W120: =SUM(W123:W176) -> 0 | AT120: D | AU120: -1 | BK120: =BK121+BK175 -> 0
D121: D | E121: M | F121: Práce a dodávky M | P121: =P122+P151 -> 556.48357 | R121: =R122+R151 -> 110.15574 | T121: =T122+T151 -> 0 | AR121: 3 | AT121: D | AU121: 0 | AY121: ROZPOCET | BK121: =BK122+BK151 -> 0
D122: D | E122: 21-M | F122: Elektromontáže | P122: =SUM(P123:P150) -> 223.86556 | R122: =SUM(R123:R150) -> 2.619844 | T122: =SUM(T123:T150) -> 0 | AR122: 3 | AT122: D | AU122: 1 | AY122: ROZPOCET | BK122: =SUM(BK123:BK150) -> 0
C123: 1 | D123: K | E123: 210100252 | F123: Ukončenie celoplastových káblov zmrašť. záklopkou alebo páskou do 4 x 25 mm2 | G123: ks | H123: 32 | N123: znížená | O123: 0.467 | P123: =O123*H123 -> 14.944 | Q123: 0 | R123: =Q123*H123 -> 0 | S123: 0 | T123: =S123*H123 -> 0 | W123: =H123*I123 -> 0 | AR123: 64 | AT123: K | AU123: 2 | AY123: ROZPOCET | BE123: =IF(N123="základná",J123,0) -> 0 | BF123: =IF(N123="znížená",J123,0) -> 0 | BG123: =IF(N123="zákl. prenesená",J123,0) -> 0 | BH123: =IF(N123="zníž. prenesená",J123,0) -> 0 | BI123: =IF(N123="nulová",J123,0) -> 0 | BJ123: 2 | BK123: =ROUND(I123*H123,3) -> 0 | BL123: 64 | BM123: -1503123264
C124: 2 | D124: M | E124: 345810007500 | F124: Zmršťovacia káblová koncovka VE3512 4x6 - 4x25 mm2 | G124: ks | H124: 32 | N124: znížená | O124: 0 | P124: =O124*H124 -> 0 | Q124: 6e-05 | R124: =Q124*H124 -> 0.00192 | S124: 0 | T124: =S124*H124 -> 0 | W124: =H124*I124 -> 0 | AR124: 256 | AT124: M | AU124: 2 | AY124: ROZPOCET | BE124: =IF(N124="základná",J124,0) -> 0 | BF124: =IF(N124="znížená",J124,0) -> 0 | BG124: =IF(N124="zákl. prenesená",J124,0) -> 0 | BH124: =IF(N124="zníž. prenesená",J124,0) -> 0 | BI124: =IF(N124="nulová",J124,0) -> 0 | BJ124: 2 | BK124: =ROUND(I124*H124,3) -> 0 | BL124: 64 | BM124: -1665929330
C125: 3 | D125: K | E125: 210100258 | F125: Ukončenie celoplastových káblov zmrašť. záklopkou alebo páskou do 5 x 4 mm2 | G125: ks | H125: 32 | N125: znížená | O125: 0.32753 | P125: =O125*H125 -> 10.48096 | Q125: 0 | R125: =Q125*H125 -> 0 | S125: 0 | T125: =S125*H125 -> 0 | W125: =H125*I125 -> 0 | AR125: 64 | AT125: K | AU125: 2 | AY125: ROZPOCET | BE125: =IF(N125="základná",J125,0) -> 0 | BF125: =IF(N125="znížená",J125,0) -> 0 | BG125: =IF(N125="zákl. prenesená",J125,0) -> 0 | BH125: =IF(N125="zníž. prenesená",J125,0) -> 0 | BI125: =IF(N125="nulová",J125,0) -> 0 | BJ125: 2 | BK125: =ROUND(I125*H125,3) -> 0 | BL125: 64 | BM125: -1830254877
C126: 4 | D126: M | E126: 3438150510 | F126: Izolačné pásky čierna 10m x 19mm typ: FEK10 | G126: ks | H126: 6.316 | N126: znížená | O126: 0 | P126: =O126*H126 -> 0 | Q126: 0 | R126: =Q126*H126 -> 0 | S126: 0 | T126: =S126*H126 -> 0 | W126: =H126*I126 -> 0 | AR126: 256 | AT126: M | AU126: 2 | AY126: ROZPOCET | BE126: =IF(N126="základná",J126,0) -> 0 | BF126: =IF(N126="znížená",J126,0) -> 0 | BG126: =IF(N126="zákl. prenesená",J126,0) -> 0 | BH126: =IF(N126="zníž. prenesená",J126,0) -> 0 | BI126: =IF(N126="nulová",J126,0) -> 0 | BJ126: 2 | BK126: =ROUND(I126*H126,3) -> 0 | BL126: 64 | BM126: 1489277251
C127: 5 | D127: K | E127: 210191563 | F127: Osadenie skrine rozvádzača verejného osvetlenia bez murárskych prác a zapojenia vodičov | G127: ks | H127: 1 | N127: znížená | O127: 1.62 | P127: =O127*H127 -> 1.62 | Q127: 0 | R127: =Q127*H127 -> 0 | S127: 0 | T127: =S127*H127 -> 0 | W127: =H127*I127 -> 0 | AR127: 64 | AT127: K | AU127: 2 | AY127: ROZPOCET | BE127: =IF(N127="základná",J127,0) -> 0 | BF127: =IF(N127="znížená",J127,0) -> 0 | BG127: =IF(N127="zákl. prenesená",J127,0) -> 0 | BH127: =IF(N127="zníž. prenesená",J127,0) -> 0 | BI127: =IF(N127="nulová",J127,0) -> 0 | BJ127: 2 | BK127: =ROUND(I127*H127,3) -> 0 | BL127: 64 | BM127: -1485202189
C128: 6 | D128: M | E128: 3570177500 | F128: Rozvádzače RVO | G128: ks | H128: 1 | N128: znížená | O128: 0 | P128: =O128*H128 -> 0 | Q128: 0.00513 | R128: =Q128*H128 -> 0.00513 | S128: 0 | T128: =S128*H128 -> 0 | W128: =H128*I128 -> 0 | AR128: 256 | AT128: M | AU128: 2 | AY128: ROZPOCET | BE128: =IF(N128="základná",J128,0) -> 0 | BF128: =IF(N128="znížená",J128,0) -> 0 | BG128: =IF(N128="zákl. prenesená",J128,0) -> 0 | BH128: =IF(N128="zníž. prenesená",J128,0) -> 0 | BI128: =IF(N128="nulová",J128,0) -> 0 | BJ128: 2 | BK128: =ROUND(I128*H128,3) -> 0 | BL128: 64 | BM128: 633370645
C129: 7 | D129: K | E129: 210201963 | F129: Montáž svietidla na stožiar do 5 kg | G129: ks | H129: 16 | N129: znížená | O129: 0.88 | P129: =O129*H129 -> 14.08 | Q129: 0 | R129: =Q129*H129 -> 0 | S129: 0 | T129: =S129*H129 -> 0 | W129: =H129*I129 -> 0 | AR129: 64 | AT129: K | AU129: 2 | AY129: ROZPOCET | BE129: =IF(N129="základná",J129,0) -> 0 | BF129: =IF(N129="znížená",J129,0) -> 0 | BG129: =IF(N129="zákl. prenesená",J129,0) -> 0 | BH129: =IF(N129="zníž. prenesená",J129,0) -> 0 | BI129: =IF(N129="nulová",J129,0) -> 0 | BJ129: 2 | BK129: =ROUND(I129*H129,3) -> 0 | BL129: 64 | BM129: -292773750
C130: 8 | D130: M | E130: 348370000500 | F130: Svietidlo vonkajšie parkové LED SMD na stĺp 1x42W, IP 44, EVG | G130: ks | H130: 16 | N130: znížená | O130: 0 | P130: =O130*H130 -> 0 | Q130: 0.0018 | R130: =Q130*H130 -> 0.0288 | S130: 0 | T130: =S130*H130 -> 0 | W130: =H130*I130 -> 0 | AR130: 256 | AT130: M | AU130: 2 | AY130: ROZPOCET | BE130: =IF(N130="základná",J130,0) -> 0 | BF130: =IF(N130="znížená",J130,0) -> 0 | BG130: =IF(N130="zákl. prenesená",J130,0) -> 0 | BH130: =IF(N130="zníž. prenesená",J130,0) -> 0 | BI130: =IF(N130="nulová",J130,0) -> 0 | BJ130: 2 | BK130: =ROUND(I130*H130,3) -> 0 | BL130: 64 | BM130: 1877847274
C131: 9 | D131: K | E131: 210204011 | F131: Osvetľovací stožiar - oceľový do dľžky 12 m | G131: ks | H131: 16 | N131: znížená | O131: 3.21601 | P131: =O131*H131 -> 51.45616 | Q131: 0 | R131: =Q131*H131 -> 0 | S131: 0 | T131: =S131*H131 -> 0 | W131: =H131*I131 -> 0 | AR131: 64 | AT131: K | AU131: 2 | AY131: ROZPOCET | BE131: =IF(N131="základná",J131,0) -> 0 | BF131: =IF(N131="znížená",J131,0) -> 0 | BG131: =IF(N131="zákl. prenesená",J131,0) -> 0 | BH131: =IF(N131="zníž. prenesená",J131,0) -> 0 | BI131: =IF(N131="nulová",J131,0) -> 0 | BJ131: 2 | BK131: =ROUND(I131*H131,3) -> 0 | BL131: 64 | BM131: -552747587
C132: 10 | D132: M | E132: 316720001400P | F132: Stožiar kužeľový STK STK60/80/3P prírubový zinkový, výška 8 m, ELV PRODUKT | G132: ks | H132: 16 | N132: znížená | O132: 0 | P132: =O132*H132 -> 0 | Q132: 0.05264 | R132: =Q132*H132 -> 0.84224 | S132: 0 | T132: =S132*H132 -> 0 | W132: =H132*I132 -> 0 | AR132: 256 | AT132: M | AU132: 2 | AY132: ROZPOCET | BE132: =IF(N132="základná",J132,0) -> 0 | BF132: =IF(N132="znížená",J132,0) -> 0 | BG132: =IF(N132="zákl. prenesená",J132,0) -> 0 | BH132: =IF(N132="zníž. prenesená",J132,0) -> 0 | BI132: =IF(N132="nulová",J132,0) -> 0 | BJ132: 2 | BK132: =ROUND(I132*H132,3) -> 0 | BL132: 64 | BM132: -194034579
C133: 11 | D133: K | E133: 210201871 | F133: Montáž základového roštu pre uličné svietidlá 5-12m | G133: ks | H133: 16 | N133: znížená | O133: 1.15 | P133: =O133*H133 -> 18.4 | Q133: 0 | R133: =Q133*H133 -> 0 | S133: 0 | T133: =S133*H133 -> 0 | W133: =H133*I133 -> 0 | AR133: 64 | AT133: K | AU133: 2 | AY133: ROZPOCET | BE133: =IF(N133="základná",J133,0) -> 0 | BF133: =IF(N133="znížená",J133,0) -> 0 | BG133: =IF(N133="zákl. prenesená",J133,0) -> 0 | BH133: =IF(N133="zníž. prenesená",J133,0) -> 0 | BI133: =IF(N133="nulová",J133,0) -> 0 | BJ133: 2 | BK133: =ROUND(I133*H133,3) -> 0 | BL133: 64 | BM133: -1764481223
C134: 12 | D134: M | E134: 348370004600 | F134: Rošt základový ZR pre stožiar výšky 5-12 m | G134: ks | H134: 16 | N134: znížená | O134: 0 | P134: =O134*H134 -> 0 | Q134: 0.05 | R134: =Q134*H134 -> 0.8 | S134: 0 | T134: =S134*H134 -> 0 | W134: =H134*I134 -> 0 | AR134: 256 | AT134: M | AU134: 2 | AY134: ROZPOCET | BE134: =IF(N134="základná",J134,0) -> 0 | BF134: =IF(N134="znížená",J134,0) -> 0 | BG134: =IF(N134="zákl. prenesená",J134,0) -> 0 | BH134: =IF(N134="zníž. prenesená",J134,0) -> 0 | BI134: =IF(N134="nulová",J134,0) -> 0 | BJ134: 2 | BK134: =ROUND(I134*H134,3) -> 0 | BL134: 64 | BM134: 1332254995
... C150: 28 | D150: M | E150: 341110033900 | F150: Kábel hliníkový NAYY 4x16 RE mm2 | G150: m | H150: 472 | N150: znížená | O150: 0 | P150: =O150*H150 -> 0 | Q150: 0.00096 | R150: =Q150*H150 -> 0.45312 | S150: 0 | T150: =S150*H150 -> 0 | W150: =H150*I150 -> 0 | AR150: 256 | AT150: M | AU150: 2 | AY150: ROZPOCET | BE150: =IF(N150="základná",J150,0) -> 0 | BF150: =IF(N150="znížená",J150,0) -> 0 | BG150: =IF(N150="zákl. prenesená",J150,0) -> 0 | BH150: =IF(N150="zníž. prenesená",J150,0) -> 0 | BI150: =IF(N150="nulová",J150,0) -> 0 | BJ150: 2 | BK150: =ROUND(I150*H150,3) -> 0 | BL150: 64 | BM150: 1876579230
D151: D | E151: 46-M | F151: Zemné práce vykonávané pri externých montážnych prácach | P151: =SUM(P152:P174) -> 332.61801 | R151: =SUM(R152:R174) -> 107.5359 | T151: =SUM(T152:T174) -> 0 | W151: =H151*I151 -> 0 | AR151: 3 | AT151: D | AU151: 1 | AY151: ROZPOCET | BK151: =SUM(BK152:BK174) -> 0
C152: 29 | D152: K | E152: 460010024 | F152: Vytýčenie trasy káblového vedenia,v zastavanom priestore | G152: km | H152: 0.35 | N152: znížená | O152: 3.398 | P152: =O152*H152 -> 1.1893 | Q152: 0 | R152: =Q152*H152 -> 0 | S152: 0 | T152: =S152*H152 -> 0 | W152: =H152*I152 -> 0 | AR152: 64 | AT152: K | AU152: 2 | AY152: ROZPOCET | BE152: =IF(N152="základná",J152,0) -> 0 | BF152: =IF(N152="znížená",J152,0) -> 0 | BG152: =IF(N152="zákl. prenesená",J152,0) -> 0 | BH152: =IF(N152="zníž. prenesená",J152,0) -> 0 | BI152: =IF(N152="nulová",J152,0) -> 0 | BJ152: 2 | BK152: =ROUND(I152*H152,3) -> 0 | BL152: 64 | BM152: 1782906831
C153: 30 | D153: M | E153: 5839500600 | F153: Značka meračská povrch m 1 I/1 | G153: ks | H153: 17 | N153: znížená | O153: 0 | P153: =O153*H153 -> 0 | Q153: 0.025 | R153: =Q153*H153 -> 0.425 | S153: 0 | T153: =S153*H153 -> 0 | W153: =H153*I153 -> 0 | AR153: 256 | AT153: M | AU153: 2 | AY153: ROZPOCET | BE153: =IF(N153="základná",J153,0) -> 0 | BF153: =IF(N153="znížená",J153,0) -> 0 | BG153: =IF(N153="zákl. prenesená",J153,0) -> 0 | BH153: =IF(N153="zníž. prenesená",J153,0) -> 0 | BI153: =IF(N153="nulová",J153,0) -> 0 | BJ153: 2 | BK153: =ROUND(I153*H153,3) -> 0 | BL153: 64 | BM153: 967793678
C154: 31 | D154: K | E154: 460050602p | F154: Výkop jamy pre rozvádzač RVO, v zemine tr. 3 - 4 | G154: m3 | H154: 0.06 | N154: znížená | O154: 2.921 | P154: =O154*H154 -> 0.17526 | Q154: 0 | R154: =Q154*H154 -> 0 | S154: 0 | T154: =S154*H154 -> 0 | W154: =H154*I154 -> 0 | AR154: 64 | AT154: K | AU154: 2 | AY154: ROZPOCET | BE154: =IF(N154="základná",J154,0) -> 0 | BF154: =IF(N154="znížená",J154,0) -> 0 | BG154: =IF(N154="zákl. prenesená",J154,0) -> 0 | BH154: =IF(N154="zníž. prenesená",J154,0) -> 0 | BI154: =IF(N154="nulová",J154,0) -> 0 | BJ154: 2 | BK154: =ROUND(I154*H154,3) -> 0 | BL154: 64 | BM154: 1650178044
C155: 32 | D155: K | E155: 460050703 | F155: Výkop jamy pre stožiar verejného osvetlenia do 2 m3 vrátane, ručný výkop v zemina triedy 3 | G155: m3 | H155: 18.4 | N155: znížená | O155: 2.7295 | P155: =O155*H155 -> 50.2228 | Q155: 0 | R155: =Q155*H155 -> 0 | S155: 0 | T155: =S155*H155 -> 0 | W155: =H155*I155 -> 0 | AR155: 64 | AT155: K | AU155: 2 | AY155: ROZPOCET | BE155: =IF(N155="základná",J155,0) -> 0 | BF155: =IF(N155="znížená",J155,0) -> 0 | BG155: =IF(N155="zákl. prenesená",J155,0) -> 0 | BH155: =IF(N155="zníž. prenesená",J155,0) -> 0 | BI155: =IF(N155="nulová",J155,0) -> 0 | BJ155: 2 | BK155: =ROUND(I155*H155,3) -> 0 | BL155: 64 | BM155: -1126030681
C156: 33 | D156: K | E156: 460080002 | F156: Základ z prostého betónu s dopravou zmesi a betonážou do debnenia | G156: m3 | H156: 12.39 | N156: znížená | O156: 2.122 | P156: =O156*H156 -> 26.29158 | Q156: 0 | R156: =Q156*H156 -> 0 | S156: 0 | T156: =S156*H156 -> 0 | W156: =H156*I156 -> 0 | AR156: 64 | AT156: K | AU156: 2 | AY156: ROZPOCET | BE156: =IF(N156="základná",J156,0) -> 0 | BF156: =IF(N156="znížená",J156,0) -> 0 | BG156: =IF(N156="zákl. prenesená",J156,0) -> 0 | BH156: =IF(N156="zníž. prenesená",J156,0) -> 0 | BI156: =IF(N156="nulová",J156,0) -> 0 | BJ156: 2 | BK156: =ROUND(I156*H156,3) -> 0 | BL156: 64 | BM156: -94982387
C157: 34 | D157: M | E157: 5831216000 | F157: Drvina vápencová frakcia 0-16 | G157: t | H157: 2.166 | N157: znížená | O157: 0 | P157: =O157*H157 -> 0 | Q157: 1 | R157: =Q157*H157 -> 2.166 | S157: 0 | T157: =S157*H157 -> 0 | W157: =H157*I157 -> 0 | AR157: 256 | AT157: M | AU157: 2 | AY157: ROZPOCET | BE157: =IF(N157="základná",J157,0) -> 0 | BF157: =IF(N157="znížená",J157,0) -> 0 | BG157: =IF(N157="zákl. prenesená",J157,0) -> 0 | BH157: =IF(N157="zníž. prenesená",J157,0) -> 0 | BI157: =IF(N157="nulová",J157,0) -> 0 | BJ157: 2 | BK157: =ROUND(I157*H157,3) -> 0 | BL157: 64 | BM157: 606485049
C158: 35 | D158: M | E158: 5893281820 | F158: Betón STN EN 206-1-C 20/25 XC1, XF1 (SK)-Cl 0,4-Dmax 8 - S1 z cementu troskoportlandského | G158: m3 | H158: 12.39 | N158: znížená | O158: 0 | P158: =O158*H158 -> 0 | Q158: 2.14658 | R158: =Q158*H158 -> 26.596126 | S158: 0 | T158: =S158*H158 -> 0 | W158: =H158*I158 -> 0 | AR158: 256 | AT158: M | AU158: 2 | AY158: ROZPOCET | BE158: =IF(N158="základná",J158,0) -> 0 | BF158: =IF(N158="znížená",J158,0) -> 0 | BG158: =IF(N158="zákl. prenesená",J158,0) -> 0 | BH158: =IF(N158="zníž. prenesená",J158,0) -> 0 | BI158: =IF(N158="nulová",J158,0) -> 0 | BJ158: 2 | BK158: =ROUND(I158*H158,3) -> 0 | BL158: 64 | BM158: 1832422575
C159: 36 | D159: M | E159: 438 | F159: Betonárska oceľ 8 mm / 6 m | G159: ks | H159: 17.7 | N159: znížená | O159: 0 | P159: =O159*H159 -> 0 | Q159: 0 | R159: =Q159*H159 -> 0 | S159: 0 | T159: =S159*H159 -> 0 | W159: =H159*I159 -> 0 | AR159: 256 | AT159: M | AU159: 2 | AY159: ROZPOCET | BE159: =IF(N159="základná",J159,0) -> 0 | BF159: =IF(N159="znížená",J159,0) -> 0 | BG159: =IF(N159="zákl. prenesená",J159,0) -> 0 | BH159: =IF(N159="zníž. prenesená",J159,0) -> 0 | BI159: =IF(N159="nulová",J159,0) -> 0 | BJ159: 2 | BK159: =ROUND(I159*H159,3) -> 0 | BL159: 64 | BM159: -684005635
C160: 37 | D160: M | E160: 6051011300 | F160: Neopracované dosky a fošne neomietané smrek akosť I hr.18-22mm x B=60-160mm | G160: m3 | H160: 1.502 | N160: znížená | O160: 0 | P160: =O160*H160 -> 0 | Q160: 0.55 | R160: =Q160*H160 -> 0.8261 | S160: 0 | T160: =S160*H160 -> 0 | W160: =H160*I160 -> 0 | AR160: 256 | AT160: M | AU160: 2 | AY160: ROZPOCET | BE160: =IF(N160="základná",J160,0) -> 0 | BF160: =IF(N160="znížená",J160,0) -> 0 | BG160: =IF(N160="zákl. prenesená",J160,0) -> 0 | BH160: =IF(N160="zníž. prenesená",J160,0) -> 0 | BI160: =IF(N160="nulová",J160,0) -> 0 | BJ160: 2 | BK160: =ROUND(I160*H160,3) -> 0 | BL160: 64 | BM160: 1800197055
C161: 38 | D161: M | E161: 9999000000 | F161: Ostatný materiál | G161: ks | H161: 333.248 | N161: znížená | O161: 0 | P161: =O161*H161 -> 0 | Q161: 0 | R161: =Q161*H161 -> 0 | S161: 0 | T161: =S161*H161 -> 0 | W161: =H161*I161 -> 0 | AR161: 256 | AT161: M | AU161: 2 | AY161: ROZPOCET | BE161: =IF(N161="základná",J161,0) -> 0 | BF161: =IF(N161="znížená",J161,0) -> 0 | BG161: =IF(N161="zákl. prenesená",J161,0) -> 0 | BH161: =IF(N161="zníž. prenesená",J161,0) -> 0 | BI161: =IF(N161="nulová",J161,0) -> 0 | BJ161: 2 | BK161: =ROUND(I161*H161,3) -> 0 | BL161: 64 | BM161: -1426661455
C162: 39 | D162: K | E162: 460200163 | F162: Hĺbenie káblovej ryhy 35 cm širokej a 80 cm hlbokej, v zemine triedy 3 | G162: m | H162: 368 | N162: znížená | O162: 0.33246 | P162: =O162*H162 -> 122.34528 | Q162: 0 | R162: =Q162*H162 -> 0 | S162: 0 | T162: =S162*H162 -> 0 | W162: =H162*I162 -> 0 | AR162: 64 | AT162: K | AU162: 2 | AY162: ROZPOCET | BE162: =IF(N162="základná",J162,0) -> 0 | BF162: =IF(N162="znížená",J162,0) -> 0 | BG162: =IF(N162="zákl. prenesená",J162,0) -> 0 | BH162: =IF(N162="zníž. prenesená",J162,0) -> 0 | BI162: =IF(N162="nulová",J162,0) -> 0 | BJ162: 2 | BK162: =ROUND(I162*H162,3) -> 0 | BL162: 64 | BM162: 1044315804
C163: 40 | D163: K | E163: 460420372 | F163: Zriad. káblového lôžka z piesku vrstvy 10 cm, tehlami naprieč kábla na šírku 35 cm | G163: m | H163: 368 | N163: znížená | O163: 0.147 | P163: =O163*H163 -> 54.096 | Q163: 0 | R163: =Q163*H163 -> 0 | S163: 0 | T163: =S163*H163 -> 0 | W163: =H163*I163 -> 0 | AR163: 64 | AT163: K | AU163: 2 | AY163: ROZPOCET | BE163: =IF(N163="základná",J163,0) -> 0 | BF163: =IF(N163="znížená",J163,0) -> 0 | BG163: =IF(N163="zákl. prenesená",J163,0) -> 0 | BH163: =IF(N163="zníž. prenesená",J163,0) -> 0 | BI163: =IF(N163="nulová",J163,0) -> 0 | BJ163: 2 | BK163: =ROUND(I163*H163,3) -> 0 | BL163: 64 | BM163: 517946603
... C174: 51 | D174: K | E174: 460300006p | F174: Zhutnenie zeminy po vrstvách pri zahrnutí rýh strojom, vrstva zeminy 40 cm | G174: m3 | H174: 102.6 | N174: znížená | O174: 0.014 | P174: =O174*H174 -> 1.4364 | Q174: 0 | R174: =Q174*H174 -> 0 | S174: 0 | T174: =S174*H174 -> 0 | W174: =H174*I174 -> 0 | AR174: 64 | AT174: K | AU174: 2 | AY174: ROZPOCET | BE174: =IF(N174="základná",J174,0) -> 0 | BF174: =IF(N174="znížená",J174,0) -> 0 | BG174: =IF(N174="zákl. prenesená",J174,0) -> 0 | BH174: =IF(N174="zníž. prenesená",J174,0) -> 0 | BI174: =IF(N174="nulová",J174,0) -> 0 | BJ174: 2 | BK174: =ROUND(I174*H174,3) -> 0 | BL174: 64 | BM174: -1577063242
D175: D | E175: HZS | F175: Hodinové zúčtovacie sadzby | P175: =P176 -> 19.08 | R175: =R176 -> 0 | T175: =T176 -> 0 | W175: =H175*I175 -> 0 | AR175: 4 | AT175: D | AU175: 0 | AY175: ROZPOCET | BK175: =BK176 -> 0
C176: 52 | D176: K | E176: HZS000114 | F176: Stavebno montážne práce najnáročnejšie na odbornosť - prehliadky pracoviska a revízie (Tr 4) v rozsahu viac ako 8 hodín | G176: hod | H176: 18 | N176: znížená | O176: 1.06 | P176: =O176*H176 -> 19.08 | Q176: 0 | R176: =Q176*H176 -> 0 | S176: 0 | T176: =S176*H176 -> 0 | W176: =H176*I176 -> 0 | AR176: 512 | AT176: K | AU176: 1 | AY176: ROZPOCET | BE176: =IF(N176="základná",J176,0) -> 0 | BF176: =IF(N176="znížená",J176,0) -> 0 | BG176: =IF(N176="zákl. prenesená",J176,0) -> 0 | BH176: =IF(N176="zníž. prenesená",J176,0) -> 0 | BI176: =IF(N176="nulová",J176,0) -> 0 | BJ176: 2 | BK176: =ROUND(I176*H176,3) -> 0 | BL176: 512 | BM176: 1265041476
