Workbook

Sheet Rekapitulácia stavby
A1: Export Komplet | BA1: 2.0 | BT1: False | BU1: False | BV1: {60bde15e-6119-48bf-938e-67fc16025546}
AR2: >> skryté stĺpce << | BS2: 0,001 | BT2: 20
BS3: 0,001 | BT3: 20
D4: REKAPITULÁCIA STAVBY - VÝKAZ VÝMER | AS4: v --- nižšie sa nachádzajú doplnkové a pomocné údaje k zostavám --- v | BS4: 0,001
D5: Kód: | K5: 202009121 | BS5: 0,001
D6: Stavba: | K6: IBV KRAKOVANY - STARÉ KONOPISKO - 1.ETAPA | BS6: 0,001
D7: JKSO: | AK7: KS: | BS7: 0,001
D8: Miesto: | AK8: Dátum: | AN8: 12. 9. 2020 | BS8: 0,001
BS9: 0,001
D10: Objednávateľ: | AK10: IČO: | BS10: 0,001
E11: Obec Krakovany, Námestie Sv. Mikuláša 406/4 | AK11: IČ DPH: | BS11: 0,001
BS12: 0,001
D13: Zhotoviteľ: | AK13: IČO: | BS13: 0,001
AK14: IČ DPH: | BS14: 0,001
BS15: False
D16: Projektant: | AK16: IČO: | BS16: False
AK17: IČ DPH: | BS17: True
BS18: 0,01
D19: Spracovateľ: | AK19: IČO: | BS19: 0,01
AK20: IČ DPH: | BS20: True
D22: Poznámka:
D26: Cena bez DPH
L28: Sadzba dane | W28: Základ dane
D29: DPH | F29: základná | L29: 0.2
F30: znížená | L30: 0.2 | W30: 0
F31: zákl. prenesená | L31: 0.2 | W31: =ROUND(BB94, 2) -> #REF!
F32: zníž. prenesená | L32: 0.2 | W32: =ROUND(BC94, 2) -> #REF!
F33: nulová | L33: 0 | W33: =ROUND(BD94, 2) -> #REF!
D35: Cena s DPH | T35: v | X35: EUR
D49: Projektant | AH49: Spracovateľ
D60: Dátum a podpis: | V60: Pečiatka | AH60: Dátum a podpis: | AM60: Pečiatka
D64: Objednávateľ | AH64: Zhotoviteľ
D75: Dátum a podpis: | V75: Pečiatka | AH75: Dátum a podpis: | AM75: Pečiatka
C82: REKAPITULÁCIA OBJEKTOV STAVBY - VÝKAZ VÝMER
C84: Kód: | L84: =K5 -> 202009121
C85: Stavba: | L85: =K6 -> IBV KRAKOVANY - STARÉ KONOPISKO - 1.ETAPA
C87: Miesto: | L87: =IF(K8="","",K8) | AI87: Dátum: | AM87: =IF(AN8= "","",AN8) -> 12. 9. 2020
C89: Objednávateľ: | L89: =IF(E11= "","",E11) -> Obec Krakovany, Námestie Sv. Mikuláša 406/4 | AI89: Projektant: | AM89: =IF(E17="","",E17) | AS89: Informatívne údaje z listov zákaziek
C90: Zhotoviteľ: | L90: =IF(E14="","",E14) | AI90: Spracovateľ: | AM90: =IF(E20="","",E20)
C92: Kód | I92: Popis | AG92: Cena bez DPH [EUR] | AN92: Cena s DPH [EUR] | AQ92: Typ | AS92: z toho Ostat._x000D_ náklady [EUR] | AT92: DPH [EUR] | AU92: Normohodiny [h] | AV92: DPH základná [EUR] | AW92: DPH znížená [EUR] | AX92: DPH základná prenesená_x000D_ [EUR] | AY92: DPH znížená prenesená_x000D_ [EUR] | AZ92: Základňa_x000D_ DPH základná | BA92: Základňa_x000D_ DPH znížená | BB92: Základňa_x000D_ DPH zákl. prenesená | BC92: Základňa_x000D_ DPH zníž. prenesená | BD92: Základňa_x000D_ DPH nulová
...

Sheet 03 - SO 03 - Vodovod
L2: >> skryté stĺpce << | AT2: {3fc75f3c-083b-422d-8142-411374ec17e2}
AT3: 0
D4: KRYCÍ LIST VÝKAZU VÝMER | M4: v --- nižšie sa nachádzajú doplnkové a pomocné údaje k zostavám --- v | AT4: False
D6: Stavba:
E7: ='Rekapitulácia stavby'!K6 -> IBV KRAKOVANY - STARÉ KONOPISKO - 1.ETAPA
D8: Objekt:
E9: 03 - SO 03 - Vodovod
D11: JKSO: | I11: KS:
D12: Miesto: | I12: Dátum: | J12: ='Rekapitulácia stavby'!AN8 -> 12. 9. 2020
D14: Objednávateľ: | I14: IČO:
E15: Obec Krakovany, Námestie Sv. Mikuláša 406/4 | I15: IČ DPH:
D17: Zhotoviteľ: | I17: IČO: | J17: ='Rekapitulácia stavby'!AN13
E18: ='Rekapitulácia stavby'!E14 | I18: IČ DPH: | J18: ='Rekapitulácia stavby'!AN14
D20: Projektant: | I20: IČO: | J20: =IF('Rekapitulácia stavby'!AN16="","",'Rekapitulácia stavby'!AN16)
E21: =IF('Rekapitulácia stavby'!E17="","",'Rekapitulácia stavby'!E17) | I21: IČ DPH: | J21: =IF('Rekapitulácia stavby'!AN17="","",'Rekapitulácia stavby'!AN17)
D23: Spracovateľ: | I23: IČO: | J23: =IF('Rekapitulácia stavby'!AN19="","",'Rekapitulácia stavby'!AN19)
E24: =IF('Rekapitulácia stavby'!E20="","",'Rekapitulácia stavby'!E20) | I24: IČ DPH: | J24: =IF('Rekapitulácia stavby'!AN20="","",'Rekapitulácia stavby'!AN20)
D26: Poznámka:
D30: Cena bez DPH | J30: =ROUND(J124, 2) -> 0
F32: Základ dane | I32: Sadzba dane | J32: Výška dane
D33: DPH | E33: základná | F33: =ROUND((SUM(BE124:BE180)), 2) -> 0 | I33: 0.2 | J33: =ROUND(((SUM(BE124:BE180))*I33), 2) -> 0
E34: znížená | F34: =ROUND((SUM(BF124:BF180)), 2) -> 0 | I34: 0.2 | J34: =ROUND(((SUM(BF124:BF180))*I34), 2) -> 0
E35: zákl. prenesená | F35: =ROUND((SUM(BG124:BG180)), 2) -> 0 | I35: 0.2 | J35: =0 -> 0
E36: zníž. prenesená | F36: =ROUND((SUM(BH124:BH180)), 2) -> 0 | I36: 0.2 | J36: =0 -> 0
E37: nulová | F37: =ROUND((SUM(BI124:BI180)), 2) -> 0 | I37: 0 | J37: =0 -> 0
D39: Cena s DPH | G39: v | H39: EUR | J39: =SUM(J30:J37) -> 0
D50: Projektant | G50: Spracovateľ
D61: Dátum a podpis: | F61: Pečiatka | G61: Dátum a podpis: | J61: Pečiatka
D65: Objednávateľ | G65: Zhotoviteľ
D76: Dátum a podpis: | F76: Pečiatka | G76: Dátum a podpis: | J76: Pečiatka
C82: REKAPITULÁCIA VÝKAZU VÝMER
C84: Stavba:
E85: =E7 -> IBV KRAKOVANY - STARÉ KONOPISKO - 1.ETAPA
C86: Objekt:
E87: =E9 -> 03 - SO 03 - Vodovod
C89: Miesto: | F89: =F12 | I89: Dátum: | J89: =IF(J12="","",J12) -> 12. 9. 2020
C91: Objednávateľ: | F91: =E15 -> Obec Krakovany, Námestie Sv. Mikuláša 406/4 | I91: Projektant: | J91: =E21
C92: Zhotoviteľ: | F92: =IF(E18="","",E18) | I92: Spracovateľ: | J92: =E24
C94: Kód dielu - Popis | J94: Cena celkom [EUR]
C96: Náklady z rozpočtu | J96: =J124 -> 0 | AU96: -1
...

Sheet 04.2 - SO 04.2 - Kanalizá...
L2: >> skryté stĺpce << | AT2: {2027fe68-912e-459f-b76a-42993220ce9d}
AT3: 0
D4: KRYCÍ LIST VÝKAZU VÝMER | M4: v --- nižšie sa nachádzajú doplnkové a pomocné údaje k zostavám --- v | AT4: False
D6: Stavba:
E7: ='Rekapitulácia stavby'!K6 -> IBV KRAKOVANY - STARÉ KONOPISKO - 1.ETAPA
D8: Objekt:
E9: 04 - SO 04 - Kanalizácia
D10: Časť:
E11: 04.2 - SO 04.2 - Kanalizácia splašková - prípojky
D13: JKSO: | I13: KS:
D14: Miesto: | I14: Dátum: | J14: ='Rekapitulácia stavby'!AN8 -> 12. 9. 2020
D16: Objednávateľ: | I16: IČO:
E17: Obec Krakovany, Námestie Sv. Mikuláša 406/4 | I17: IČ DPH:
D19: Zhotoviteľ: | I19: IČO: | J19: ='Rekapitulácia stavby'!AN13
E20: ='Rekapitulácia stavby'!E14 | I20: IČ DPH: | J20: ='Rekapitulácia stavby'!AN14
D22: Projektant: | I22: IČO: | J22: =IF('Rekapitulácia stavby'!AN16="","",'Rekapitulácia stavby'!AN16)
E23: =IF('Rekapitulácia stavby'!E17="","",'Rekapitulácia stavby'!E17) | I23: IČ DPH: | J23: =IF('Rekapitulácia stavby'!AN17="","",'Rekapitulácia stavby'!AN17)
D25: Spracovateľ: | I25: IČO: | J25: =IF('Rekapitulácia stavby'!AN19="","",'Rekapitulácia stavby'!AN19)
E26: =IF('Rekapitulácia stavby'!E20="","",'Rekapitulácia stavby'!E20) | I26: IČ DPH: | J26: =IF('Rekapitulácia stavby'!AN20="","",'Rekapitulácia stavby'!AN20)
D28: Poznámka:
D32: Cena bez DPH | J32: =ROUND(J124, 2) -> 0
F34: Základ dane | I34: Sadzba dane | J34: Výška dane
D35: DPH | E35: základná | F35: =ROUND((SUM(BE124:BE147)), 2) -> 0 | I35: 0.2 | J35: =ROUND(((SUM(BE124:BE147))*I35), 2) -> 0
E36: znížená | F36: =ROUND((SUM(BF124:BF147)), 2) -> 0 | I36: 0.2 | J36: =ROUND(((SUM(BF124:BF147))*I36), 2) -> 0
E37: zákl. prenesená | F37: =ROUND((SUM(BG124:BG147)), 2) -> 0 | I37: 0.2 | J37: =0 -> 0
E38: zníž. prenesená | F38: =ROUND((SUM(BH124:BH147)), 2) -> 0 | I38: 0.2 | J38: =0 -> 0
E39: nulová | F39: =ROUND((SUM(BI124:BI147)), 2) -> 0 | I39: 0 | J39: =0 -> 0
D41: Cena s DPH | G41: v | H41: EUR | J41: =SUM(J32:J39) -> 0
D50: Projektant | G50: Spracovateľ
D61: Dátum a podpis: | F61: Pečiatka | G61: Dátum a podpis: | J61: Pečiatka
D65: Objednávateľ | G65: Zhotoviteľ
D76: Dátum a podpis: | F76: Pečiatka | G76: Dátum a podpis: | J76: Pečiatka
C82: REKAPITULÁCIA VÝKAZU VÝMER
C84: Stavba:
E85: =E7 -> IBV KRAKOVANY - STARÉ KONOPISKO - 1.ETAPA
C86: Objekt:
E87: 04 - SO 04 - Kanalizácia
C88: Časť:
E89: =E11 -> 04.2 - SO 04.2 - Kanalizácia splašková - prípojky
C91: Miesto: | F91: =F14 | I91: Dátum: | J91: =IF(J14="","",J14) -> 12. 9. 2020
...

Sheet 05 - SO 05 - Plynovod
L2: >> skryté stĺpce << | AT2: {f65ccd27-9e2e-4946-b5d4-ad2093c9aa29}
AT3: 0
D4: KRYCÍ LIST VÝKAZU VÝMER | M4: v --- nižšie sa nachádzajú doplnkové a pomocné údaje k zostavám --- v | AT4: False
D6: Stavba:
E7: ='Rekapitulácia stavby'!K6 -> IBV KRAKOVANY - STARÉ KONOPISKO - 1.ETAPA
D8: Objekt:
E9: 05 - SO 05 - Plynovod
D11: JKSO: | I11: KS:
D12: Miesto: | I12: Dátum: | J12: ='Rekapitulácia stavby'!AN8 -> 12. 9. 2020
D14: Objednávateľ: | I14: IČO:
E15: Obec Krakovany, Námestie Sv. Mikuláša 406/4 | I15: IČ DPH:
D17: Zhotoviteľ: | I17: IČO: | J17: ='Rekapitulácia stavby'!AN13
E18: ='Rekapitulácia stavby'!E14 | I18: IČ DPH: | J18: ='Rekapitulácia stavby'!AN14
D20: Projektant: | I20: IČO: | J20: =IF('Rekapitulácia stavby'!AN16="","",'Rekapitulácia stavby'!AN16)
E21: =IF('Rekapitulácia stavby'!E17="","",'Rekapitulácia stavby'!E17) | I21: IČ DPH: | J21: =IF('Rekapitulácia stavby'!AN17="","",'Rekapitulácia stavby'!AN17)
D23: Spracovateľ: | I23: IČO: | J23: =IF('Rekapitulácia stavby'!AN19="","",'Rekapitulácia stavby'!AN19)
E24: =IF('Rekapitulácia stavby'!E20="","",'Rekapitulácia stavby'!E20) | I24: IČ DPH: | J24: =IF('Rekapitulácia stavby'!AN20="","",'Rekapitulácia stavby'!AN20)
D26: Poznámka:
D30: Cena bez DPH | J30: =ROUND(J123, 2) -> 0
F32: Základ dane | I32: Sadzba dane | J32: Výška dane
D33: DPH | E33: základná | F33: =ROUND((SUM(BE123:BE175)), 2) -> 0 | I33: 0.2 | J33: =ROUND(((SUM(BE123:BE175))*I33), 2) -> 0
E34: znížená | F34: =ROUND((SUM(BF123:BF175)), 2) -> 0 | I34: 0.2 | J34: =ROUND(((SUM(BF123:BF175))*I34), 2) -> 0
E35: zákl. prenesená | F35: =ROUND((SUM(BG123:BG175)), 2) -> 0 | I35: 0.2 | J35: =0 -> 0
E36: zníž. prenesená | F36: =ROUND((SUM(BH123:BH175)), 2) -> 0 | I36: 0.2 | J36: =0 -> 0
E37: nulová | F37: =ROUND((SUM(BI123:BI175)), 2) -> 0 | I37: 0 | J37: =0 -> 0
D39: Cena s DPH | G39: v | H39: EUR | J39: =SUM(J30:J37) -> 0
D50: Projektant | G50: Spracovateľ
D61: Dátum a podpis: | F61: Pečiatka | G61: Dátum a podpis: | J61: Pečiatka
D65: Objednávateľ | G65: Zhotoviteľ
D76: Dátum a podpis: | F76: Pečiatka | G76: Dátum a podpis: | J76: Pečiatka
C82: REKAPITULÁCIA VÝKAZU VÝMER
C84: Stavba:
E85: =E7 -> IBV KRAKOVANY - STARÉ KONOPISKO - 1.ETAPA
C86: Objekt:
E87: =E9 -> 05 - SO 05 - Plynovod
C89: Miesto: | F89: =F12 | I89: Dátum: | J89: =IF(J12="","",J12) -> 12. 9. 2020
C91: Objednávateľ: | F91: =E15 -> Obec Krakovany, Námestie Sv. Mikuláša 406/4 | I91: Projektant: | J91: =E21
C92: Zhotoviteľ: | F92: =IF(E18="","",E18) | I92: Spracovateľ: | J92: =E24
C94: Kód dielu - Popis | J94: Cena celkom [EUR]
C96: Náklady z rozpočtu | J96: =J123 -> 0 | AU96: -1
...

Sheet 06.1 - SO 06.1 - Odberné ...
L2: >> skryté stĺpce << | AT2: {a6cd625f-8ce9-40db-ba6e-4d463a9b17ae}
AT3: 0
D4: KRYCÍ LIST VÝKAZU VÝMER | M4: v --- nižšie sa nachádzajú doplnkové a pomocné údaje k zostavám --- v | AT4: False
D6: Stavba:
E7: ='Rekapitulácia stavby'!K6 -> IBV KRAKOVANY - STARÉ KONOPISKO - 1.ETAPA
D8: Objekt:
E9: 06 - SO 06 - NN rozvody
D10: Časť:
E11: 06.1 - SO 06.1 - Odberné elektrické zariadenia
D13: JKSO: | F13: 828 73 | I13: KS: | J13: 2224
D14: Miesto: | I14: Dátum: | J14: ='Rekapitulácia stavby'!AN8 -> 12. 9. 2020
D16: Objednávateľ: | I16: IČO:
E17: Obec Krakovany, Námestie Sv. Mikuláša 406/4 | I17: IČ DPH:
D19: Zhotoviteľ: | I19: IČO: | J19: ='Rekapitulácia stavby'!AN13
E20: ='Rekapitulácia stavby'!E14 | I20: IČ DPH: | J20: ='Rekapitulácia stavby'!AN14
D22: Projektant: | I22: IČO: | J22: =IF('Rekapitulácia stavby'!AN16="","",'Rekapitulácia stavby'!AN16)
E23: =IF('Rekapitulácia stavby'!E17="","",'Rekapitulácia stavby'!E17) | I23: IČ DPH: | J23: =IF('Rekapitulácia stavby'!AN17="","",'Rekapitulácia stavby'!AN17)
D25: Spracovateľ: | I25: IČO: | J25: =IF('Rekapitulácia stavby'!AN19="","",'Rekapitulácia stavby'!AN19)
E26: =IF('Rekapitulácia stavby'!E20="","",'Rekapitulácia stavby'!E20) | I26: IČ DPH: | J26: =IF('Rekapitulácia stavby'!AN20="","",'Rekapitulácia stavby'!AN20)
D28: Poznámka:
D32: Cena bez DPH | J32: =ROUND(J124, 2) -> 0
F34: Základ dane | I34: Sadzba dane | J34: Výška dane
D35: DPH | E35: základná | F35: =ROUND((SUM(BE124:BE152)), 2) -> 0 | I35: 0.2 | J35: =ROUND(((SUM(BE124:BE152))*I35), 2) -> 0
E36: znížená | F36: =ROUND((SUM(BF124:BF152)), 2) -> 0 | I36: 0.2 | J36: =ROUND(((SUM(BF124:BF152))*I36), 2) -> 0
E37: zákl. prenesená | F37: =ROUND((SUM(BG124:BG152)), 2) -> 0 | I37: 0.2 | J37: =0 -> 0
E38: zníž. prenesená | F38: =ROUND((SUM(BH124:BH152)), 2) -> 0 | I38: 0.2 | J38: =0 -> 0
E39: nulová | F39: =ROUND((SUM(BI124:BI152)), 2) -> 0 | I39: 0 | J39: =0 -> 0
D41: Cena s DPH | G41: v | H41: EUR | J41: =SUM(J32:J39) -> 0
D50: Projektant | G50: Spracovateľ
D61: Dátum a podpis: | F61: Pečiatka | G61: Dátum a podpis: | J61: Pečiatka
D65: Objednávateľ | G65: Zhotoviteľ
D76: Dátum a podpis: | F76: Pečiatka | G76: Dátum a podpis: | J76: Pečiatka
C82: REKAPITULÁCIA VÝKAZU VÝMER
C84: Stavba:
E85: =E7 -> IBV KRAKOVANY - STARÉ KONOPISKO - 1.ETAPA
C86: Objekt:
E87: 06 - SO 06 - NN rozvody
C88: Časť:
E89: =E11 -> 06.1 - SO 06.1 - Odberné elektrické zariadenia
C91: Miesto: | F91: =F14 | I91: Dátum: | J91: =IF(J14="","",J14) -> 12. 9. 2020
...

Sheet 07 - SO 07 - Verejné osve...
L2: >> skryté stĺpce << | AT2: {ea2e16d5-067e-445d-86af-8cc951ffa165}
AT3: 0
D4: KRYCÍ LIST VÝKAZU VÝMER | M4: v --- nižšie sa nachádzajú doplnkové a pomocné údaje k zostavám --- v | AT4: False
D6: Stavba:
E7: ='Rekapitulácia stavby'!K6 -> IBV KRAKOVANY - STARÉ KONOPISKO - 1.ETAPA
D8: Objekt:
E9: 07 - SO 07 - Verejné osvetlenie
D11: JKSO: | F11: 828 75 | I11: KS: | J11: 2224
D12: Miesto: | I12: Dátum: | J12: ='Rekapitulácia stavby'!AN8 -> 12. 9. 2020
D14: Objednávateľ: | I14: IČO:
E15: Obec Krakovany, Námestie Sv. Mikuláša 406/4 | I15: IČ DPH:
D17: Zhotoviteľ: | I17: IČO: | J17: ='Rekapitulácia stavby'!AN13
E18: ='Rekapitulácia stavby'!E14 | I18: IČ DPH: | J18: ='Rekapitulácia stavby'!AN14
D20: Projektant: | I20: IČO: | J20: =IF('Rekapitulácia stavby'!AN16="","",'Rekapitulácia stavby'!AN16)
E21: =IF('Rekapitulácia stavby'!E17="","",'Rekapitulácia stavby'!E17) | I21: IČ DPH: | J21: =IF('Rekapitulácia stavby'!AN17="","",'Rekapitulácia stavby'!AN17)
D23: Spracovateľ: | I23: IČO: | J23: =IF('Rekapitulácia stavby'!AN19="","",'Rekapitulácia stavby'!AN19)
E24: =IF('Rekapitulácia stavby'!E20="","",'Rekapitulácia stavby'!E20) | I24: IČ DPH: | J24: =IF('Rekapitulácia stavby'!AN20="","",'Rekapitulácia stavby'!AN20)
D26: Poznámka:
D30: Cena bez DPH | J30: =ROUND(J120, 2) -> 0
F32: Základ dane | I32: Sadzba dane | J32: Výška dane
D33: DPH | E33: základná | F33: =ROUND((SUM(BE120:BE176)), 2) -> 0 | I33: 0.2 | J33: =ROUND(((SUM(BE120:BE176))*I33), 2) -> 0
E34: znížená | F34: =ROUND((SUM(BF120:BF176)), 2) -> 0 | I34: 0.2 | J34: =ROUND(((SUM(BF120:BF176))*I34), 2) -> 0
E35: zákl. prenesená | F35: =ROUND((SUM(BG120:BG176)), 2) -> 0 | I35: 0.2 | J35: =0 -> 0
E36: zníž. prenesená | F36: =ROUND((SUM(BH120:BH176)), 2) -> 0 | I36: 0.2 | J36: =0 -> 0
E37: nulová | F37: =ROUND((SUM(BI120:BI176)), 2) -> 0 | I37: 0 | J37: =0 -> 0
D39: Cena s DPH | G39: v | H39: EUR | J39: =SUM(J30:J37) -> 0
D50: Projektant | G50: Spracovateľ
D61: Dátum a podpis: | F61: Pečiatka | G61: Dátum a podpis: | J61: Pečiatka
D65: Objednávateľ | G65: Zhotoviteľ
D76: Dátum a podpis: | F76: Pečiatka | G76: Dátum a podpis: | J76: Pečiatka
C82: REKAPITULÁCIA VÝKAZU VÝMER
C84: Stavba:
E85: =E7 -> IBV KRAKOVANY - STARÉ KONOPISKO - 1.ETAPA
C86: Objekt:
E87: =E9 -> 07 - SO 07 - Verejné osvetlenie
C89: Miesto: | F89: =F12 | I89: Dátum: | J89: =IF(J12="","",J12) -> 12. 9. 2020
C91: Objednávateľ: | F91: =E15 -> Obec Krakovany, Námestie Sv. Mikuláša 406/4 | I91: Projektant: | J91: =E21
C92: Zhotoviteľ: | F92: =IF(E18="","",E18) | I92: Spracovateľ: | J92: =E24
C94: Kód dielu - Popis | J94: Cena celkom [EUR]
C96: Náklady z rozpočtu | J96: =J120 -> 0 | AU96: -1
...
